BEGIN:VCALENDAR
VERSION:2.0
PRODID:-//Hillcrest RV Resort - ECPv6.15.20//NONSGML v1.0//EN
CALSCALE:GREGORIAN
METHOD:PUBLISH
X-WR-CALNAME:Hillcrest RV Resort
X-ORIGINAL-URL:https://hillcrestrvresortfl.com
X-WR-CALDESC:Events for Hillcrest RV Resort
REFRESH-INTERVAL;VALUE=DURATION:PT1H
X-Robots-Tag:noindex
X-PUBLISHED-TTL:PT1H
BEGIN:VTIMEZONE
TZID:America/Chicago
BEGIN:DAYLIGHT
TZOFFSETFROM:-0600
TZOFFSETTO:-0500
TZNAME:CDT
DTSTART:20250309T080000
END:DAYLIGHT
BEGIN:STANDARD
TZOFFSETFROM:-0500
TZOFFSETTO:-0600
TZNAME:CST
DTSTART:20251102T070000
END:STANDARD
BEGIN:DAYLIGHT
TZOFFSETFROM:-0600
TZOFFSETTO:-0500
TZNAME:CDT
DTSTART:20260308T080000
END:DAYLIGHT
BEGIN:STANDARD
TZOFFSETFROM:-0500
TZOFFSETTO:-0600
TZNAME:CST
DTSTART:20261101T070000
END:STANDARD
BEGIN:DAYLIGHT
TZOFFSETFROM:-0600
TZOFFSETTO:-0500
TZNAME:CDT
DTSTART:20270314T080000
END:DAYLIGHT
BEGIN:STANDARD
TZOFFSETFROM:-0500
TZOFFSETTO:-0600
TZNAME:CST
DTSTART:20271107T070000
END:STANDARD
END:VTIMEZONE
BEGIN:VEVENT
DTSTART;TZID=America/Chicago:20260201T180000
DTEND;TZID=America/Chicago:20260201T190000
DTSTAMP:20260423T112444
CREATED:20260202T152331Z
LAST-MODIFIED:20260202T152331Z
UID:19602-1769968800-1769972400@hillcrestrvresortfl.com
SUMMARY:Ice Cream Social
DESCRIPTION:
URL:https://hillcrestrvresortfl.com/event/ice-cream-social-30/
END:VEVENT
BEGIN:VEVENT
DTSTART;TZID=America/Chicago:20260202T073000
DTEND;TZID=America/Chicago:20260202T083000
DTSTAMP:20260423T112444
CREATED:20260202T153043Z
LAST-MODIFIED:20260202T153043Z
UID:19616-1770017400-1770021000@hillcrestrvresortfl.com
SUMMARY:Breakfast
DESCRIPTION:
URL:https://hillcrestrvresortfl.com/event/breakfast-34/
END:VEVENT
BEGIN:VEVENT
DTSTART;TZID=America/Chicago:20260202T130000
DTEND;TZID=America/Chicago:20260202T160000
DTSTAMP:20260423T112444
CREATED:20260202T153346Z
LAST-MODIFIED:20260202T153346Z
UID:19625-1770037200-1770048000@hillcrestrvresortfl.com
SUMMARY:Quilting/Sewing/Knitting/Crocheting
DESCRIPTION:
URL:https://hillcrestrvresortfl.com/event/quilting-sewing-knitting-crocheting-24/
END:VEVENT
BEGIN:VEVENT
DTSTART;TZID=America/Chicago:20260202T130000
DTEND;TZID=America/Chicago:20260202T160000
DTSTAMP:20260423T112444
CREATED:20260202T153735Z
LAST-MODIFIED:20260202T153735Z
UID:19639-1770037200-1770048000@hillcrestrvresortfl.com
SUMMARY:Watercolor
DESCRIPTION:
URL:https://hillcrestrvresortfl.com/event/watercolor-16/
END:VEVENT
BEGIN:VEVENT
DTSTART;TZID=America/Chicago:20260202T183000
DTEND;TZID=America/Chicago:20260202T210000
DTSTAMP:20260423T112444
CREATED:20260218T160350Z
LAST-MODIFIED:20260218T160350Z
UID:19642-1770057000-1770066000@hillcrestrvresortfl.com
SUMMARY:Bingo
DESCRIPTION:
URL:https://hillcrestrvresortfl.com/event/bingo-79/
END:VEVENT
BEGIN:VEVENT
DTSTART;TZID=America/Chicago:20260202T190000
DTEND;TZID=America/Chicago:20260202T200000
DTSTAMP:20260423T112444
CREATED:20260202T152527Z
LAST-MODIFIED:20260202T152527Z
UID:19608-1770058800-1770062400@hillcrestrvresortfl.com
SUMMARY:Robert Labonte DJ
DESCRIPTION:
URL:https://hillcrestrvresortfl.com/event/robert-labonte-dj/
END:VEVENT
BEGIN:VEVENT
DTSTART;TZID=America/Chicago:20260203T093000
DTEND;TZID=America/Chicago:20260203T103000
DTSTAMP:20260423T112444
CREATED:20260218T160849Z
LAST-MODIFIED:20260218T160849Z
UID:19656-1770111000-1770114600@hillcrestrvresortfl.com
SUMMARY:One Stop Shopping (OSS)
DESCRIPTION:
URL:https://hillcrestrvresortfl.com/event/one-stop-shopping-oss-9/
END:VEVENT
BEGIN:VEVENT
DTSTART;TZID=America/Chicago:20260203T130000
DTEND;TZID=America/Chicago:20260203T150000
DTSTAMP:20260423T112444
CREATED:20260218T161039Z
LAST-MODIFIED:20260218T161039Z
UID:19664-1770123600-1770130800@hillcrestrvresortfl.com
SUMMARY:Epoxy Class
DESCRIPTION:
URL:https://hillcrestrvresortfl.com/event/epoxy-class/
END:VEVENT
BEGIN:VEVENT
DTSTART;TZID=America/Chicago:20260203T190000
DTEND;TZID=America/Chicago:20260203T210000
DTSTAMP:20260423T112444
CREATED:20260218T161114Z
LAST-MODIFIED:20260218T161114Z
UID:19666-1770145200-1770152400@hillcrestrvresortfl.com
SUMMARY:Karaoke
DESCRIPTION:
URL:https://hillcrestrvresortfl.com/event/karaoke-37/
END:VEVENT
BEGIN:VEVENT
DTSTART;TZID=America/Chicago:20260204T090000
DTEND;TZID=America/Chicago:20260204T100000
DTSTAMP:20260423T112444
CREATED:20260218T163047Z
LAST-MODIFIED:20260218T163047Z
UID:19680-1770195600-1770199200@hillcrestrvresortfl.com
SUMMARY:Bone Builder Exercises
DESCRIPTION:
URL:https://hillcrestrvresortfl.com/event/bone-builder-exercises-26/
END:VEVENT
BEGIN:VEVENT
DTSTART;TZID=America/Chicago:20260204T190000
DTEND;TZID=America/Chicago:20260204T210000
DTSTAMP:20260423T112444
CREATED:20260218T163319Z
LAST-MODIFIED:20260218T163319Z
UID:19688-1770231600-1770238800@hillcrestrvresortfl.com
SUMMARY:Vocalist Michael D'Amour 50's 60's 70's
DESCRIPTION:
URL:https://hillcrestrvresortfl.com/event/vocalist-michael-damour-50s-60s-70s/
END:VEVENT
BEGIN:VEVENT
DTSTART;TZID=America/Chicago:20260205T100000
DTEND;TZID=America/Chicago:20260205T110000
DTSTAMP:20260423T112444
CREATED:20260218T164134Z
LAST-MODIFIED:20260218T164134Z
UID:19708-1770285600-1770289200@hillcrestrvresortfl.com
SUMMARY:Drumming Exercises
DESCRIPTION:
URL:https://hillcrestrvresortfl.com/event/drumming-exercises-9/
END:VEVENT
BEGIN:VEVENT
DTSTART;TZID=America/Chicago:20260205T130000
DTEND;TZID=America/Chicago:20260205T143000
DTSTAMP:20260423T112444
CREATED:20260223T141851Z
LAST-MODIFIED:20260223T141851Z
UID:19716-1770296400-1770301800@hillcrestrvresortfl.com
SUMMARY:Line Dancing
DESCRIPTION:
URL:https://hillcrestrvresortfl.com/event/line-dancing-25/
END:VEVENT
BEGIN:VEVENT
DTSTART;TZID=America/Chicago:20260205T150000
DTEND;TZID=America/Chicago:20260205T170000
DTSTAMP:20260423T112444
CREATED:20260223T142200Z
LAST-MODIFIED:20260223T142200Z
UID:19722-1770303600-1770310800@hillcrestrvresortfl.com
SUMMARY:Acoustic Jam
DESCRIPTION:
URL:https://hillcrestrvresortfl.com/event/acoustic-jam-44/
END:VEVENT
BEGIN:VEVENT
DTSTART;TZID=America/Chicago:20260205T183000
DTEND;TZID=America/Chicago:20260205T210000
DTSTAMP:20260423T112444
CREATED:20260223T142337Z
LAST-MODIFIED:20260223T142518Z
UID:19730-1770316200-1770325200@hillcrestrvresortfl.com
SUMMARY:Bingo
DESCRIPTION:
URL:https://hillcrestrvresortfl.com/event/bingo-83/
END:VEVENT
BEGIN:VEVENT
DTSTART;TZID=America/Chicago:20260206T063000
DTEND;TZID=America/Chicago:20260206T120000
DTSTAMP:20260423T112444
CREATED:20260223T142737Z
LAST-MODIFIED:20260223T142737Z
UID:19738-1770359400-1770379200@hillcrestrvresortfl.com
SUMMARY:Mission Yard Sale Setup
DESCRIPTION:
URL:https://hillcrestrvresortfl.com/event/mission-yard-sale-setup/
END:VEVENT
BEGIN:VEVENT
DTSTART;TZID=America/Chicago:20260206T130000
DTEND;TZID=America/Chicago:20260206T140000
DTSTAMP:20260423T112444
CREATED:20260305T134701Z
LAST-MODIFIED:20260305T134701Z
UID:19741-1770382800-1770386400@hillcrestrvresortfl.com
SUMMARY:Missions yard sale
DESCRIPTION:
URL:https://hillcrestrvresortfl.com/event/missions-yard-sale-4/
END:VEVENT
BEGIN:VEVENT
DTSTART;TZID=America/Chicago:20260206T140000
DTEND;TZID=America/Chicago:20260206T160000
DTSTAMP:20260423T112444
CREATED:20260305T134734Z
LAST-MODIFIED:20260305T134734Z
UID:19743-1770386400-1770393600@hillcrestrvresortfl.com
SUMMARY:Card Bingo
DESCRIPTION:
URL:https://hillcrestrvresortfl.com/event/card-bingo-10/
END:VEVENT
BEGIN:VEVENT
DTSTART;TZID=America/Chicago:20260207T073000
DTEND;TZID=America/Chicago:20260207T103000
DTSTAMP:20260423T112444
CREATED:20260305T135358Z
LAST-MODIFIED:20260305T135358Z
UID:19767-1770449400-1770460200@hillcrestrvresortfl.com
SUMMARY:Luau Dance W/Don Ferese
DESCRIPTION:
URL:https://hillcrestrvresortfl.com/event/luau-dance-w-don-ferese/
END:VEVENT
BEGIN:VEVENT
DTSTART;TZID=America/Chicago:20260207T080000
DTEND;TZID=America/Chicago:20260207T123000
DTSTAMP:20260423T112444
CREATED:20260305T135314Z
LAST-MODIFIED:20260305T135314Z
UID:19765-1770451200-1770467400@hillcrestrvresortfl.com
SUMMARY:Mission Yard Sale & BBQ
DESCRIPTION:
URL:https://hillcrestrvresortfl.com/event/mission-yard-sale-bbq/
END:VEVENT
BEGIN:VEVENT
DTSTART;VALUE=DATE:20260208
DTEND;VALUE=DATE:20260209
DTSTAMP:20260423T112444
CREATED:20260202T152801Z
LAST-MODIFIED:20260202T152801Z
UID:19610-1770508800-1770595199@hillcrestrvresortfl.com
SUMMARY:Super Bowl Game
DESCRIPTION:
URL:https://hillcrestrvresortfl.com/event/super-bowl-game/
END:VEVENT
BEGIN:VEVENT
DTSTART;TZID=America/Chicago:20260209T073000
DTEND;TZID=America/Chicago:20260209T083000
DTSTAMP:20260423T112444
CREATED:20260202T153113Z
LAST-MODIFIED:20260202T153113Z
UID:19618-1770622200-1770625800@hillcrestrvresortfl.com
SUMMARY:Breakfast
DESCRIPTION:
URL:https://hillcrestrvresortfl.com/event/breakfast-35/
END:VEVENT
BEGIN:VEVENT
DTSTART;TZID=America/Chicago:20260209T100000
DTEND;TZID=America/Chicago:20260209T110000
DTSTAMP:20260423T112444
CREATED:20260218T160659Z
LAST-MODIFIED:20260218T160659Z
UID:19650-1770631200-1770634800@hillcrestrvresortfl.com
SUMMARY:Chair Exercises
DESCRIPTION:
URL:https://hillcrestrvresortfl.com/event/chair-exercises/
END:VEVENT
BEGIN:VEVENT
DTSTART;TZID=America/Chicago:20260209T130000
DTEND;TZID=America/Chicago:20260209T160000
DTSTAMP:20260423T112444
CREATED:20260202T153411Z
LAST-MODIFIED:20260202T153411Z
UID:19627-1770642000-1770652800@hillcrestrvresortfl.com
SUMMARY:Quilting/Sewing/Knitting/Crocheting
DESCRIPTION:
URL:https://hillcrestrvresortfl.com/event/quilting-sewing-knitting-crocheting-25/
END:VEVENT
BEGIN:VEVENT
DTSTART;TZID=America/Chicago:20260209T130000
DTEND;TZID=America/Chicago:20260209T160000
DTSTAMP:20260423T112444
CREATED:20260202T153555Z
LAST-MODIFIED:20260202T153555Z
UID:19633-1770642000-1770652800@hillcrestrvresortfl.com
SUMMARY:Watercolor
DESCRIPTION:
URL:https://hillcrestrvresortfl.com/event/watercolor-13/
END:VEVENT
BEGIN:VEVENT
DTSTART;TZID=America/Chicago:20260209T183000
DTEND;TZID=America/Chicago:20260209T210000
DTSTAMP:20260423T112444
CREATED:20260218T160424Z
LAST-MODIFIED:20260218T160424Z
UID:19644-1770661800-1770670800@hillcrestrvresortfl.com
SUMMARY:Bingo
DESCRIPTION:
URL:https://hillcrestrvresortfl.com/event/bingo-80/
END:VEVENT
BEGIN:VEVENT
DTSTART;TZID=America/Chicago:20260210T093000
DTEND;TZID=America/Chicago:20260210T103000
DTSTAMP:20260423T112444
CREATED:20260218T160913Z
LAST-MODIFIED:20260218T160913Z
UID:19658-1770715800-1770719400@hillcrestrvresortfl.com
SUMMARY:One Stop Shopping (OSS)
DESCRIPTION:
URL:https://hillcrestrvresortfl.com/event/one-stop-shopping-oss-10/
END:VEVENT
BEGIN:VEVENT
DTSTART;TZID=America/Chicago:20260210T120000
DTEND;TZID=America/Chicago:20260210T150000
DTSTAMP:20260423T112444
CREATED:20260218T162807Z
LAST-MODIFIED:20260218T162807Z
UID:19672-1770724800-1770735600@hillcrestrvresortfl.com
SUMMARY:Potluck & Nickel Bingo
DESCRIPTION:
URL:https://hillcrestrvresortfl.com/event/potluck-nickel-bingo-5/
END:VEVENT
BEGIN:VEVENT
DTSTART;TZID=America/Chicago:20260210T190000
DTEND;TZID=America/Chicago:20260210T210000
DTSTAMP:20260423T112444
CREATED:20260218T161138Z
LAST-MODIFIED:20260218T161138Z
UID:19668-1770750000-1770757200@hillcrestrvresortfl.com
SUMMARY:Karaoke
DESCRIPTION:
URL:https://hillcrestrvresortfl.com/event/karaoke-38/
END:VEVENT
BEGIN:VEVENT
DTSTART;TZID=America/Chicago:20260211T090000
DTEND;TZID=America/Chicago:20260211T100000
DTSTAMP:20260423T112444
CREATED:20260218T163122Z
LAST-MODIFIED:20260218T163122Z
UID:19682-1770800400-1770804000@hillcrestrvresortfl.com
SUMMARY:Bone Builder Exercises
DESCRIPTION:
URL:https://hillcrestrvresortfl.com/event/bone-builder-exercises-27/
END:VEVENT
END:VCALENDAR