BEGIN:VCALENDAR
VERSION:2.0
PRODID:-//Hillcrest RV Resort - ECPv6.15.20//NONSGML v1.0//EN
CALSCALE:GREGORIAN
METHOD:PUBLISH
X-ORIGINAL-URL:https://hillcrestrvresortfl.com
X-WR-CALDESC:Events for Hillcrest RV Resort
REFRESH-INTERVAL;VALUE=DURATION:PT1H
X-Robots-Tag:noindex
X-PUBLISHED-TTL:PT1H
BEGIN:VTIMEZONE
TZID:America/Chicago
BEGIN:DAYLIGHT
TZOFFSETFROM:-0600
TZOFFSETTO:-0500
TZNAME:CDT
DTSTART:20230312T080000
END:DAYLIGHT
BEGIN:STANDARD
TZOFFSETFROM:-0500
TZOFFSETTO:-0600
TZNAME:CST
DTSTART:20231105T070000
END:STANDARD
BEGIN:DAYLIGHT
TZOFFSETFROM:-0600
TZOFFSETTO:-0500
TZNAME:CDT
DTSTART:20240310T080000
END:DAYLIGHT
BEGIN:STANDARD
TZOFFSETFROM:-0500
TZOFFSETTO:-0600
TZNAME:CST
DTSTART:20241103T070000
END:STANDARD
BEGIN:DAYLIGHT
TZOFFSETFROM:-0600
TZOFFSETTO:-0500
TZNAME:CDT
DTSTART:20250309T080000
END:DAYLIGHT
BEGIN:STANDARD
TZOFFSETFROM:-0500
TZOFFSETTO:-0600
TZNAME:CST
DTSTART:20251102T070000
END:STANDARD
END:VTIMEZONE
BEGIN:VEVENT
DTSTART;TZID=America/Chicago:20241101T110000
DTEND;TZID=America/Chicago:20241101T120000
DTSTAMP:20260425T232043
CREATED:20241104T150631Z
LAST-MODIFIED:20241104T150631Z
UID:16114-1730458800-1730462400@hillcrestrvresortfl.com
SUMMARY:Rock Painting
DESCRIPTION:
URL:https://hillcrestrvresortfl.com/event/rock-painting-14/
END:VEVENT
BEGIN:VEVENT
DTSTART;TZID=America/Chicago:20241103T100000
DTEND;TZID=America/Chicago:20241103T120000
DTSTAMP:20260425T232043
CREATED:20241104T130120Z
LAST-MODIFIED:20241104T130120Z
UID:15877-1730628000-1730635200@hillcrestrvresortfl.com
SUMMARY:Church
DESCRIPTION:(non-denominational)
URL:https://hillcrestrvresortfl.com/event/church-19/
END:VEVENT
BEGIN:VEVENT
DTSTART;VALUE=DATE:20241104
DTEND;VALUE=DATE:20241105
DTSTAMP:20260425T232043
CREATED:20241104T145314Z
LAST-MODIFIED:20241104T145314Z
UID:16060-1730678400-1730764799@hillcrestrvresortfl.com
SUMMARY:Pickleball
DESCRIPTION:
URL:https://hillcrestrvresortfl.com/event/pickleball-102/
END:VEVENT
BEGIN:VEVENT
DTSTART;TZID=America/Chicago:20241104T080000
DTEND;TZID=America/Chicago:20241104T110000
DTSTAMP:20260425T232043
CREATED:20241104T135811Z
LAST-MODIFIED:20241104T135811Z
UID:15980-1730707200-1730718000@hillcrestrvresortfl.com
SUMMARY:Water Aerobics
DESCRIPTION:
URL:https://hillcrestrvresortfl.com/event/water-aerobics-104/
END:VEVENT
BEGIN:VEVENT
DTSTART;TZID=America/Chicago:20241104T093000
DTEND;TZID=America/Chicago:20241104T110000
DTSTAMP:20260425T232043
CREATED:20241104T134520Z
LAST-MODIFIED:20241104T134520Z
UID:15940-1730712600-1730718000@hillcrestrvresortfl.com
SUMMARY:Shuffleboard
DESCRIPTION:
URL:https://hillcrestrvresortfl.com/event/shuffleboard-106/
END:VEVENT
BEGIN:VEVENT
DTSTART;TZID=America/Chicago:20241104T100000
DTEND;TZID=America/Chicago:20241104T150000
DTSTAMP:20260425T232043
CREATED:20241104T143204Z
LAST-MODIFIED:20241104T143204Z
UID:16020-1730714400-1730732400@hillcrestrvresortfl.com
SUMMARY:Pentanque
DESCRIPTION:
URL:https://hillcrestrvresortfl.com/event/pentanque-28/
END:VEVENT
BEGIN:VEVENT
DTSTART;TZID=America/Chicago:20241104T180000
DTEND;TZID=America/Chicago:20241104T210000
DTSTAMP:20260425T232043
CREATED:20241104T130545Z
LAST-MODIFIED:20241104T130545Z
UID:15885-1730743200-1730754000@hillcrestrvresortfl.com
SUMMARY:Game Night
DESCRIPTION:
URL:https://hillcrestrvresortfl.com/event/game-night-33/
END:VEVENT
BEGIN:VEVENT
DTSTART;VALUE=DATE:20241105
DTEND;VALUE=DATE:20241106
DTSTAMP:20260425T232043
CREATED:20241104T145336Z
LAST-MODIFIED:20241104T145336Z
UID:16062-1730764800-1730851199@hillcrestrvresortfl.com
SUMMARY:Pickleball
DESCRIPTION:
URL:https://hillcrestrvresortfl.com/event/pickleball-103/
END:VEVENT
BEGIN:VEVENT
DTSTART;TZID=America/Chicago:20241105T080000
DTEND;TZID=America/Chicago:20241105T110000
DTSTAMP:20260425T232043
CREATED:20241104T135834Z
LAST-MODIFIED:20241104T135834Z
UID:15982-1730793600-1730804400@hillcrestrvresortfl.com
SUMMARY:Water Aerobics
DESCRIPTION:
URL:https://hillcrestrvresortfl.com/event/water-aerobics-105/
END:VEVENT
BEGIN:VEVENT
DTSTART;TZID=America/Chicago:20241105T093000
DTEND;TZID=America/Chicago:20241105T110000
DTSTAMP:20260425T232043
CREATED:20241104T134545Z
LAST-MODIFIED:20241104T134545Z
UID:15942-1730799000-1730804400@hillcrestrvresortfl.com
SUMMARY:Shuffleboard
DESCRIPTION:
URL:https://hillcrestrvresortfl.com/event/shuffleboard-107/
END:VEVENT
BEGIN:VEVENT
DTSTART;TZID=America/Chicago:20241105T100000
DTEND;TZID=America/Chicago:20241105T150000
DTSTAMP:20260425T232043
CREATED:20241104T143234Z
LAST-MODIFIED:20241104T143234Z
UID:16022-1730800800-1730818800@hillcrestrvresortfl.com
SUMMARY:Pentanque
DESCRIPTION:
URL:https://hillcrestrvresortfl.com/event/pentanque-29/
END:VEVENT
BEGIN:VEVENT
DTSTART;VALUE=DATE:20241106
DTEND;VALUE=DATE:20241107
DTSTAMP:20260425T232043
CREATED:20241104T145402Z
LAST-MODIFIED:20241104T145402Z
UID:16064-1730851200-1730937599@hillcrestrvresortfl.com
SUMMARY:Pickleball
DESCRIPTION:
URL:https://hillcrestrvresortfl.com/event/pickleball-104/
END:VEVENT
BEGIN:VEVENT
DTSTART;TZID=America/Chicago:20241106T080000
DTEND;TZID=America/Chicago:20241106T110000
DTSTAMP:20260425T232043
CREATED:20241104T135854Z
LAST-MODIFIED:20241104T135854Z
UID:15984-1730880000-1730890800@hillcrestrvresortfl.com
SUMMARY:Water Aerobics
DESCRIPTION:
URL:https://hillcrestrvresortfl.com/event/water-aerobics-106/
END:VEVENT
BEGIN:VEVENT
DTSTART;TZID=America/Chicago:20241106T090000
DTEND;TZID=America/Chicago:20241106T110000
DTSTAMP:20260425T232043
CREATED:20241106T151032Z
LAST-MODIFIED:20241106T151032Z
UID:16118-1730883600-1730890800@hillcrestrvresortfl.com
SUMMARY:Horseshoes
DESCRIPTION:
URL:https://hillcrestrvresortfl.com/event/horseshoes-100/
END:VEVENT
BEGIN:VEVENT
DTSTART;TZID=America/Chicago:20241106T093000
DTEND;TZID=America/Chicago:20241106T110000
DTSTAMP:20260425T232043
CREATED:20241104T134621Z
LAST-MODIFIED:20241104T134621Z
UID:15944-1730885400-1730890800@hillcrestrvresortfl.com
SUMMARY:Shuffleboard
DESCRIPTION:
URL:https://hillcrestrvresortfl.com/event/shuffleboard-108/
END:VEVENT
BEGIN:VEVENT
DTSTART;TZID=America/Chicago:20241106T100000
DTEND;TZID=America/Chicago:20241106T150000
DTSTAMP:20260425T232043
CREATED:20241104T143257Z
LAST-MODIFIED:20241104T143257Z
UID:16024-1730887200-1730905200@hillcrestrvresortfl.com
SUMMARY:Pentanque
DESCRIPTION:
URL:https://hillcrestrvresortfl.com/event/pentanque-30/
END:VEVENT
BEGIN:VEVENT
DTSTART;VALUE=DATE:20241107
DTEND;VALUE=DATE:20241108
DTSTAMP:20260425T232043
CREATED:20241104T145445Z
LAST-MODIFIED:20241104T145445Z
UID:16066-1730937600-1731023999@hillcrestrvresortfl.com
SUMMARY:Pickleball
DESCRIPTION:
URL:https://hillcrestrvresortfl.com/event/pickleball-105/
END:VEVENT
BEGIN:VEVENT
DTSTART;TZID=America/Chicago:20241107T080000
DTEND;TZID=America/Chicago:20241107T110000
DTSTAMP:20260425T232043
CREATED:20241104T135919Z
LAST-MODIFIED:20241104T135919Z
UID:15986-1730966400-1730977200@hillcrestrvresortfl.com
SUMMARY:Water Aerobics
DESCRIPTION:
URL:https://hillcrestrvresortfl.com/event/water-aerobics-107/
END:VEVENT
BEGIN:VEVENT
DTSTART;TZID=America/Chicago:20241107T090000
DTEND;TZID=America/Chicago:20241107T103000
DTSTAMP:20260425T232043
CREATED:20241104T132208Z
LAST-MODIFIED:20241104T132208Z
UID:15924-1730970000-1730975400@hillcrestrvresortfl.com
SUMMARY:Choir Practice
DESCRIPTION:
URL:https://hillcrestrvresortfl.com/event/choir-practice/
END:VEVENT
BEGIN:VEVENT
DTSTART;TZID=America/Chicago:20241107T090000
DTEND;TZID=America/Chicago:20241107T110000
DTSTAMP:20260425T232043
CREATED:20241106T151104Z
LAST-MODIFIED:20241106T151104Z
UID:16120-1730970000-1730977200@hillcrestrvresortfl.com
SUMMARY:Horseshoes
DESCRIPTION:
URL:https://hillcrestrvresortfl.com/event/horseshoes-101/
END:VEVENT
BEGIN:VEVENT
DTSTART;TZID=America/Chicago:20241107T093000
DTEND;TZID=America/Chicago:20241107T110000
DTSTAMP:20260425T232043
CREATED:20241104T134648Z
LAST-MODIFIED:20241104T134648Z
UID:15946-1730971800-1730977200@hillcrestrvresortfl.com
SUMMARY:Shuffleboard
DESCRIPTION:
URL:https://hillcrestrvresortfl.com/event/shuffleboard-109/
END:VEVENT
BEGIN:VEVENT
DTSTART;TZID=America/Chicago:20241107T100000
DTEND;TZID=America/Chicago:20241107T150000
DTSTAMP:20260425T232043
CREATED:20241104T144247Z
LAST-MODIFIED:20241104T144247Z
UID:16026-1730973600-1730991600@hillcrestrvresortfl.com
SUMMARY:Pentanque
DESCRIPTION:
URL:https://hillcrestrvresortfl.com/event/pentanque-31/
END:VEVENT
BEGIN:VEVENT
DTSTART;TZID=America/Chicago:20241107T110000
DTEND;TZID=America/Chicago:20241107T130000
DTSTAMP:20260425T232043
CREATED:20241106T154224Z
LAST-MODIFIED:20241106T154224Z
UID:16154-1730977200-1730984400@hillcrestrvresortfl.com
SUMMARY:Cornhole
DESCRIPTION:
URL:https://hillcrestrvresortfl.com/event/cornhole/
END:VEVENT
BEGIN:VEVENT
DTSTART;TZID=America/Chicago:20241107T150000
DTEND;TZID=America/Chicago:20241107T170000
DTSTAMP:20260425T232043
CREATED:20241106T154414Z
LAST-MODIFIED:20241106T154414Z
UID:16156-1730991600-1730998800@hillcrestrvresortfl.com
SUMMARY:Acoustic Jam
DESCRIPTION:
URL:https://hillcrestrvresortfl.com/event/acoustic-jam-17/
END:VEVENT
BEGIN:VEVENT
DTSTART;VALUE=DATE:20241108
DTEND;VALUE=DATE:20241109
DTSTAMP:20260425T232043
CREATED:20241104T145503Z
LAST-MODIFIED:20241104T145503Z
UID:16068-1731024000-1731110399@hillcrestrvresortfl.com
SUMMARY:Pickleball
DESCRIPTION:
URL:https://hillcrestrvresortfl.com/event/pickleball-106/
END:VEVENT
BEGIN:VEVENT
DTSTART;TZID=America/Chicago:20241108T080000
DTEND;TZID=America/Chicago:20241108T110000
DTSTAMP:20260425T232043
CREATED:20241104T135941Z
LAST-MODIFIED:20241104T135941Z
UID:15988-1731052800-1731063600@hillcrestrvresortfl.com
SUMMARY:Water Aerobics
DESCRIPTION:
URL:https://hillcrestrvresortfl.com/event/water-aerobics-108/
END:VEVENT
BEGIN:VEVENT
DTSTART;TZID=America/Chicago:20241108T090000
DTEND;TZID=America/Chicago:20241108T110000
DTSTAMP:20260425T232043
CREATED:20241106T151136Z
LAST-MODIFIED:20241106T151136Z
UID:16122-1731056400-1731063600@hillcrestrvresortfl.com
SUMMARY:Horseshoes
DESCRIPTION:
URL:https://hillcrestrvresortfl.com/event/horseshoes-102/
END:VEVENT
BEGIN:VEVENT
DTSTART;TZID=America/Chicago:20241108T093000
DTEND;TZID=America/Chicago:20241108T110000
DTSTAMP:20260425T232043
CREATED:20241104T134718Z
LAST-MODIFIED:20241104T134718Z
UID:15948-1731058200-1731063600@hillcrestrvresortfl.com
SUMMARY:Shuffleboard
DESCRIPTION:
URL:https://hillcrestrvresortfl.com/event/shuffleboard-110/
END:VEVENT
BEGIN:VEVENT
DTSTART;TZID=America/Chicago:20241108T100000
DTEND;TZID=America/Chicago:20241108T150000
DTSTAMP:20260425T232043
CREATED:20241104T144555Z
LAST-MODIFIED:20241104T144555Z
UID:16028-1731060000-1731078000@hillcrestrvresortfl.com
SUMMARY:Pentanque
DESCRIPTION:
URL:https://hillcrestrvresortfl.com/event/pentanque-32/
END:VEVENT
BEGIN:VEVENT
DTSTART;TZID=America/Chicago:20241108T110000
DTEND;TZID=America/Chicago:20241108T120000
DTSTAMP:20260425T232043
CREATED:20241104T150713Z
LAST-MODIFIED:20241104T150713Z
UID:16116-1731063600-1731067200@hillcrestrvresortfl.com
SUMMARY:Rock Painting
DESCRIPTION:
URL:https://hillcrestrvresortfl.com/event/rock-painting-15/
END:VEVENT
END:VCALENDAR