BEGIN:VCALENDAR
VERSION:2.0
PRODID:-//Hillcrest RV Resort - ECPv6.15.20//NONSGML v1.0//EN
CALSCALE:GREGORIAN
METHOD:PUBLISH
X-WR-CALNAME:Hillcrest RV Resort
X-ORIGINAL-URL:https://hillcrestrvresortfl.com
X-WR-CALDESC:Events for Hillcrest RV Resort
REFRESH-INTERVAL;VALUE=DURATION:PT1H
X-Robots-Tag:noindex
X-PUBLISHED-TTL:PT1H
BEGIN:VTIMEZONE
TZID:America/Chicago
BEGIN:DAYLIGHT
TZOFFSETFROM:-0600
TZOFFSETTO:-0500
TZNAME:CDT
DTSTART:20250309T080000
END:DAYLIGHT
BEGIN:STANDARD
TZOFFSETFROM:-0500
TZOFFSETTO:-0600
TZNAME:CST
DTSTART:20251102T070000
END:STANDARD
BEGIN:DAYLIGHT
TZOFFSETFROM:-0600
TZOFFSETTO:-0500
TZNAME:CDT
DTSTART:20260308T080000
END:DAYLIGHT
BEGIN:STANDARD
TZOFFSETFROM:-0500
TZOFFSETTO:-0600
TZNAME:CST
DTSTART:20261101T070000
END:STANDARD
BEGIN:DAYLIGHT
TZOFFSETFROM:-0600
TZOFFSETTO:-0500
TZNAME:CDT
DTSTART:20270314T080000
END:DAYLIGHT
BEGIN:STANDARD
TZOFFSETFROM:-0500
TZOFFSETTO:-0600
TZNAME:CST
DTSTART:20271107T070000
END:STANDARD
END:VTIMEZONE
BEGIN:VEVENT
DTSTART;TZID=America/Chicago:20260312T130000
DTEND;TZID=America/Chicago:20260312T143000
DTSTAMP:20260423T191856
CREATED:20260319T135140Z
LAST-MODIFIED:20260319T135140Z
UID:19912-1773320400-1773325800@hillcrestrvresortfl.com
SUMMARY:Line Dancing W/Dena
DESCRIPTION:
URL:https://hillcrestrvresortfl.com/event/line-dancing-w-dena-15/
END:VEVENT
BEGIN:VEVENT
DTSTART;TZID=America/Chicago:20260312T150000
DTEND;TZID=America/Chicago:20260312T170000
DTSTAMP:20260423T191856
CREATED:20260319T135502Z
LAST-MODIFIED:20260319T135502Z
UID:19920-1773327600-1773334800@hillcrestrvresortfl.com
SUMMARY:Acoustic Jam
DESCRIPTION:
URL:https://hillcrestrvresortfl.com/event/acoustic-jam-49/
END:VEVENT
BEGIN:VEVENT
DTSTART;TZID=America/Chicago:20260312T180000
DTEND;TZID=America/Chicago:20260312T210000
DTSTAMP:20260423T191856
CREATED:20260305T140915Z
LAST-MODIFIED:20260305T140915Z
UID:19813-1773338400-1773349200@hillcrestrvresortfl.com
SUMMARY:Bingo
DESCRIPTION:
URL:https://hillcrestrvresortfl.com/event/bingo-93/
END:VEVENT
BEGIN:VEVENT
DTSTART;TZID=America/Chicago:20260313T090000
DTEND;TZID=America/Chicago:20260313T100000
DTSTAMP:20260423T191856
CREATED:20260319T135659Z
LAST-MODIFIED:20260319T135659Z
UID:19928-1773392400-1773396000@hillcrestrvresortfl.com
SUMMARY:Bone Builder Exercises
DESCRIPTION:
URL:https://hillcrestrvresortfl.com/event/bone-builder-exercises-35/
END:VEVENT
BEGIN:VEVENT
DTSTART;TZID=America/Chicago:20260313T110000
DTEND;TZID=America/Chicago:20260313T130000
DTSTAMP:20260423T191856
CREATED:20260319T135850Z
LAST-MODIFIED:20260319T135850Z
UID:19936-1773399600-1773406800@hillcrestrvresortfl.com
SUMMARY:Rock Painting
DESCRIPTION:
URL:https://hillcrestrvresortfl.com/event/rock-painting-40/
END:VEVENT
BEGIN:VEVENT
DTSTART;TZID=America/Chicago:20260313T140000
DTEND;TZID=America/Chicago:20260313T160000
DTSTAMP:20260423T191856
CREATED:20260319T140243Z
LAST-MODIFIED:20260319T140243Z
UID:19944-1773410400-1773417600@hillcrestrvresortfl.com
SUMMARY:Card Bingo
DESCRIPTION:
URL:https://hillcrestrvresortfl.com/event/card-bingo-15/
END:VEVENT
BEGIN:VEVENT
DTSTART;TZID=America/Chicago:20260314T130000
DTEND;TZID=America/Chicago:20260314T150000
DTSTAMP:20260423T191856
CREATED:20260319T140751Z
LAST-MODIFIED:20260319T140751Z
UID:19956-1773493200-1773500400@hillcrestrvresortfl.com
SUMMARY:Missions Fun Run
DESCRIPTION:
URL:https://hillcrestrvresortfl.com/event/missions-fun-run/
END:VEVENT
BEGIN:VEVENT
DTSTART;TZID=America/Chicago:20260314T193000
DTEND;TZID=America/Chicago:20260314T223000
DTSTAMP:20260423T191856
CREATED:20260319T140852Z
LAST-MODIFIED:20260319T140852Z
UID:19958-1773516600-1773527400@hillcrestrvresortfl.com
SUMMARY:St. Patricks Dance W/Bett
DESCRIPTION:
URL:https://hillcrestrvresortfl.com/event/st-patricks-dance-w-bett/
END:VEVENT
BEGIN:VEVENT
DTSTART;TZID=America/Chicago:20260315T180000
DTEND;TZID=America/Chicago:20260315T200000
DTSTAMP:20260423T191856
CREATED:20260319T121509Z
LAST-MODIFIED:20260319T121509Z
UID:19850-1773597600-1773604800@hillcrestrvresortfl.com
SUMMARY:Ice Cream Social ( Tammy Groulx)
DESCRIPTION:
URL:https://hillcrestrvresortfl.com/event/ice-cream-social-tammy-groulx/
END:VEVENT
BEGIN:VEVENT
DTSTART;TZID=America/Chicago:20260316T073000
DTEND;TZID=America/Chicago:20260316T090000
DTSTAMP:20260423T191856
CREATED:20260319T121726Z
LAST-MODIFIED:20260319T121726Z
UID:19858-1773646200-1773651600@hillcrestrvresortfl.com
SUMMARY:Breakfast
DESCRIPTION:
URL:https://hillcrestrvresortfl.com/event/breakfast-39/
END:VEVENT
BEGIN:VEVENT
DTSTART;TZID=America/Chicago:20260316T100000
DTEND;TZID=America/Chicago:20260316T110000
DTSTAMP:20260423T191856
CREATED:20260319T121824Z
LAST-MODIFIED:20260319T121824Z
UID:19862-1773655200-1773658800@hillcrestrvresortfl.com
SUMMARY:Chair Exercises
DESCRIPTION:
URL:https://hillcrestrvresortfl.com/event/chair-exercises-5/
END:VEVENT
BEGIN:VEVENT
DTSTART;TZID=America/Chicago:20260316T130000
DTEND;TZID=America/Chicago:20260316T160000
DTSTAMP:20260423T191856
CREATED:20260305T140112Z
LAST-MODIFIED:20260305T140112Z
UID:19785-1773666000-1773676800@hillcrestrvresortfl.com
SUMMARY:Quilting/Sewing/Knitting/Crocheting
DESCRIPTION:
URL:https://hillcrestrvresortfl.com/event/quilting-sewing-knitting-crocheting-30/
END:VEVENT
BEGIN:VEVENT
DTSTART;TZID=America/Chicago:20260316T130000
DTEND;TZID=America/Chicago:20260316T160000
DTSTAMP:20260423T191856
CREATED:20260305T140320Z
LAST-MODIFIED:20260305T140320Z
UID:19795-1773666000-1773676800@hillcrestrvresortfl.com
SUMMARY:Watercolor
DESCRIPTION:
URL:https://hillcrestrvresortfl.com/event/watercolor-19/
END:VEVENT
BEGIN:VEVENT
DTSTART;TZID=America/Chicago:20260316T180000
DTEND;TZID=America/Chicago:20260316T210000
DTSTAMP:20260423T191856
CREATED:20260305T140544Z
LAST-MODIFIED:20260305T140544Z
UID:19805-1773684000-1773694800@hillcrestrvresortfl.com
SUMMARY:Bingo
DESCRIPTION:
URL:https://hillcrestrvresortfl.com/event/bingo-89/
END:VEVENT
BEGIN:VEVENT
DTSTART;TZID=America/Chicago:20260317T093000
DTEND;TZID=America/Chicago:20260317T103000
DTSTAMP:20260423T191856
CREATED:20260305T150922Z
LAST-MODIFIED:20260305T150922Z
UID:19823-1773739800-1773743400@hillcrestrvresortfl.com
SUMMARY:One Stop Shop (OSS)
DESCRIPTION:
URL:https://hillcrestrvresortfl.com/event/one-stop-shop-oss-16/
END:VEVENT
BEGIN:VEVENT
DTSTART;TZID=America/Chicago:20260317T113000
DTEND;TZID=America/Chicago:20260317T130000
DTSTAMP:20260423T191856
CREATED:20260319T121927Z
LAST-MODIFIED:20260319T121927Z
UID:19866-1773747000-1773752400@hillcrestrvresortfl.com
SUMMARY:Red Hat Luncheon
DESCRIPTION:
URL:https://hillcrestrvresortfl.com/event/red-hat-luncheon-7/
END:VEVENT
BEGIN:VEVENT
DTSTART;TZID=America/Chicago:20260317T130000
DTEND;TZID=America/Chicago:20260317T160000
DTSTAMP:20260423T191856
CREATED:20260319T122002Z
LAST-MODIFIED:20260319T122002Z
UID:19868-1773752400-1773763200@hillcrestrvresortfl.com
SUMMARY:Jewelry Making
DESCRIPTION:
URL:https://hillcrestrvresortfl.com/event/jewelry-making-7/
END:VEVENT
BEGIN:VEVENT
DTSTART;TZID=America/Chicago:20260317T190000
DTEND;TZID=America/Chicago:20260317T210000
DTSTAMP:20260423T191856
CREATED:20260319T122055Z
LAST-MODIFIED:20260319T122055Z
UID:19872-1773774000-1773781200@hillcrestrvresortfl.com
SUMMARY:Karaoke
DESCRIPTION:
URL:https://hillcrestrvresortfl.com/event/karaoke-41/
END:VEVENT
BEGIN:VEVENT
DTSTART;TZID=America/Chicago:20260318T090000
DTEND;TZID=America/Chicago:20260318T100000
DTSTAMP:20260423T191856
CREATED:20260305T152015Z
LAST-MODIFIED:20260305T152015Z
UID:19835-1773824400-1773828000@hillcrestrvresortfl.com
SUMMARY:Bone Builder Exercises
DESCRIPTION:
URL:https://hillcrestrvresortfl.com/event/bone-builder-exercises-32/
END:VEVENT
BEGIN:VEVENT
DTSTART;TZID=America/Chicago:20260318T110000
DTEND;TZID=America/Chicago:20260318T120000
DTSTAMP:20260423T191856
CREATED:20260319T122718Z
LAST-MODIFIED:20260319T122718Z
UID:19896-1773831600-1773835200@hillcrestrvresortfl.com
SUMMARY:Bible Study
DESCRIPTION:
URL:https://hillcrestrvresortfl.com/event/bible-study-22/
END:VEVENT
BEGIN:VEVENT
DTSTART;TZID=America/Chicago:20260318T130000
DTEND;TZID=America/Chicago:20260318T150000
DTSTAMP:20260423T191856
CREATED:20260319T122433Z
LAST-MODIFIED:20260319T122433Z
UID:19884-1773838800-1773846000@hillcrestrvresortfl.com
SUMMARY:Fiddler's Jam
DESCRIPTION:
URL:https://hillcrestrvresortfl.com/event/fiddlers-jam-40/
END:VEVENT
BEGIN:VEVENT
DTSTART;TZID=America/Chicago:20260318T180000
DTEND;TZID=America/Chicago:20260318T210000
DTSTAMP:20260423T191856
CREATED:20260319T134833Z
LAST-MODIFIED:20260319T134833Z
UID:19900-1773856800-1773867600@hillcrestrvresortfl.com
SUMMARY:Darts
DESCRIPTION:
URL:https://hillcrestrvresortfl.com/event/darts-36/
END:VEVENT
BEGIN:VEVENT
DTSTART;TZID=America/Chicago:20260319T100000
DTEND;TZID=America/Chicago:20260319T110000
DTSTAMP:20260423T191856
CREATED:20260319T135007Z
LAST-MODIFIED:20260319T135007Z
UID:19906-1773914400-1773918000@hillcrestrvresortfl.com
SUMMARY:Drumming Exercises
DESCRIPTION:
URL:https://hillcrestrvresortfl.com/event/drumming-exercises-15/
END:VEVENT
BEGIN:VEVENT
DTSTART;TZID=America/Chicago:20260319T130000
DTEND;TZID=America/Chicago:20260319T143000
DTSTAMP:20260423T191856
CREATED:20260319T135203Z
LAST-MODIFIED:20260319T135203Z
UID:19914-1773925200-1773930600@hillcrestrvresortfl.com
SUMMARY:Line Dancing W/Dena
DESCRIPTION:
URL:https://hillcrestrvresortfl.com/event/line-dancing-w-dena-16/
END:VEVENT
BEGIN:VEVENT
DTSTART;TZID=America/Chicago:20260319T150000
DTEND;TZID=America/Chicago:20260319T170000
DTSTAMP:20260423T191856
CREATED:20260319T135526Z
LAST-MODIFIED:20260319T135526Z
UID:19922-1773932400-1773939600@hillcrestrvresortfl.com
SUMMARY:Acoustic Jam
DESCRIPTION:
URL:https://hillcrestrvresortfl.com/event/acoustic-jam-50/
END:VEVENT
BEGIN:VEVENT
DTSTART;TZID=America/Chicago:20260319T180000
DTEND;TZID=America/Chicago:20260319T210000
DTSTAMP:20260423T191856
CREATED:20260305T140941Z
LAST-MODIFIED:20260305T140941Z
UID:19815-1773943200-1773954000@hillcrestrvresortfl.com
SUMMARY:Bingo
DESCRIPTION:
URL:https://hillcrestrvresortfl.com/event/bingo-94/
END:VEVENT
BEGIN:VEVENT
DTSTART;TZID=America/Chicago:20260320T090000
DTEND;TZID=America/Chicago:20260320T100000
DTSTAMP:20260423T191856
CREATED:20260319T135723Z
LAST-MODIFIED:20260319T135723Z
UID:19930-1773997200-1774000800@hillcrestrvresortfl.com
SUMMARY:Bone Builder Exercises
DESCRIPTION:
URL:https://hillcrestrvresortfl.com/event/bone-builder-exercises-36/
END:VEVENT
BEGIN:VEVENT
DTSTART;TZID=America/Chicago:20260320T110000
DTEND;TZID=America/Chicago:20260320T130000
DTSTAMP:20260423T191856
CREATED:20260319T135914Z
LAST-MODIFIED:20260319T135914Z
UID:19938-1774004400-1774011600@hillcrestrvresortfl.com
SUMMARY:Rock Painting
DESCRIPTION:
URL:https://hillcrestrvresortfl.com/event/rock-painting-41/
END:VEVENT
BEGIN:VEVENT
DTSTART;TZID=America/Chicago:20260320T140000
DTEND;TZID=America/Chicago:20260320T160000
DTSTAMP:20260423T191856
CREATED:20260319T140305Z
LAST-MODIFIED:20260319T140305Z
UID:19946-1774015200-1774022400@hillcrestrvresortfl.com
SUMMARY:Card Bingo
DESCRIPTION:
URL:https://hillcrestrvresortfl.com/event/card-bingo-16/
END:VEVENT
BEGIN:VEVENT
DTSTART;TZID=America/Chicago:20260321T130000
DTEND;TZID=America/Chicago:20260321T150000
DTSTAMP:20260423T191856
CREATED:20260319T140925Z
LAST-MODIFIED:20260319T140925Z
UID:19960-1774098000-1774105200@hillcrestrvresortfl.com
SUMMARY:End Of Season BBQ
DESCRIPTION:
URL:https://hillcrestrvresortfl.com/event/end-of-season-bbq-2/
END:VEVENT
END:VCALENDAR