BEGIN:VCALENDAR
VERSION:2.0
PRODID:-//Hillcrest RV Resort - ECPv6.15.20//NONSGML v1.0//EN
CALSCALE:GREGORIAN
METHOD:PUBLISH
X-WR-CALNAME:Hillcrest RV Resort
X-ORIGINAL-URL:https://hillcrestrvresortfl.com
X-WR-CALDESC:Events for Hillcrest RV Resort
REFRESH-INTERVAL;VALUE=DURATION:PT1H
X-Robots-Tag:noindex
X-PUBLISHED-TTL:PT1H
BEGIN:VTIMEZONE
TZID:America/Chicago
BEGIN:DAYLIGHT
TZOFFSETFROM:-0600
TZOFFSETTO:-0500
TZNAME:CDT
DTSTART:20240310T080000
END:DAYLIGHT
BEGIN:STANDARD
TZOFFSETFROM:-0500
TZOFFSETTO:-0600
TZNAME:CST
DTSTART:20241103T070000
END:STANDARD
BEGIN:DAYLIGHT
TZOFFSETFROM:-0600
TZOFFSETTO:-0500
TZNAME:CDT
DTSTART:20250309T080000
END:DAYLIGHT
BEGIN:STANDARD
TZOFFSETFROM:-0500
TZOFFSETTO:-0600
TZNAME:CST
DTSTART:20251102T070000
END:STANDARD
BEGIN:DAYLIGHT
TZOFFSETFROM:-0600
TZOFFSETTO:-0500
TZNAME:CDT
DTSTART:20260308T080000
END:DAYLIGHT
BEGIN:STANDARD
TZOFFSETFROM:-0500
TZOFFSETTO:-0600
TZNAME:CST
DTSTART:20261101T070000
END:STANDARD
END:VTIMEZONE
BEGIN:VEVENT
DTSTART;TZID=America/Chicago:20250223T100000
DTEND;TZID=America/Chicago:20250223T170000
DTSTAMP:20260425T140405
CREATED:20250115T195142Z
LAST-MODIFIED:20250115T195142Z
UID:17863-1740304800-1740330000@hillcrestrvresortfl.com
SUMMARY:Pentanque
DESCRIPTION:
URL:https://hillcrestrvresortfl.com/event/pentanque-133/
END:VEVENT
BEGIN:VEVENT
DTSTART;TZID=America/Chicago:20250223T100000
DTEND;TZID=America/Chicago:20250223T113000
DTSTAMP:20260425T140405
CREATED:20250115T200647Z
LAST-MODIFIED:20250115T200647Z
UID:17881-1740304800-1740310200@hillcrestrvresortfl.com
SUMMARY:Church
DESCRIPTION:
URL:https://hillcrestrvresortfl.com/event/church-35/
END:VEVENT
BEGIN:VEVENT
DTSTART;TZID=America/Chicago:20250223T080000
DTEND;TZID=America/Chicago:20250223T220000
DTSTAMP:20260425T140405
CREATED:20250114T170618Z
LAST-MODIFIED:20250114T170618Z
UID:17678-1740297600-1740348000@hillcrestrvresortfl.com
SUMMARY:Pickleball
DESCRIPTION:
URL:https://hillcrestrvresortfl.com/event/pickleball-213/
END:VEVENT
BEGIN:VEVENT
DTSTART;TZID=America/Chicago:20250222T140000
DTEND;TZID=America/Chicago:20250222T220000
DTSTAMP:20260425T140405
CREATED:20250114T165616Z
LAST-MODIFIED:20250114T165616Z
UID:17632-1740232800-1740261600@hillcrestrvresortfl.com
SUMMARY:Sock Hop Dance Car Show BBQ
DESCRIPTION:DJ Bob & Lisa
URL:https://hillcrestrvresortfl.com/event/sock-hop-dance-car-show-bbq/
END:VEVENT
BEGIN:VEVENT
DTSTART;TZID=America/Chicago:20250222T103000
DTEND;TZID=America/Chicago:20250222T123000
DTSTAMP:20260425T140405
CREATED:20250114T165509Z
LAST-MODIFIED:20250114T165509Z
UID:17630-1740220200-1740227400@hillcrestrvresortfl.com
SUMMARY:Couple's Line Dancing
DESCRIPTION:
URL:https://hillcrestrvresortfl.com/event/couples-line-dancing-5/
END:VEVENT
BEGIN:VEVENT
DTSTART;TZID=America/Chicago:20250222T100000
DTEND;TZID=America/Chicago:20250222T170000
DTSTAMP:20260425T140405
CREATED:20250115T195124Z
LAST-MODIFIED:20250115T195124Z
UID:17861-1740218400-1740243600@hillcrestrvresortfl.com
SUMMARY:Pentanque
DESCRIPTION:
URL:https://hillcrestrvresortfl.com/event/pentanque-132/
END:VEVENT
BEGIN:VEVENT
DTSTART;TZID=America/Chicago:20250222T090000
DTEND;TZID=America/Chicago:20250222T170000
DTSTAMP:20260425T140405
CREATED:20250114T175321Z
LAST-MODIFIED:20250114T175321Z
UID:17726-1740214800-1740243600@hillcrestrvresortfl.com
SUMMARY:Horseshoes
DESCRIPTION:
URL:https://hillcrestrvresortfl.com/event/horseshoes-191/
END:VEVENT
BEGIN:VEVENT
DTSTART;TZID=America/Chicago:20250222T080000
DTEND;TZID=America/Chicago:20250222T220000
DTSTAMP:20260425T140405
CREATED:20250114T170558Z
LAST-MODIFIED:20250114T170558Z
UID:17676-1740211200-1740261600@hillcrestrvresortfl.com
SUMMARY:Pickleball
DESCRIPTION:
URL:https://hillcrestrvresortfl.com/event/pickleball-212/
END:VEVENT
BEGIN:VEVENT
DTSTART;TZID=America/Chicago:20250221T190000
DTEND;TZID=America/Chicago:20250221T210000
DTSTAMP:20260425T140405
CREATED:20250114T155039Z
LAST-MODIFIED:20250114T155039Z
UID:17620-1740164400-1740171600@hillcrestrvresortfl.com
SUMMARY:Friday Night Jam
DESCRIPTION:
URL:https://hillcrestrvresortfl.com/event/friday-night-jam-7/
END:VEVENT
BEGIN:VEVENT
DTSTART;TZID=America/Chicago:20250221T150000
DTEND;TZID=America/Chicago:20250221T170000
DTSTAMP:20260425T140405
CREATED:20250114T154928Z
LAST-MODIFIED:20250114T154928Z
UID:17616-1740150000-1740157200@hillcrestrvresortfl.com
SUMMARY:Card Bingo
DESCRIPTION:
URL:https://hillcrestrvresortfl.com/event/card-bingo-5/
END:VEVENT
BEGIN:VEVENT
DTSTART;TZID=America/Chicago:20250221T130000
DTEND;TZID=America/Chicago:20250221T170000
DTSTAMP:20260425T140405
CREATED:20250116T170544Z
LAST-MODIFIED:20250116T170544Z
UID:18019-1740142800-1740157200@hillcrestrvresortfl.com
SUMMARY:Bowling
DESCRIPTION:
URL:https://hillcrestrvresortfl.com/event/bowling-35/
END:VEVENT
BEGIN:VEVENT
DTSTART;TZID=America/Chicago:20250221T130000
DTEND;TZID=America/Chicago:20250221T150000
DTSTAMP:20260425T140405
CREATED:20250115T202728Z
LAST-MODIFIED:20250115T202728Z
UID:17959-1740142800-1740150000@hillcrestrvresortfl.com
SUMMARY:Men's Billiards
DESCRIPTION:
URL:https://hillcrestrvresortfl.com/event/mens-billiards-80/
END:VEVENT
BEGIN:VEVENT
DTSTART;TZID=America/Chicago:20250221T110000
DTEND;TZID=America/Chicago:20250221T120000
DTSTAMP:20260425T140405
CREATED:20250114T154834Z
LAST-MODIFIED:20250114T154834Z
UID:17612-1740135600-1740139200@hillcrestrvresortfl.com
SUMMARY:Rock Painting
DESCRIPTION:
URL:https://hillcrestrvresortfl.com/event/rock-painting-26/
END:VEVENT
BEGIN:VEVENT
DTSTART;TZID=America/Chicago:20250221T100000
DTEND;TZID=America/Chicago:20250221T170000
DTSTAMP:20260425T140405
CREATED:20250115T195104Z
LAST-MODIFIED:20250115T195104Z
UID:17859-1740132000-1740157200@hillcrestrvresortfl.com
SUMMARY:Pentanque
DESCRIPTION:
URL:https://hillcrestrvresortfl.com/event/pentanque-131/
END:VEVENT
BEGIN:VEVENT
DTSTART;TZID=America/Chicago:20250221T100000
DTEND;TZID=America/Chicago:20250221T120000
DTSTAMP:20260425T140405
CREATED:20250115T201048Z
LAST-MODIFIED:20250115T201048Z
UID:17899-1740132000-1740139200@hillcrestrvresortfl.com
SUMMARY:Womens' Billiards
DESCRIPTION:
URL:https://hillcrestrvresortfl.com/event/womens-billiards-51/
END:VEVENT
BEGIN:VEVENT
DTSTART;TZID=America/Chicago:20250221T090000
DTEND;TZID=America/Chicago:20250221T170000
DTSTAMP:20260425T140405
CREATED:20250115T191809Z
LAST-MODIFIED:20250115T191809Z
UID:17767-1740128400-1740157200@hillcrestrvresortfl.com
SUMMARY:Shuffleboard
DESCRIPTION:
URL:https://hillcrestrvresortfl.com/event/shuffleboard-182/
END:VEVENT
BEGIN:VEVENT
DTSTART;TZID=America/Chicago:20250221T090000
DTEND;TZID=America/Chicago:20250221T170000
DTSTAMP:20260425T140405
CREATED:20250114T175304Z
LAST-MODIFIED:20250114T175304Z
UID:17724-1740128400-1740157200@hillcrestrvresortfl.com
SUMMARY:Horseshoes
DESCRIPTION:
URL:https://hillcrestrvresortfl.com/event/horseshoes-190/
END:VEVENT
BEGIN:VEVENT
DTSTART;TZID=America/Chicago:20250221T090000
DTEND;TZID=America/Chicago:20250221T103000
DTSTAMP:20260425T140405
CREATED:20250114T154314Z
LAST-MODIFIED:20250114T154314Z
UID:17608-1740128400-1740133800@hillcrestrvresortfl.com
SUMMARY:Bone Builder Exercises
DESCRIPTION:
URL:https://hillcrestrvresortfl.com/event/bone-builder-exercises-15/
END:VEVENT
BEGIN:VEVENT
DTSTART;TZID=America/Chicago:20250221T080000
DTEND;TZID=America/Chicago:20250221T220000
DTSTAMP:20260425T140405
CREATED:20250114T170537Z
LAST-MODIFIED:20250114T170537Z
UID:17674-1740124800-1740175200@hillcrestrvresortfl.com
SUMMARY:Pickleball
DESCRIPTION:
URL:https://hillcrestrvresortfl.com/event/pickleball-211/
END:VEVENT
BEGIN:VEVENT
DTSTART;TZID=America/Chicago:20250221T080000
DTEND;TZID=America/Chicago:20250221T120000
DTSTAMP:20260425T140405
CREATED:20250115T192501Z
LAST-MODIFIED:20250115T192501Z
UID:17807-1740124800-1740139200@hillcrestrvresortfl.com
SUMMARY:Water Aerobics
DESCRIPTION:
URL:https://hillcrestrvresortfl.com/event/water-aerobics-183/
END:VEVENT
BEGIN:VEVENT
DTSTART;TZID=America/Chicago:20250220T183000
DTEND;TZID=America/Chicago:20250220T210000
DTSTAMP:20260425T140405
CREATED:20250115T202551Z
LAST-MODIFIED:20250115T202551Z
UID:17951-1740076200-1740085200@hillcrestrvresortfl.com
SUMMARY:Men's Billiards
DESCRIPTION:
URL:https://hillcrestrvresortfl.com/event/mens-billiards-76/
END:VEVENT
BEGIN:VEVENT
DTSTART;TZID=America/Chicago:20250220T183000
DTEND;TZID=America/Chicago:20250220T210000
DTSTAMP:20260425T140405
CREATED:20250114T153542Z
LAST-MODIFIED:20250114T153542Z
UID:17600-1740076200-1740085200@hillcrestrvresortfl.com
SUMMARY:Bingo
DESCRIPTION:
URL:https://hillcrestrvresortfl.com/event/bingo-59/
END:VEVENT
BEGIN:VEVENT
DTSTART;TZID=America/Chicago:20250220T180000
DTEND;TZID=America/Chicago:20250220T210000
DTSTAMP:20260425T140405
CREATED:20250115T203919Z
LAST-MODIFIED:20250115T203919Z
UID:17975-1740074400-1740085200@hillcrestrvresortfl.com
SUMMARY:Bid Euchre
DESCRIPTION:
URL:https://hillcrestrvresortfl.com/event/bid-euchre-50/
END:VEVENT
BEGIN:VEVENT
DTSTART;TZID=America/Chicago:20250220T150000
DTEND;TZID=America/Chicago:20250220T170000
DTSTAMP:20260425T140405
CREATED:20250114T153315Z
LAST-MODIFIED:20250114T153315Z
UID:17592-1740063600-1740070800@hillcrestrvresortfl.com
SUMMARY:Acoustic Jam
DESCRIPTION:
URL:https://hillcrestrvresortfl.com/event/acoustic-jam-31/
END:VEVENT
BEGIN:VEVENT
DTSTART;TZID=America/Chicago:20250220T110000
DTEND;TZID=America/Chicago:20250220T130000
DTSTAMP:20260425T140405
CREATED:20250114T153003Z
LAST-MODIFIED:20250114T153003Z
UID:17578-1740049200-1740056400@hillcrestrvresortfl.com
SUMMARY:Cornhole
DESCRIPTION:
URL:https://hillcrestrvresortfl.com/event/cornhole-12/
END:VEVENT
BEGIN:VEVENT
DTSTART;TZID=America/Chicago:20250220T100000
DTEND;TZID=America/Chicago:20250220T170000
DTSTAMP:20260425T140405
CREATED:20250115T195042Z
LAST-MODIFIED:20250115T195042Z
UID:17857-1740045600-1740070800@hillcrestrvresortfl.com
SUMMARY:Pentanque
DESCRIPTION:
URL:https://hillcrestrvresortfl.com/event/pentanque-130/
END:VEVENT
BEGIN:VEVENT
DTSTART;TZID=America/Chicago:20250220T100000
DTEND;TZID=America/Chicago:20250220T113000
DTSTAMP:20260425T140405
CREATED:20250114T152532Z
LAST-MODIFIED:20250114T152532Z
UID:17570-1740045600-1740051000@hillcrestrvresortfl.com
SUMMARY:Drumming Exercises
DESCRIPTION:
URL:https://hillcrestrvresortfl.com/event/drumming-exercises-7/
END:VEVENT
BEGIN:VEVENT
DTSTART;TZID=America/Chicago:20250220T093000
DTEND;TZID=America/Chicago:20250220T170000
DTSTAMP:20260425T140405
CREATED:20250115T191751Z
LAST-MODIFIED:20250115T191751Z
UID:17765-1740043800-1740070800@hillcrestrvresortfl.com
SUMMARY:Shuffleboard
DESCRIPTION:
URL:https://hillcrestrvresortfl.com/event/shuffleboard-181/
END:VEVENT
BEGIN:VEVENT
DTSTART;TZID=America/Chicago:20250220T093000
DTEND;TZID=America/Chicago:20250220T170000
DTSTAMP:20260425T140405
CREATED:20250114T175244Z
LAST-MODIFIED:20250114T175244Z
UID:17722-1740043800-1740070800@hillcrestrvresortfl.com
SUMMARY:Horseshoes
DESCRIPTION:
URL:https://hillcrestrvresortfl.com/event/horseshoes-189/
END:VEVENT
BEGIN:VEVENT
DTSTART;TZID=America/Chicago:20250220T090000
DTEND;TZID=America/Chicago:20250220T103000
DTSTAMP:20260425T140405
CREATED:20250116T170413Z
LAST-MODIFIED:20250116T170413Z
UID:18011-1740042000-1740047400@hillcrestrvresortfl.com
SUMMARY:Choir Practice
DESCRIPTION:
URL:https://hillcrestrvresortfl.com/event/choir-practice-16/
END:VEVENT
END:VCALENDAR