BEGIN:VCALENDAR
VERSION:2.0
PRODID:-//Hillcrest RV Resort - ECPv6.15.20//NONSGML v1.0//EN
CALSCALE:GREGORIAN
METHOD:PUBLISH
X-WR-CALNAME:Hillcrest RV Resort
X-ORIGINAL-URL:https://hillcrestrvresortfl.com
X-WR-CALDESC:Events for Hillcrest RV Resort
REFRESH-INTERVAL;VALUE=DURATION:PT1H
X-Robots-Tag:noindex
X-PUBLISHED-TTL:PT1H
BEGIN:VTIMEZONE
TZID:America/Chicago
BEGIN:DAYLIGHT
TZOFFSETFROM:-0600
TZOFFSETTO:-0500
TZNAME:CDT
DTSTART:20240310T080000
END:DAYLIGHT
BEGIN:STANDARD
TZOFFSETFROM:-0500
TZOFFSETTO:-0600
TZNAME:CST
DTSTART:20241103T070000
END:STANDARD
BEGIN:DAYLIGHT
TZOFFSETFROM:-0600
TZOFFSETTO:-0500
TZNAME:CDT
DTSTART:20250309T080000
END:DAYLIGHT
BEGIN:STANDARD
TZOFFSETFROM:-0500
TZOFFSETTO:-0600
TZNAME:CST
DTSTART:20251102T070000
END:STANDARD
BEGIN:DAYLIGHT
TZOFFSETFROM:-0600
TZOFFSETTO:-0500
TZNAME:CDT
DTSTART:20260308T080000
END:DAYLIGHT
BEGIN:STANDARD
TZOFFSETFROM:-0500
TZOFFSETTO:-0600
TZNAME:CST
DTSTART:20261101T070000
END:STANDARD
END:VTIMEZONE
BEGIN:VEVENT
DTSTART;TZID=America/Chicago:20250324T180000
DTEND;TZID=America/Chicago:20250324T210000
DTSTAMP:20260425T100344
CREATED:20250501T124029Z
LAST-MODIFIED:20250501T124029Z
UID:18082-1742839200-1742850000@hillcrestrvresortfl.com
SUMMARY:Cribbage
DESCRIPTION:
URL:https://hillcrestrvresortfl.com/event/cribbage-30/
END:VEVENT
BEGIN:VEVENT
DTSTART;TZID=America/Chicago:20250324T100000
DTEND;TZID=America/Chicago:20250324T170000
DTSTAMP:20260425T100344
CREATED:20250516T135818Z
LAST-MODIFIED:20250516T135818Z
UID:18326-1742810400-1742835600@hillcrestrvresortfl.com
SUMMARY:Pentanque
DESCRIPTION:
URL:https://hillcrestrvresortfl.com/event/pentanque-162/
END:VEVENT
BEGIN:VEVENT
DTSTART;TZID=America/Chicago:20250324T100000
DTEND;TZID=America/Chicago:20250324T130000
DTSTAMP:20260425T100344
CREATED:20250501T123433Z
LAST-MODIFIED:20250501T123433Z
UID:18058-1742810400-1742821200@hillcrestrvresortfl.com
SUMMARY:Women's Billiards
DESCRIPTION:
URL:https://hillcrestrvresortfl.com/event/womens-billiards-58/
END:VEVENT
BEGIN:VEVENT
DTSTART;TZID=America/Chicago:20250324T093000
DTEND;TZID=America/Chicago:20250324T110000
DTSTAMP:20260425T100344
CREATED:20250502T150052Z
LAST-MODIFIED:20250502T150052Z
UID:18230-1742808600-1742814000@hillcrestrvresortfl.com
SUMMARY:Shuffleboard
DESCRIPTION:
URL:https://hillcrestrvresortfl.com/event/shuffleboard-203/
END:VEVENT
BEGIN:VEVENT
DTSTART;TZID=America/Chicago:20250324T080000
DTEND;TZID=America/Chicago:20250324T110000
DTSTAMP:20260425T100344
CREATED:20250502T152329Z
LAST-MODIFIED:20250502T152329Z
UID:18269-1742803200-1742814000@hillcrestrvresortfl.com
SUMMARY:Water Aerobics
DESCRIPTION:
URL:https://hillcrestrvresortfl.com/event/water-aerobics-203/
END:VEVENT
BEGIN:VEVENT
DTSTART;TZID=America/Chicago:20250323T100000
DTEND;TZID=America/Chicago:20250323T170000
DTSTAMP:20260425T100344
CREATED:20250516T135756Z
LAST-MODIFIED:20250516T135756Z
UID:18324-1742724000-1742749200@hillcrestrvresortfl.com
SUMMARY:Pentanque
DESCRIPTION:
URL:https://hillcrestrvresortfl.com/event/pentanque-161/
END:VEVENT
BEGIN:VEVENT
DTSTART;TZID=America/Chicago:20250323T100000
DTEND;TZID=America/Chicago:20250323T113000
DTSTAMP:20260425T100344
CREATED:20250501T123145Z
LAST-MODIFIED:20250501T123145Z
UID:18048-1742724000-1742729400@hillcrestrvresortfl.com
SUMMARY:Church
DESCRIPTION:
URL:https://hillcrestrvresortfl.com/event/church-39/
END:VEVENT
BEGIN:VEVENT
DTSTART;TZID=America/Chicago:20250322T160000
DTEND;TZID=America/Chicago:20250322T180000
DTSTAMP:20260425T100344
CREATED:20250502T143603Z
LAST-MODIFIED:20250502T143603Z
UID:18194-1742659200-1742666400@hillcrestrvresortfl.com
SUMMARY:Golden Golf Party
DESCRIPTION:
URL:https://hillcrestrvresortfl.com/event/golden-golf-party/
END:VEVENT
BEGIN:VEVENT
DTSTART;TZID=America/Chicago:20250322T100000
DTEND;TZID=America/Chicago:20250322T170000
DTSTAMP:20260425T100344
CREATED:20250516T135737Z
LAST-MODIFIED:20250516T135737Z
UID:18322-1742637600-1742662800@hillcrestrvresortfl.com
SUMMARY:Pentanque
DESCRIPTION:
URL:https://hillcrestrvresortfl.com/event/pentanque-160/
END:VEVENT
BEGIN:VEVENT
DTSTART;TZID=America/Chicago:20250321T130000
DTEND;TZID=America/Chicago:20250321T170000
DTSTAMP:20260425T100344
CREATED:20250502T143306Z
LAST-MODIFIED:20250502T143306Z
UID:18184-1742562000-1742576400@hillcrestrvresortfl.com
SUMMARY:Bowling
DESCRIPTION:
URL:https://hillcrestrvresortfl.com/event/bowling-39/
END:VEVENT
BEGIN:VEVENT
DTSTART;TZID=America/Chicago:20250321T130000
DTEND;TZID=America/Chicago:20250321T160000
DTSTAMP:20260425T100344
CREATED:20250502T141257Z
LAST-MODIFIED:20250502T141257Z
UID:18130-1742562000-1742572800@hillcrestrvresortfl.com
SUMMARY:Men's Billiards
DESCRIPTION:
URL:https://hillcrestrvresortfl.com/event/mens-billiards-92/
END:VEVENT
BEGIN:VEVENT
DTSTART;TZID=America/Chicago:20250321T100000
DTEND;TZID=America/Chicago:20250321T170000
DTSTAMP:20260425T100344
CREATED:20250516T135717Z
LAST-MODIFIED:20250516T135717Z
UID:18320-1742551200-1742576400@hillcrestrvresortfl.com
SUMMARY:Pentanque
DESCRIPTION:
URL:https://hillcrestrvresortfl.com/event/pentanque-159/
END:VEVENT
BEGIN:VEVENT
DTSTART;TZID=America/Chicago:20250321T100000
DTEND;TZID=America/Chicago:20250321T130000
DTSTAMP:20260425T100344
CREATED:20250501T123735Z
LAST-MODIFIED:20250501T123735Z
UID:18072-1742551200-1742562000@hillcrestrvresortfl.com
SUMMARY:Women's Billiards
DESCRIPTION:
URL:https://hillcrestrvresortfl.com/event/womens-billiards-65/
END:VEVENT
BEGIN:VEVENT
DTSTART;TZID=America/Chicago:20250321T093000
DTEND;TZID=America/Chicago:20250321T110000
DTSTAMP:20260425T100344
CREATED:20250502T150030Z
LAST-MODIFIED:20250502T150030Z
UID:18228-1742549400-1742554800@hillcrestrvresortfl.com
SUMMARY:Shuffleboard
DESCRIPTION:
URL:https://hillcrestrvresortfl.com/event/shuffleboard-202/
END:VEVENT
BEGIN:VEVENT
DTSTART;TZID=America/Chicago:20250321T080000
DTEND;TZID=America/Chicago:20250321T110000
DTSTAMP:20260425T100344
CREATED:20250502T152308Z
LAST-MODIFIED:20250502T152308Z
UID:18267-1742544000-1742554800@hillcrestrvresortfl.com
SUMMARY:Water Aerobics
DESCRIPTION:
URL:https://hillcrestrvresortfl.com/event/water-aerobics-202/
END:VEVENT
BEGIN:VEVENT
DTSTART;TZID=America/Chicago:20250320T183000
DTEND;TZID=America/Chicago:20250320T210000
DTSTAMP:20260425T100344
CREATED:20250502T140553Z
LAST-MODIFIED:20250502T140553Z
UID:18122-1742495400-1742504400@hillcrestrvresortfl.com
SUMMARY:Men's Billiards
DESCRIPTION:
URL:https://hillcrestrvresortfl.com/event/mens-billiards-88/
END:VEVENT
BEGIN:VEVENT
DTSTART;TZID=America/Chicago:20250320T180000
DTEND;TZID=America/Chicago:20250320T210000
DTSTAMP:20260425T100344
CREATED:20250502T141659Z
LAST-MODIFIED:20250502T141659Z
UID:18146-1742493600-1742504400@hillcrestrvresortfl.com
SUMMARY:Bid Euchre
DESCRIPTION:
URL:https://hillcrestrvresortfl.com/event/bid-euchre-58/
END:VEVENT
BEGIN:VEVENT
DTSTART;TZID=America/Chicago:20250320T100000
DTEND;TZID=America/Chicago:20250320T170000
DTSTAMP:20260425T100344
CREATED:20250516T135658Z
LAST-MODIFIED:20250516T135658Z
UID:18318-1742464800-1742490000@hillcrestrvresortfl.com
SUMMARY:Pentanque
DESCRIPTION:
URL:https://hillcrestrvresortfl.com/event/pentanque-158/
END:VEVENT
BEGIN:VEVENT
DTSTART;TZID=America/Chicago:20250320T093000
DTEND;TZID=America/Chicago:20250320T110000
DTSTAMP:20260425T100344
CREATED:20250502T150006Z
LAST-MODIFIED:20250502T150006Z
UID:18226-1742463000-1742468400@hillcrestrvresortfl.com
SUMMARY:Shuffleboard
DESCRIPTION:
URL:https://hillcrestrvresortfl.com/event/shuffleboard-201/
END:VEVENT
BEGIN:VEVENT
DTSTART;TZID=America/Chicago:20250320T090000
DTEND;TZID=America/Chicago:20250320T103000
DTSTAMP:20260425T100344
CREATED:20250502T143420Z
LAST-MODIFIED:20250502T143420Z
UID:18188-1742461200-1742466600@hillcrestrvresortfl.com
SUMMARY:Choir Practice
DESCRIPTION:
URL:https://hillcrestrvresortfl.com/event/choir-practice-20/
END:VEVENT
BEGIN:VEVENT
DTSTART;TZID=America/Chicago:20250320T080000
DTEND;TZID=America/Chicago:20250320T110000
DTSTAMP:20260425T100344
CREATED:20250502T152248Z
LAST-MODIFIED:20250502T152248Z
UID:18265-1742457600-1742468400@hillcrestrvresortfl.com
SUMMARY:Water Aerobics
DESCRIPTION:
URL:https://hillcrestrvresortfl.com/event/water-aerobics-201/
END:VEVENT
BEGIN:VEVENT
DTSTART;TZID=America/Chicago:20250319T180000
DTEND;TZID=America/Chicago:20250319T210000
DTSTAMP:20260425T100344
CREATED:20250501T124424Z
LAST-MODIFIED:20250501T124424Z
UID:18096-1742407200-1742418000@hillcrestrvresortfl.com
SUMMARY:Game Night
DESCRIPTION:
URL:https://hillcrestrvresortfl.com/event/game-night-69/
END:VEVENT
BEGIN:VEVENT
DTSTART;TZID=America/Chicago:20250319T103000
DTEND;TZID=America/Chicago:20250319T170000
DTSTAMP:20260425T100344
CREATED:20250502T142401Z
LAST-MODIFIED:20250502T142401Z
UID:18172-1742380200-1742403600@hillcrestrvresortfl.com
SUMMARY:Golf
DESCRIPTION:
URL:https://hillcrestrvresortfl.com/event/golf-20/
END:VEVENT
BEGIN:VEVENT
DTSTART;TZID=America/Chicago:20250319T100000
DTEND;TZID=America/Chicago:20250319T170000
DTSTAMP:20260425T100344
CREATED:20250516T135639Z
LAST-MODIFIED:20250516T135639Z
UID:18316-1742378400-1742403600@hillcrestrvresortfl.com
SUMMARY:Pentanque
DESCRIPTION:
URL:https://hillcrestrvresortfl.com/event/pentanque-157/
END:VEVENT
BEGIN:VEVENT
DTSTART;TZID=America/Chicago:20250319T100000
DTEND;TZID=America/Chicago:20250319T140000
DTSTAMP:20260425T100344
CREATED:20250502T142204Z
LAST-MODIFIED:20250502T142204Z
UID:18164-1742378400-1742392800@hillcrestrvresortfl.com
SUMMARY:Scrabble
DESCRIPTION:
URL:https://hillcrestrvresortfl.com/event/scrabble-34/
END:VEVENT
BEGIN:VEVENT
DTSTART;TZID=America/Chicago:20250319T100000
DTEND;TZID=America/Chicago:20250319T130000
DTSTAMP:20260425T100344
CREATED:20250501T123552Z
LAST-MODIFIED:20250501T123552Z
UID:18064-1742378400-1742389200@hillcrestrvresortfl.com
SUMMARY:Women's Billiards
DESCRIPTION:
URL:https://hillcrestrvresortfl.com/event/womens-billiards-61/
END:VEVENT
BEGIN:VEVENT
DTSTART;TZID=America/Chicago:20250319T093000
DTEND;TZID=America/Chicago:20250319T110000
DTSTAMP:20260425T100344
CREATED:20250502T145939Z
LAST-MODIFIED:20250502T145939Z
UID:18224-1742376600-1742382000@hillcrestrvresortfl.com
SUMMARY:Shuffleboard
DESCRIPTION:
URL:https://hillcrestrvresortfl.com/event/shuffleboard-200/
END:VEVENT
BEGIN:VEVENT
DTSTART;TZID=America/Chicago:20250319T080000
DTEND;TZID=America/Chicago:20250319T110000
DTSTAMP:20260425T100344
CREATED:20250502T152226Z
LAST-MODIFIED:20250502T152226Z
UID:18263-1742371200-1742382000@hillcrestrvresortfl.com
SUMMARY:Water Aerobics
DESCRIPTION:
URL:https://hillcrestrvresortfl.com/event/water-aerobics-200/
END:VEVENT
BEGIN:VEVENT
DTSTART;TZID=America/Chicago:20250318T180000
DTEND;TZID=America/Chicago:20250318T210000
DTSTAMP:20260425T100344
CREATED:20250502T141905Z
LAST-MODIFIED:20250502T141905Z
UID:18154-1742320800-1742331600@hillcrestrvresortfl.com
SUMMARY:Texas Hold'Em
DESCRIPTION:
URL:https://hillcrestrvresortfl.com/event/texas-holdem-39/
END:VEVENT
BEGIN:VEVENT
DTSTART;TZID=America/Chicago:20250318T180000
DTEND;TZID=America/Chicago:20250318T210000
DTSTAMP:20260425T100344
CREATED:20250502T141511Z
LAST-MODIFIED:20250502T141511Z
UID:18138-1742320800-1742331600@hillcrestrvresortfl.com
SUMMARY:Bid Euchre
DESCRIPTION:
URL:https://hillcrestrvresortfl.com/event/bid-euchre-54/
END:VEVENT
END:VCALENDAR