BEGIN:VCALENDAR
VERSION:2.0
PRODID:-//Hillcrest RV Resort - ECPv6.15.20//NONSGML v1.0//EN
CALSCALE:GREGORIAN
METHOD:PUBLISH
X-WR-CALNAME:Hillcrest RV Resort
X-ORIGINAL-URL:https://hillcrestrvresortfl.com
X-WR-CALDESC:Events for Hillcrest RV Resort
REFRESH-INTERVAL;VALUE=DURATION:PT1H
X-Robots-Tag:noindex
X-PUBLISHED-TTL:PT1H
BEGIN:VTIMEZONE
TZID:America/Chicago
BEGIN:DAYLIGHT
TZOFFSETFROM:-0600
TZOFFSETTO:-0500
TZNAME:CDT
DTSTART:20240310T080000
END:DAYLIGHT
BEGIN:STANDARD
TZOFFSETFROM:-0500
TZOFFSETTO:-0600
TZNAME:CST
DTSTART:20241103T070000
END:STANDARD
BEGIN:DAYLIGHT
TZOFFSETFROM:-0600
TZOFFSETTO:-0500
TZNAME:CDT
DTSTART:20250309T080000
END:DAYLIGHT
BEGIN:STANDARD
TZOFFSETFROM:-0500
TZOFFSETTO:-0600
TZNAME:CST
DTSTART:20251102T070000
END:STANDARD
BEGIN:DAYLIGHT
TZOFFSETFROM:-0600
TZOFFSETTO:-0500
TZNAME:CDT
DTSTART:20260308T080000
END:DAYLIGHT
BEGIN:STANDARD
TZOFFSETFROM:-0500
TZOFFSETTO:-0600
TZNAME:CST
DTSTART:20261101T070000
END:STANDARD
END:VTIMEZONE
BEGIN:VEVENT
DTSTART;TZID=America/Chicago:20250304T130000
DTEND;TZID=America/Chicago:20250304T160000
DTSTAMP:20260425T112726
CREATED:20250502T140011Z
LAST-MODIFIED:20250502T140011Z
UID:18110-1741093200-1741104000@hillcrestrvresortfl.com
SUMMARY:Men's Billiards
DESCRIPTION:
URL:https://hillcrestrvresortfl.com/event/mens-billiards-82/
END:VEVENT
BEGIN:VEVENT
DTSTART;TZID=America/Chicago:20250304T110000
DTEND;TZID=America/Chicago:20250304T140000
DTSTAMP:20260425T112726
CREATED:20250502T135921Z
LAST-MODIFIED:20250502T135921Z
UID:18108-1741086000-1741096800@hillcrestrvresortfl.com
SUMMARY:Missions
DESCRIPTION:
URL:https://hillcrestrvresortfl.com/event/missions-16/
END:VEVENT
BEGIN:VEVENT
DTSTART;TZID=America/Chicago:20250304T100000
DTEND;TZID=America/Chicago:20250304T170000
DTSTAMP:20260425T112726
CREATED:20250502T164957Z
LAST-MODIFIED:20250502T164957Z
UID:18285-1741082400-1741107600@hillcrestrvresortfl.com
SUMMARY:Pentanque
DESCRIPTION:
URL:https://hillcrestrvresortfl.com/event/pentanque-142/
END:VEVENT
BEGIN:VEVENT
DTSTART;TZID=America/Chicago:20250304T093000
DTEND;TZID=America/Chicago:20250304T110000
DTSTAMP:20260425T112726
CREATED:20250502T143813Z
LAST-MODIFIED:20250502T143813Z
UID:18200-1741080600-1741086000@hillcrestrvresortfl.com
SUMMARY:Shuffleboard
DESCRIPTION:
URL:https://hillcrestrvresortfl.com/event/shuffleboard-189/
END:VEVENT
BEGIN:VEVENT
DTSTART;TZID=America/Chicago:20250304T080000
DTEND;TZID=America/Chicago:20250304T110000
DTSTAMP:20260425T112726
CREATED:20250502T150332Z
LAST-MODIFIED:20250502T150332Z
UID:18242-1741075200-1741086000@hillcrestrvresortfl.com
SUMMARY:Water Aerobics
DESCRIPTION:
URL:https://hillcrestrvresortfl.com/event/water-aerobics-190/
END:VEVENT
BEGIN:VEVENT
DTSTART;TZID=America/Chicago:20250303T180000
DTEND;TZID=America/Chicago:20250303T210000
DTSTAMP:20260425T112726
CREATED:20250501T125624Z
LAST-MODIFIED:20250501T125624Z
UID:18100-1741024800-1741035600@hillcrestrvresortfl.com
SUMMARY:Mixed Billiards
DESCRIPTION:
URL:https://hillcrestrvresortfl.com/event/mixed-billiards-20/
END:VEVENT
BEGIN:VEVENT
DTSTART;TZID=America/Chicago:20250303T180000
DTEND;TZID=America/Chicago:20250303T210000
DTSTAMP:20260425T112726
CREATED:20250501T124129Z
LAST-MODIFIED:20250501T124129Z
UID:18084-1741024800-1741035600@hillcrestrvresortfl.com
SUMMARY:Game Night
DESCRIPTION:
URL:https://hillcrestrvresortfl.com/event/game-night-63/
END:VEVENT
BEGIN:VEVENT
DTSTART;TZID=America/Chicago:20250303T180000
DTEND;TZID=America/Chicago:20250303T210000
DTSTAMP:20260425T112726
CREATED:20250501T123907Z
LAST-MODIFIED:20250501T123907Z
UID:18076-1741024800-1741035600@hillcrestrvresortfl.com
SUMMARY:Cribbage
DESCRIPTION:
URL:https://hillcrestrvresortfl.com/event/cribbage-27/
END:VEVENT
BEGIN:VEVENT
DTSTART;TZID=America/Chicago:20250303T100000
DTEND;TZID=America/Chicago:20250303T170000
DTSTAMP:20260425T112726
CREATED:20250502T164444Z
LAST-MODIFIED:20250502T164444Z
UID:18283-1740996000-1741021200@hillcrestrvresortfl.com
SUMMARY:Pentanque
DESCRIPTION:
URL:https://hillcrestrvresortfl.com/event/pentanque-141/
END:VEVENT
BEGIN:VEVENT
DTSTART;TZID=America/Chicago:20250303T100000
DTEND;TZID=America/Chicago:20250303T130000
DTSTAMP:20260425T112726
CREATED:20250501T123313Z
LAST-MODIFIED:20250501T123313Z
UID:18052-1740996000-1741006800@hillcrestrvresortfl.com
SUMMARY:Women's Billiards
DESCRIPTION:
URL:https://hillcrestrvresortfl.com/event/womens-billiards-55/
END:VEVENT
BEGIN:VEVENT
DTSTART;TZID=America/Chicago:20250303T093000
DTEND;TZID=America/Chicago:20250303T110000
DTSTAMP:20260425T112726
CREATED:20250502T143751Z
LAST-MODIFIED:20250502T143751Z
UID:18198-1740994200-1740999600@hillcrestrvresortfl.com
SUMMARY:Shuffleboard
DESCRIPTION:
URL:https://hillcrestrvresortfl.com/event/shuffleboard-188/
END:VEVENT
BEGIN:VEVENT
DTSTART;TZID=America/Chicago:20250303T080000
DTEND;TZID=America/Chicago:20250303T110000
DTSTAMP:20260425T112726
CREATED:20250502T150312Z
LAST-MODIFIED:20250502T150312Z
UID:18240-1740988800-1740999600@hillcrestrvresortfl.com
SUMMARY:Water Aerobics
DESCRIPTION:
URL:https://hillcrestrvresortfl.com/event/water-aerobics-189/
END:VEVENT
BEGIN:VEVENT
DTSTART;TZID=America/Chicago:20250302T100000
DTEND;TZID=America/Chicago:20250302T170000
DTSTAMP:20260425T112726
CREATED:20250502T161111Z
LAST-MODIFIED:20250502T161111Z
UID:18281-1740909600-1740934800@hillcrestrvresortfl.com
SUMMARY:Pentanque
DESCRIPTION:
URL:https://hillcrestrvresortfl.com/event/pentanque-140/
END:VEVENT
BEGIN:VEVENT
DTSTART;TZID=America/Chicago:20250302T100000
DTEND;TZID=America/Chicago:20250302T113000
DTSTAMP:20260425T112726
CREATED:20250501T123002Z
LAST-MODIFIED:20250501T123002Z
UID:18042-1740909600-1740915000@hillcrestrvresortfl.com
SUMMARY:Church
DESCRIPTION:
URL:https://hillcrestrvresortfl.com/event/church-36/
END:VEVENT
BEGIN:VEVENT
DTSTART;TZID=America/Chicago:20250301T100000
DTEND;TZID=America/Chicago:20250301T170000
DTSTAMP:20260425T112726
CREATED:20250502T161051Z
LAST-MODIFIED:20250502T161051Z
UID:18279-1740823200-1740848400@hillcrestrvresortfl.com
SUMMARY:Pentanque
DESCRIPTION:
URL:https://hillcrestrvresortfl.com/event/pentanque-139/
END:VEVENT
BEGIN:VEVENT
DTSTART;TZID=America/Chicago:20250301T080000
DTEND;TZID=America/Chicago:20250301T150000
DTSTAMP:20260425T112726
CREATED:20250516T140322Z
LAST-MODIFIED:20250516T140322Z
UID:18342-1740816000-1740841200@hillcrestrvresortfl.com
SUMMARY:CAN/AM DAY
DESCRIPTION:8:00 am Pickleball Tournament \n11:00 Pizza\, pop\, ice cream sale \n11:45 National Anthems \nNoon Golf Cart Parade \n12:30 Minute to win it Games \n1:30 Pickleball Finals
URL:https://hillcrestrvresortfl.com/event/can-am-day-2/
END:VEVENT
BEGIN:VEVENT
DTSTART;TZID=America/Chicago:20250228T190000
DTEND;TZID=America/Chicago:20250228T210000
DTSTAMP:20260425T112726
CREATED:20250114T155103Z
LAST-MODIFIED:20250114T155103Z
UID:17622-1740769200-1740776400@hillcrestrvresortfl.com
SUMMARY:Friday Night Jam
DESCRIPTION:
URL:https://hillcrestrvresortfl.com/event/friday-night-jam-8/
END:VEVENT
BEGIN:VEVENT
DTSTART;TZID=America/Chicago:20250228T150000
DTEND;TZID=America/Chicago:20250228T170000
DTSTAMP:20260425T112726
CREATED:20250114T154951Z
LAST-MODIFIED:20250114T154951Z
UID:17618-1740754800-1740762000@hillcrestrvresortfl.com
SUMMARY:Card Bingo
DESCRIPTION:
URL:https://hillcrestrvresortfl.com/event/card-bingo-6/
END:VEVENT
BEGIN:VEVENT
DTSTART;TZID=America/Chicago:20250228T130000
DTEND;TZID=America/Chicago:20250228T170000
DTSTAMP:20260425T112726
CREATED:20250116T170602Z
LAST-MODIFIED:20250116T170602Z
UID:18021-1740747600-1740762000@hillcrestrvresortfl.com
SUMMARY:Bowling
DESCRIPTION:
URL:https://hillcrestrvresortfl.com/event/bowling-36/
END:VEVENT
BEGIN:VEVENT
DTSTART;TZID=America/Chicago:20250228T130000
DTEND;TZID=America/Chicago:20250228T150000
DTSTAMP:20260425T112726
CREATED:20250115T202750Z
LAST-MODIFIED:20250115T202750Z
UID:17961-1740747600-1740754800@hillcrestrvresortfl.com
SUMMARY:Men's Billiards
DESCRIPTION:
URL:https://hillcrestrvresortfl.com/event/mens-billiards-81/
END:VEVENT
BEGIN:VEVENT
DTSTART;TZID=America/Chicago:20250228T110000
DTEND;TZID=America/Chicago:20250228T120000
DTSTAMP:20260425T112726
CREATED:20250114T154857Z
LAST-MODIFIED:20250114T154857Z
UID:17614-1740740400-1740744000@hillcrestrvresortfl.com
SUMMARY:Rock Painting
DESCRIPTION:
URL:https://hillcrestrvresortfl.com/event/rock-painting-27/
END:VEVENT
BEGIN:VEVENT
DTSTART;TZID=America/Chicago:20250228T100000
DTEND;TZID=America/Chicago:20250228T170000
DTSTAMP:20260425T112726
CREATED:20250115T195551Z
LAST-MODIFIED:20250115T195551Z
UID:17873-1740736800-1740762000@hillcrestrvresortfl.com
SUMMARY:Pentanque
DESCRIPTION:
URL:https://hillcrestrvresortfl.com/event/pentanque-138/
END:VEVENT
BEGIN:VEVENT
DTSTART;TZID=America/Chicago:20250228T100000
DTEND;TZID=America/Chicago:20250228T120000
DTSTAMP:20260425T112726
CREATED:20250115T201154Z
LAST-MODIFIED:20250115T201154Z
UID:17905-1740736800-1740744000@hillcrestrvresortfl.com
SUMMARY:Womens' Billiards
DESCRIPTION:
URL:https://hillcrestrvresortfl.com/event/womens-billiards-54/
END:VEVENT
BEGIN:VEVENT
DTSTART;TZID=America/Chicago:20250228T090000
DTEND;TZID=America/Chicago:20250228T170000
DTSTAMP:20260425T112726
CREATED:20250115T191935Z
LAST-MODIFIED:20250115T191935Z
UID:17777-1740733200-1740762000@hillcrestrvresortfl.com
SUMMARY:Shuffleboard
DESCRIPTION:
URL:https://hillcrestrvresortfl.com/event/shuffleboard-187/
END:VEVENT
BEGIN:VEVENT
DTSTART;TZID=America/Chicago:20250228T090000
DTEND;TZID=America/Chicago:20250228T170000
DTSTAMP:20260425T112726
CREATED:20250114T175457Z
LAST-MODIFIED:20250114T175457Z
UID:17736-1740733200-1740762000@hillcrestrvresortfl.com
SUMMARY:Horseshoes
DESCRIPTION:
URL:https://hillcrestrvresortfl.com/event/horseshoes-196/
END:VEVENT
BEGIN:VEVENT
DTSTART;TZID=America/Chicago:20250228T090000
DTEND;TZID=America/Chicago:20250228T103000
DTSTAMP:20260425T112726
CREATED:20250114T154757Z
LAST-MODIFIED:20250114T154757Z
UID:17610-1740733200-1740738600@hillcrestrvresortfl.com
SUMMARY:Bone Builder Exercises
DESCRIPTION:
URL:https://hillcrestrvresortfl.com/event/bone-builder-exercises-16/
END:VEVENT
BEGIN:VEVENT
DTSTART;TZID=America/Chicago:20250228T080000
DTEND;TZID=America/Chicago:20250228T220000
DTSTAMP:20260425T112726
CREATED:20250114T170757Z
LAST-MODIFIED:20250114T170757Z
UID:17688-1740729600-1740780000@hillcrestrvresortfl.com
SUMMARY:Pickleball
DESCRIPTION:
URL:https://hillcrestrvresortfl.com/event/pickleball-218/
END:VEVENT
BEGIN:VEVENT
DTSTART;TZID=America/Chicago:20250228T080000
DTEND;TZID=America/Chicago:20250228T120000
DTSTAMP:20260425T112726
CREATED:20250115T192642Z
LAST-MODIFIED:20250115T192642Z
UID:17817-1740729600-1740744000@hillcrestrvresortfl.com
SUMMARY:Water Aerobics
DESCRIPTION:
URL:https://hillcrestrvresortfl.com/event/water-aerobics-188/
END:VEVENT
BEGIN:VEVENT
DTSTART;TZID=America/Chicago:20250227T183000
DTEND;TZID=America/Chicago:20250227T210000
DTSTAMP:20260425T112726
CREATED:20250115T202617Z
LAST-MODIFIED:20250115T202617Z
UID:17953-1740681000-1740690000@hillcrestrvresortfl.com
SUMMARY:Men's Billiards
DESCRIPTION:
URL:https://hillcrestrvresortfl.com/event/mens-billiards-77/
END:VEVENT
BEGIN:VEVENT
DTSTART;TZID=America/Chicago:20250227T183000
DTEND;TZID=America/Chicago:20250227T210000
DTSTAMP:20260425T112726
CREATED:20250114T154113Z
LAST-MODIFIED:20250114T154113Z
UID:17602-1740681000-1740690000@hillcrestrvresortfl.com
SUMMARY:Bingo
DESCRIPTION:
URL:https://hillcrestrvresortfl.com/event/bingo-60/
END:VEVENT
END:VCALENDAR