BEGIN:VCALENDAR
VERSION:2.0
PRODID:-//Hillcrest RV Resort - ECPv6.15.20//NONSGML v1.0//EN
CALSCALE:GREGORIAN
METHOD:PUBLISH
X-WR-CALNAME:Hillcrest RV Resort
X-ORIGINAL-URL:https://hillcrestrvresortfl.com
X-WR-CALDESC:Events for Hillcrest RV Resort
REFRESH-INTERVAL;VALUE=DURATION:PT1H
X-Robots-Tag:noindex
X-PUBLISHED-TTL:PT1H
BEGIN:VTIMEZONE
TZID:America/Chicago
BEGIN:DAYLIGHT
TZOFFSETFROM:-0600
TZOFFSETTO:-0500
TZNAME:CDT
DTSTART:20240310T080000
END:DAYLIGHT
BEGIN:STANDARD
TZOFFSETFROM:-0500
TZOFFSETTO:-0600
TZNAME:CST
DTSTART:20241103T070000
END:STANDARD
BEGIN:DAYLIGHT
TZOFFSETFROM:-0600
TZOFFSETTO:-0500
TZNAME:CDT
DTSTART:20250309T080000
END:DAYLIGHT
BEGIN:STANDARD
TZOFFSETFROM:-0500
TZOFFSETTO:-0600
TZNAME:CST
DTSTART:20251102T070000
END:STANDARD
BEGIN:DAYLIGHT
TZOFFSETFROM:-0600
TZOFFSETTO:-0500
TZNAME:CDT
DTSTART:20260308T080000
END:DAYLIGHT
BEGIN:STANDARD
TZOFFSETFROM:-0500
TZOFFSETTO:-0600
TZNAME:CST
DTSTART:20261101T070000
END:STANDARD
END:VTIMEZONE
BEGIN:VEVENT
DTSTART;TZID=America/Chicago:20250318T130000
DTEND;TZID=America/Chicago:20250318T160000
DTSTAMP:20260425T101443
CREATED:20250502T140102Z
LAST-MODIFIED:20250502T140102Z
UID:18114-1742302800-1742313600@hillcrestrvresortfl.com
SUMMARY:Men's Billiards
DESCRIPTION:
URL:https://hillcrestrvresortfl.com/event/mens-billiards-84/
END:VEVENT
BEGIN:VEVENT
DTSTART;TZID=America/Chicago:20250318T110000
DTEND;TZID=America/Chicago:20250318T140000
DTSTAMP:20260425T101443
CREATED:20250502T142009Z
LAST-MODIFIED:20250502T142009Z
UID:18158-1742295600-1742306400@hillcrestrvresortfl.com
SUMMARY:Missions
DESCRIPTION:
URL:https://hillcrestrvresortfl.com/event/missions-17/
END:VEVENT
BEGIN:VEVENT
DTSTART;TZID=America/Chicago:20250318T100000
DTEND;TZID=America/Chicago:20250318T170000
DTSTAMP:20260425T101443
CREATED:20250516T135619Z
LAST-MODIFIED:20250516T135619Z
UID:18314-1742292000-1742317200@hillcrestrvresortfl.com
SUMMARY:Pentanque
DESCRIPTION:
URL:https://hillcrestrvresortfl.com/event/pentanque-156/
END:VEVENT
BEGIN:VEVENT
DTSTART;TZID=America/Chicago:20250318T093000
DTEND;TZID=America/Chicago:20250318T110000
DTSTAMP:20260425T101443
CREATED:20250502T145917Z
LAST-MODIFIED:20250502T145917Z
UID:18222-1742290200-1742295600@hillcrestrvresortfl.com
SUMMARY:Shuffleboard
DESCRIPTION:
URL:https://hillcrestrvresortfl.com/event/shuffleboard-199/
END:VEVENT
BEGIN:VEVENT
DTSTART;TZID=America/Chicago:20250318T080000
DTEND;TZID=America/Chicago:20250318T110000
DTSTAMP:20260425T101443
CREATED:20250502T152204Z
LAST-MODIFIED:20250502T152204Z
UID:18261-1742284800-1742295600@hillcrestrvresortfl.com
SUMMARY:Water Aerobics
DESCRIPTION:
URL:https://hillcrestrvresortfl.com/event/water-aerobics-199/
END:VEVENT
BEGIN:VEVENT
DTSTART;TZID=America/Chicago:20250317T180000
DTEND;TZID=America/Chicago:20250317T210000
DTSTAMP:20260425T101443
CREATED:20250501T125742Z
LAST-MODIFIED:20250501T125742Z
UID:18104-1742234400-1742245200@hillcrestrvresortfl.com
SUMMARY:Mixed Billiards
DESCRIPTION:
URL:https://hillcrestrvresortfl.com/event/mixed-billiards-22/
END:VEVENT
BEGIN:VEVENT
DTSTART;TZID=America/Chicago:20250317T180000
DTEND;TZID=America/Chicago:20250317T210000
DTSTAMP:20260425T101443
CREATED:20250501T124223Z
LAST-MODIFIED:20250501T124223Z
UID:18088-1742234400-1742245200@hillcrestrvresortfl.com
SUMMARY:Game Night
DESCRIPTION:
URL:https://hillcrestrvresortfl.com/event/game-night-65/
END:VEVENT
BEGIN:VEVENT
DTSTART;TZID=America/Chicago:20250317T180000
DTEND;TZID=America/Chicago:20250317T210000
DTSTAMP:20260425T101443
CREATED:20250501T124003Z
LAST-MODIFIED:20250501T124003Z
UID:18080-1742234400-1742245200@hillcrestrvresortfl.com
SUMMARY:Cribbage
DESCRIPTION:
URL:https://hillcrestrvresortfl.com/event/cribbage-29/
END:VEVENT
BEGIN:VEVENT
DTSTART;TZID=America/Chicago:20250317T100000
DTEND;TZID=America/Chicago:20250317T170000
DTSTAMP:20260425T101443
CREATED:20250516T135602Z
LAST-MODIFIED:20250516T135602Z
UID:18312-1742205600-1742230800@hillcrestrvresortfl.com
SUMMARY:Pentanque
DESCRIPTION:
URL:https://hillcrestrvresortfl.com/event/pentanque-155/
END:VEVENT
BEGIN:VEVENT
DTSTART;TZID=America/Chicago:20250317T100000
DTEND;TZID=America/Chicago:20250317T130000
DTSTAMP:20260425T101443
CREATED:20250501T123408Z
LAST-MODIFIED:20250501T123408Z
UID:18056-1742205600-1742216400@hillcrestrvresortfl.com
SUMMARY:Women's Billiards
DESCRIPTION:
URL:https://hillcrestrvresortfl.com/event/womens-billiards-57/
END:VEVENT
BEGIN:VEVENT
DTSTART;TZID=America/Chicago:20250317T093000
DTEND;TZID=America/Chicago:20250317T110000
DTSTAMP:20260425T101443
CREATED:20250502T145701Z
LAST-MODIFIED:20250502T145701Z
UID:18220-1742203800-1742209200@hillcrestrvresortfl.com
SUMMARY:Shuffleboard
DESCRIPTION:
URL:https://hillcrestrvresortfl.com/event/shuffleboard-198/
END:VEVENT
BEGIN:VEVENT
DTSTART;TZID=America/Chicago:20250317T080000
DTEND;TZID=America/Chicago:20250317T110000
DTSTAMP:20260425T101443
CREATED:20250502T152139Z
LAST-MODIFIED:20250502T152139Z
UID:18259-1742198400-1742209200@hillcrestrvresortfl.com
SUMMARY:Water Aerobics
DESCRIPTION:
URL:https://hillcrestrvresortfl.com/event/water-aerobics-198/
END:VEVENT
BEGIN:VEVENT
DTSTART;TZID=America/Chicago:20250316T100000
DTEND;TZID=America/Chicago:20250316T170000
DTSTAMP:20260425T101443
CREATED:20250516T135541Z
LAST-MODIFIED:20250516T135541Z
UID:18310-1742119200-1742144400@hillcrestrvresortfl.com
SUMMARY:Pentanque
DESCRIPTION:
URL:https://hillcrestrvresortfl.com/event/pentanque-154/
END:VEVENT
BEGIN:VEVENT
DTSTART;TZID=America/Chicago:20250316T100000
DTEND;TZID=America/Chicago:20250316T113000
DTSTAMP:20260425T101443
CREATED:20250501T123120Z
LAST-MODIFIED:20250501T123120Z
UID:18046-1742119200-1742124600@hillcrestrvresortfl.com
SUMMARY:Church
DESCRIPTION:
URL:https://hillcrestrvresortfl.com/event/church-38/
END:VEVENT
BEGIN:VEVENT
DTSTART;TZID=America/Chicago:20250315T130000
DTEND;TZID=America/Chicago:20250315T140000
DTSTAMP:20260425T101443
CREATED:20250502T143640Z
LAST-MODIFIED:20250502T143640Z
UID:18196-1742043600-1742047200@hillcrestrvresortfl.com
SUMMARY:Singspiration
DESCRIPTION:
URL:https://hillcrestrvresortfl.com/event/singspiration-2/
END:VEVENT
BEGIN:VEVENT
DTSTART;TZID=America/Chicago:20250315T100000
DTEND;TZID=America/Chicago:20250315T170000
DTSTAMP:20260425T101443
CREATED:20250516T135443Z
LAST-MODIFIED:20250516T135443Z
UID:18308-1742032800-1742058000@hillcrestrvresortfl.com
SUMMARY:Pentanque
DESCRIPTION:
URL:https://hillcrestrvresortfl.com/event/pentanque-153/
END:VEVENT
BEGIN:VEVENT
DTSTART;TZID=America/Chicago:20250315T090000
DTEND;TZID=America/Chicago:20250315T170000
DTSTAMP:20260425T101443
CREATED:20250502T143531Z
LAST-MODIFIED:20250502T143531Z
UID:18192-1742029200-1742058000@hillcrestrvresortfl.com
SUMMARY:Golden Golf Scramble
DESCRIPTION:
URL:https://hillcrestrvresortfl.com/event/golden-golf-scramble/
END:VEVENT
BEGIN:VEVENT
DTSTART;TZID=America/Chicago:20250314T130000
DTEND;TZID=America/Chicago:20250314T170000
DTSTAMP:20260425T101443
CREATED:20250502T143244Z
LAST-MODIFIED:20250502T143244Z
UID:18182-1741957200-1741971600@hillcrestrvresortfl.com
SUMMARY:Bowling
DESCRIPTION:
URL:https://hillcrestrvresortfl.com/event/bowling-38/
END:VEVENT
BEGIN:VEVENT
DTSTART;TZID=America/Chicago:20250314T130000
DTEND;TZID=America/Chicago:20250314T160000
DTSTAMP:20260425T101443
CREATED:20250502T141232Z
LAST-MODIFIED:20250502T141232Z
UID:18128-1741957200-1741968000@hillcrestrvresortfl.com
SUMMARY:Men's Billiards
DESCRIPTION:
URL:https://hillcrestrvresortfl.com/event/mens-billiards-91/
END:VEVENT
BEGIN:VEVENT
DTSTART;TZID=America/Chicago:20250314T100000
DTEND;TZID=America/Chicago:20250314T170000
DTSTAMP:20260425T101443
CREATED:20250516T135421Z
LAST-MODIFIED:20250516T135421Z
UID:18306-1741946400-1741971600@hillcrestrvresortfl.com
SUMMARY:Pentanque
DESCRIPTION:
URL:https://hillcrestrvresortfl.com/event/pentanque-152/
END:VEVENT
BEGIN:VEVENT
DTSTART;TZID=America/Chicago:20250314T100000
DTEND;TZID=America/Chicago:20250314T130000
DTSTAMP:20260425T101443
CREATED:20250501T123708Z
LAST-MODIFIED:20250501T123708Z
UID:18070-1741946400-1741957200@hillcrestrvresortfl.com
SUMMARY:Women's Billiards
DESCRIPTION:
URL:https://hillcrestrvresortfl.com/event/womens-billiards-64/
END:VEVENT
BEGIN:VEVENT
DTSTART;TZID=America/Chicago:20250314T093000
DTEND;TZID=America/Chicago:20250314T110000
DTSTAMP:20260425T101443
CREATED:20250502T145632Z
LAST-MODIFIED:20250502T145632Z
UID:18218-1741944600-1741950000@hillcrestrvresortfl.com
SUMMARY:Shuffleboard
DESCRIPTION:
URL:https://hillcrestrvresortfl.com/event/shuffleboard-197/
END:VEVENT
BEGIN:VEVENT
DTSTART;TZID=America/Chicago:20250314T080000
DTEND;TZID=America/Chicago:20250314T110000
DTSTAMP:20260425T101443
CREATED:20250502T151943Z
LAST-MODIFIED:20250502T151943Z
UID:18256-1741939200-1741950000@hillcrestrvresortfl.com
SUMMARY:Water Aerobics
DESCRIPTION:
URL:https://hillcrestrvresortfl.com/event/water-aerobics-197/
END:VEVENT
BEGIN:VEVENT
DTSTART;TZID=America/Chicago:20250313T183000
DTEND;TZID=America/Chicago:20250313T210000
DTSTAMP:20260425T101443
CREATED:20250502T140529Z
LAST-MODIFIED:20250502T140529Z
UID:18120-1741890600-1741899600@hillcrestrvresortfl.com
SUMMARY:Men's Billiards
DESCRIPTION:
URL:https://hillcrestrvresortfl.com/event/mens-billiards-87/
END:VEVENT
BEGIN:VEVENT
DTSTART;TZID=America/Chicago:20250313T180000
DTEND;TZID=America/Chicago:20250313T210000
DTSTAMP:20260425T101443
CREATED:20250502T141631Z
LAST-MODIFIED:20250502T141631Z
UID:18144-1741888800-1741899600@hillcrestrvresortfl.com
SUMMARY:Bid Euchre
DESCRIPTION:
URL:https://hillcrestrvresortfl.com/event/bid-euchre-57/
END:VEVENT
BEGIN:VEVENT
DTSTART;TZID=America/Chicago:20250313T100000
DTEND;TZID=America/Chicago:20250313T170000
DTSTAMP:20260425T101443
CREATED:20250516T135358Z
LAST-MODIFIED:20250516T135358Z
UID:18304-1741860000-1741885200@hillcrestrvresortfl.com
SUMMARY:Pentanque
DESCRIPTION:
URL:https://hillcrestrvresortfl.com/event/pentanque-151/
END:VEVENT
BEGIN:VEVENT
DTSTART;TZID=America/Chicago:20250313T093000
DTEND;TZID=America/Chicago:20250313T110000
DTSTAMP:20260425T101443
CREATED:20250502T145605Z
LAST-MODIFIED:20250502T145605Z
UID:18216-1741858200-1741863600@hillcrestrvresortfl.com
SUMMARY:Shuffleboard
DESCRIPTION:
URL:https://hillcrestrvresortfl.com/event/shuffleboard-196/
END:VEVENT
BEGIN:VEVENT
DTSTART;TZID=America/Chicago:20250313T090000
DTEND;TZID=America/Chicago:20250313T103000
DTSTAMP:20260425T101443
CREATED:20250502T142544Z
LAST-MODIFIED:20250502T142544Z
UID:18178-1741856400-1741861800@hillcrestrvresortfl.com
SUMMARY:Choir Practice
DESCRIPTION:
URL:https://hillcrestrvresortfl.com/event/choir-practice-19/
END:VEVENT
BEGIN:VEVENT
DTSTART;TZID=America/Chicago:20250313T080000
DTEND;TZID=America/Chicago:20250313T110000
DTSTAMP:20260425T101443
CREATED:20250502T150533Z
LAST-MODIFIED:20250502T151919Z
UID:18254-1741852800-1741863600@hillcrestrvresortfl.com
SUMMARY:Water Aerobics
DESCRIPTION:
URL:https://hillcrestrvresortfl.com/event/water-aerobics-196/
END:VEVENT
BEGIN:VEVENT
DTSTART;TZID=America/Chicago:20250312T180000
DTEND;TZID=America/Chicago:20250312T210000
DTSTAMP:20260425T101443
CREATED:20250501T124359Z
LAST-MODIFIED:20250501T124359Z
UID:18094-1741802400-1741813200@hillcrestrvresortfl.com
SUMMARY:Game Night
DESCRIPTION:
URL:https://hillcrestrvresortfl.com/event/game-night-68/
END:VEVENT
END:VCALENDAR