BEGIN:VCALENDAR
VERSION:2.0
PRODID:-//Hillcrest RV Resort - ECPv6.15.20//NONSGML v1.0//EN
CALSCALE:GREGORIAN
METHOD:PUBLISH
X-WR-CALNAME:Hillcrest RV Resort
X-ORIGINAL-URL:https://hillcrestrvresortfl.com
X-WR-CALDESC:Events for Hillcrest RV Resort
REFRESH-INTERVAL;VALUE=DURATION:PT1H
X-Robots-Tag:noindex
X-PUBLISHED-TTL:PT1H
BEGIN:VTIMEZONE
TZID:America/Chicago
BEGIN:DAYLIGHT
TZOFFSETFROM:-0600
TZOFFSETTO:-0500
TZNAME:CDT
DTSTART:20240310T080000
END:DAYLIGHT
BEGIN:STANDARD
TZOFFSETFROM:-0500
TZOFFSETTO:-0600
TZNAME:CST
DTSTART:20241103T070000
END:STANDARD
BEGIN:DAYLIGHT
TZOFFSETFROM:-0600
TZOFFSETTO:-0500
TZNAME:CDT
DTSTART:20250309T080000
END:DAYLIGHT
BEGIN:STANDARD
TZOFFSETFROM:-0500
TZOFFSETTO:-0600
TZNAME:CST
DTSTART:20251102T070000
END:STANDARD
BEGIN:DAYLIGHT
TZOFFSETFROM:-0600
TZOFFSETTO:-0500
TZNAME:CDT
DTSTART:20260308T080000
END:DAYLIGHT
BEGIN:STANDARD
TZOFFSETFROM:-0500
TZOFFSETTO:-0600
TZNAME:CST
DTSTART:20261101T070000
END:STANDARD
END:VTIMEZONE
BEGIN:VEVENT
DTSTART;TZID=America/Chicago:20250310T180000
DTEND;TZID=America/Chicago:20250310T210000
DTSTAMP:20260425T105414
CREATED:20250501T125714Z
LAST-MODIFIED:20250501T125714Z
UID:18102-1741629600-1741640400@hillcrestrvresortfl.com
SUMMARY:Mixed Billiards
DESCRIPTION:
URL:https://hillcrestrvresortfl.com/event/mixed-billiards-21/
END:VEVENT
BEGIN:VEVENT
DTSTART;TZID=America/Chicago:20250310T180000
DTEND;TZID=America/Chicago:20250310T210000
DTSTAMP:20260425T105414
CREATED:20250501T124200Z
LAST-MODIFIED:20250501T124200Z
UID:18086-1741629600-1741640400@hillcrestrvresortfl.com
SUMMARY:Game Night
DESCRIPTION:
URL:https://hillcrestrvresortfl.com/event/game-night-64/
END:VEVENT
BEGIN:VEVENT
DTSTART;TZID=America/Chicago:20250310T180000
DTEND;TZID=America/Chicago:20250310T210000
DTSTAMP:20260425T105414
CREATED:20250501T123936Z
LAST-MODIFIED:20250501T123936Z
UID:18078-1741629600-1741640400@hillcrestrvresortfl.com
SUMMARY:Cribbage
DESCRIPTION:
URL:https://hillcrestrvresortfl.com/event/cribbage-28/
END:VEVENT
BEGIN:VEVENT
DTSTART;TZID=America/Chicago:20250310T100000
DTEND;TZID=America/Chicago:20250310T170000
DTSTAMP:20260425T105414
CREATED:20250516T135257Z
LAST-MODIFIED:20250516T135257Z
UID:18298-1741600800-1741626000@hillcrestrvresortfl.com
SUMMARY:Pentanque
DESCRIPTION:
URL:https://hillcrestrvresortfl.com/event/pentanque-148/
END:VEVENT
BEGIN:VEVENT
DTSTART;TZID=America/Chicago:20250310T100000
DTEND;TZID=America/Chicago:20250310T130000
DTSTAMP:20260425T105414
CREATED:20250501T123345Z
LAST-MODIFIED:20250501T123345Z
UID:18054-1741600800-1741611600@hillcrestrvresortfl.com
SUMMARY:Women's Billiards
DESCRIPTION:
URL:https://hillcrestrvresortfl.com/event/womens-billiards-56/
END:VEVENT
BEGIN:VEVENT
DTSTART;TZID=America/Chicago:20250310T093000
DTEND;TZID=America/Chicago:20250310T110000
DTSTAMP:20260425T105414
CREATED:20250502T145451Z
LAST-MODIFIED:20250502T145451Z
UID:18210-1741599000-1741604400@hillcrestrvresortfl.com
SUMMARY:Shuffleboard
DESCRIPTION:
URL:https://hillcrestrvresortfl.com/event/shuffleboard-193/
END:VEVENT
BEGIN:VEVENT
DTSTART;TZID=America/Chicago:20250310T080000
DTEND;TZID=America/Chicago:20250310T110000
DTSTAMP:20260425T105414
CREATED:20250502T150454Z
LAST-MODIFIED:20250502T150454Z
UID:18250-1741593600-1741604400@hillcrestrvresortfl.com
SUMMARY:Water Aerobics
DESCRIPTION:
URL:https://hillcrestrvresortfl.com/event/water-aerobics-194/
END:VEVENT
BEGIN:VEVENT
DTSTART;TZID=America/Chicago:20250309T100000
DTEND;TZID=America/Chicago:20250309T170000
DTSTAMP:20260425T105414
CREATED:20250516T135215Z
LAST-MODIFIED:20250516T135215Z
UID:18296-1741514400-1741539600@hillcrestrvresortfl.com
SUMMARY:Pentanque
DESCRIPTION:
URL:https://hillcrestrvresortfl.com/event/pentanque-147/
END:VEVENT
BEGIN:VEVENT
DTSTART;TZID=America/Chicago:20250309T100000
DTEND;TZID=America/Chicago:20250309T113000
DTSTAMP:20260425T105414
CREATED:20250501T123053Z
LAST-MODIFIED:20250501T123053Z
UID:18044-1741514400-1741519800@hillcrestrvresortfl.com
SUMMARY:Church
DESCRIPTION:
URL:https://hillcrestrvresortfl.com/event/church-37/
END:VEVENT
BEGIN:VEVENT
DTSTART;TZID=America/Chicago:20250308T100000
DTEND;TZID=America/Chicago:20250308T170000
DTSTAMP:20260425T105414
CREATED:20250502T165110Z
LAST-MODIFIED:20250502T165110Z
UID:18293-1741428000-1741453200@hillcrestrvresortfl.com
SUMMARY:Pentanque
DESCRIPTION:
URL:https://hillcrestrvresortfl.com/event/pentanque-146/
END:VEVENT
BEGIN:VEVENT
DTSTART;TZID=America/Chicago:20250307T130000
DTEND;TZID=America/Chicago:20250307T170000
DTSTAMP:20260425T105414
CREATED:20250502T143224Z
LAST-MODIFIED:20250502T143224Z
UID:18180-1741352400-1741366800@hillcrestrvresortfl.com
SUMMARY:Bowling
DESCRIPTION:
URL:https://hillcrestrvresortfl.com/event/bowling-37/
END:VEVENT
BEGIN:VEVENT
DTSTART;TZID=America/Chicago:20250307T130000
DTEND;TZID=America/Chicago:20250307T160000
DTSTAMP:20260425T105414
CREATED:20250502T140646Z
LAST-MODIFIED:20250502T140646Z
UID:18126-1741352400-1741363200@hillcrestrvresortfl.com
SUMMARY:Men's Billiards
DESCRIPTION:
URL:https://hillcrestrvresortfl.com/event/mens-billiards-90/
END:VEVENT
BEGIN:VEVENT
DTSTART;TZID=America/Chicago:20250307T100000
DTEND;TZID=America/Chicago:20250307T170000
DTSTAMP:20260425T105414
CREATED:20250502T165052Z
LAST-MODIFIED:20250502T165052Z
UID:18291-1741341600-1741366800@hillcrestrvresortfl.com
SUMMARY:Pentanque
DESCRIPTION:
URL:https://hillcrestrvresortfl.com/event/pentanque-145/
END:VEVENT
BEGIN:VEVENT
DTSTART;TZID=America/Chicago:20250307T100000
DTEND;TZID=America/Chicago:20250307T130000
DTSTAMP:20260425T105414
CREATED:20250501T123642Z
LAST-MODIFIED:20250501T123642Z
UID:18068-1741341600-1741352400@hillcrestrvresortfl.com
SUMMARY:Women's Billiards
DESCRIPTION:
URL:https://hillcrestrvresortfl.com/event/womens-billiards-63/
END:VEVENT
BEGIN:VEVENT
DTSTART;TZID=America/Chicago:20250307T093000
DTEND;TZID=America/Chicago:20250307T110000
DTSTAMP:20260425T105414
CREATED:20250502T145423Z
LAST-MODIFIED:20250502T145423Z
UID:18208-1741339800-1741345200@hillcrestrvresortfl.com
SUMMARY:Shuffleboard
DESCRIPTION:
URL:https://hillcrestrvresortfl.com/event/shuffleboard-192/
END:VEVENT
BEGIN:VEVENT
DTSTART;TZID=America/Chicago:20250307T080000
DTEND;TZID=America/Chicago:20250307T110000
DTSTAMP:20260425T105414
CREATED:20250502T150432Z
LAST-MODIFIED:20250502T150432Z
UID:18248-1741334400-1741345200@hillcrestrvresortfl.com
SUMMARY:Water Aerobics
DESCRIPTION:
URL:https://hillcrestrvresortfl.com/event/water-aerobics-193/
END:VEVENT
BEGIN:VEVENT
DTSTART;TZID=America/Chicago:20250306T183000
DTEND;TZID=America/Chicago:20250306T210000
DTSTAMP:20260425T105414
CREATED:20250502T140458Z
LAST-MODIFIED:20250502T140458Z
UID:18118-1741285800-1741294800@hillcrestrvresortfl.com
SUMMARY:Men's Billiards
DESCRIPTION:
URL:https://hillcrestrvresortfl.com/event/mens-billiards-86/
END:VEVENT
BEGIN:VEVENT
DTSTART;TZID=America/Chicago:20250306T180000
DTEND;TZID=America/Chicago:20250306T210000
DTSTAMP:20260425T105414
CREATED:20250502T141608Z
LAST-MODIFIED:20250502T141608Z
UID:18142-1741284000-1741294800@hillcrestrvresortfl.com
SUMMARY:Bid Euchre
DESCRIPTION:
URL:https://hillcrestrvresortfl.com/event/bid-euchre-56/
END:VEVENT
BEGIN:VEVENT
DTSTART;TZID=America/Chicago:20250306T100000
DTEND;TZID=America/Chicago:20250306T170000
DTSTAMP:20260425T105414
CREATED:20250502T165034Z
LAST-MODIFIED:20250502T165034Z
UID:18289-1741255200-1741280400@hillcrestrvresortfl.com
SUMMARY:Pentanque
DESCRIPTION:
URL:https://hillcrestrvresortfl.com/event/pentanque-144/
END:VEVENT
BEGIN:VEVENT
DTSTART;TZID=America/Chicago:20250306T093000
DTEND;TZID=America/Chicago:20250306T110000
DTSTAMP:20260425T105414
CREATED:20250502T145357Z
LAST-MODIFIED:20250502T145357Z
UID:18206-1741253400-1741258800@hillcrestrvresortfl.com
SUMMARY:Shuffleboard
DESCRIPTION:
URL:https://hillcrestrvresortfl.com/event/shuffleboard-191/
END:VEVENT
BEGIN:VEVENT
DTSTART;TZID=America/Chicago:20250306T090000
DTEND;TZID=America/Chicago:20250306T103000
DTSTAMP:20260425T105414
CREATED:20250502T142514Z
LAST-MODIFIED:20250502T142514Z
UID:18176-1741251600-1741257000@hillcrestrvresortfl.com
SUMMARY:Choir Practice
DESCRIPTION:
URL:https://hillcrestrvresortfl.com/event/choir-practice-18/
END:VEVENT
BEGIN:VEVENT
DTSTART;TZID=America/Chicago:20250306T080000
DTEND;TZID=America/Chicago:20250306T110000
DTSTAMP:20260425T105414
CREATED:20250502T150412Z
LAST-MODIFIED:20250502T150412Z
UID:18246-1741248000-1741258800@hillcrestrvresortfl.com
SUMMARY:Water Aerobics
DESCRIPTION:
URL:https://hillcrestrvresortfl.com/event/water-aerobics-192/
END:VEVENT
BEGIN:VEVENT
DTSTART;TZID=America/Chicago:20250305T180000
DTEND;TZID=America/Chicago:20250305T210000
DTSTAMP:20260425T105414
CREATED:20250501T124336Z
LAST-MODIFIED:20250501T124336Z
UID:18092-1741197600-1741208400@hillcrestrvresortfl.com
SUMMARY:Game Night
DESCRIPTION:
URL:https://hillcrestrvresortfl.com/event/game-night-67/
END:VEVENT
BEGIN:VEVENT
DTSTART;TZID=America/Chicago:20250305T103000
DTEND;TZID=America/Chicago:20250305T170000
DTSTAMP:20260425T105414
CREATED:20250502T142309Z
LAST-MODIFIED:20250502T142309Z
UID:18168-1741170600-1741194000@hillcrestrvresortfl.com
SUMMARY:Golf
DESCRIPTION:
URL:https://hillcrestrvresortfl.com/event/golf-18/
END:VEVENT
BEGIN:VEVENT
DTSTART;TZID=America/Chicago:20250305T100000
DTEND;TZID=America/Chicago:20250305T170000
DTSTAMP:20260425T105414
CREATED:20250502T165017Z
LAST-MODIFIED:20250502T165017Z
UID:18287-1741168800-1741194000@hillcrestrvresortfl.com
SUMMARY:Pentanque
DESCRIPTION:
URL:https://hillcrestrvresortfl.com/event/pentanque-143/
END:VEVENT
BEGIN:VEVENT
DTSTART;TZID=America/Chicago:20250305T100000
DTEND;TZID=America/Chicago:20250305T130000
DTSTAMP:20260425T105414
CREATED:20250502T142109Z
LAST-MODIFIED:20250502T142109Z
UID:18160-1741168800-1741179600@hillcrestrvresortfl.com
SUMMARY:Scrabble
DESCRIPTION:
URL:https://hillcrestrvresortfl.com/event/scrabble-32/
END:VEVENT
BEGIN:VEVENT
DTSTART;TZID=America/Chicago:20250305T100000
DTEND;TZID=America/Chicago:20250305T130000
DTSTAMP:20260425T105414
CREATED:20250501T123503Z
LAST-MODIFIED:20250501T123503Z
UID:18060-1741168800-1741179600@hillcrestrvresortfl.com
SUMMARY:Women's Billiards
DESCRIPTION:
URL:https://hillcrestrvresortfl.com/event/womens-billiards-59/
END:VEVENT
BEGIN:VEVENT
DTSTART;TZID=America/Chicago:20250305T093000
DTEND;TZID=America/Chicago:20250305T110000
DTSTAMP:20260425T105414
CREATED:20250502T143834Z
LAST-MODIFIED:20250502T143834Z
UID:18202-1741167000-1741172400@hillcrestrvresortfl.com
SUMMARY:Shuffleboard
DESCRIPTION:
URL:https://hillcrestrvresortfl.com/event/shuffleboard-190/
END:VEVENT
BEGIN:VEVENT
DTSTART;TZID=America/Chicago:20250305T080000
DTEND;TZID=America/Chicago:20250305T110000
DTSTAMP:20260425T105414
CREATED:20250502T150352Z
LAST-MODIFIED:20250502T150352Z
UID:18244-1741161600-1741172400@hillcrestrvresortfl.com
SUMMARY:Water Aerobics
DESCRIPTION:
URL:https://hillcrestrvresortfl.com/event/water-aerobics-191/
END:VEVENT
BEGIN:VEVENT
DTSTART;TZID=America/Chicago:20250304T180000
DTEND;TZID=America/Chicago:20250304T210000
DTSTAMP:20260425T105414
CREATED:20250502T141816Z
LAST-MODIFIED:20250502T141816Z
UID:18150-1741111200-1741122000@hillcrestrvresortfl.com
SUMMARY:Texas Hold'Em
DESCRIPTION:
URL:https://hillcrestrvresortfl.com/event/texas-holdem-37/
END:VEVENT
END:VCALENDAR