BEGIN:VCALENDAR
VERSION:2.0
PRODID:-//Hillcrest RV Resort - ECPv6.15.20//NONSGML v1.0//EN
CALSCALE:GREGORIAN
METHOD:PUBLISH
X-ORIGINAL-URL:https://hillcrestrvresortfl.com
X-WR-CALDESC:Events for Hillcrest RV Resort
REFRESH-INTERVAL;VALUE=DURATION:PT1H
X-Robots-Tag:noindex
X-PUBLISHED-TTL:PT1H
BEGIN:VTIMEZONE
TZID:America/Chicago
BEGIN:DAYLIGHT
TZOFFSETFROM:-0600
TZOFFSETTO:-0500
TZNAME:CDT
DTSTART:20240310T080000
END:DAYLIGHT
BEGIN:STANDARD
TZOFFSETFROM:-0500
TZOFFSETTO:-0600
TZNAME:CST
DTSTART:20241103T070000
END:STANDARD
BEGIN:DAYLIGHT
TZOFFSETFROM:-0600
TZOFFSETTO:-0500
TZNAME:CDT
DTSTART:20250309T080000
END:DAYLIGHT
BEGIN:STANDARD
TZOFFSETFROM:-0500
TZOFFSETTO:-0600
TZNAME:CST
DTSTART:20251102T070000
END:STANDARD
BEGIN:DAYLIGHT
TZOFFSETFROM:-0600
TZOFFSETTO:-0500
TZNAME:CDT
DTSTART:20260308T080000
END:DAYLIGHT
BEGIN:STANDARD
TZOFFSETFROM:-0500
TZOFFSETTO:-0600
TZNAME:CST
DTSTART:20261101T070000
END:STANDARD
BEGIN:DAYLIGHT
TZOFFSETFROM:-0600
TZOFFSETTO:-0500
TZNAME:CDT
DTSTART:20270314T080000
END:DAYLIGHT
BEGIN:STANDARD
TZOFFSETFROM:-0500
TZOFFSETTO:-0600
TZNAME:CST
DTSTART:20271107T070000
END:STANDARD
END:VTIMEZONE
BEGIN:VEVENT
DTSTART;TZID=America/Chicago:20251226T180000
DTEND;TZID=America/Chicago:20251226T210000
DTSTAMP:20260423T192222
CREATED:20251128T200418Z
LAST-MODIFIED:20251128T200418Z
UID:18837-1766772000-1766782800@hillcrestrvresortfl.com
SUMMARY:Friday Night Jam
DESCRIPTION:
URL:https://hillcrestrvresortfl.com/event/friday-night-jam-11/
END:VEVENT
BEGIN:VEVENT
DTSTART;TZID=America/Chicago:20251227T080000
DTEND;TZID=America/Chicago:20251227T120000
DTSTAMP:20260423T192222
CREATED:20251128T164412Z
LAST-MODIFIED:20251128T164412Z
UID:18665-1766822400-1766836800@hillcrestrvresortfl.com
SUMMARY:Pickleball
DESCRIPTION:
URL:https://hillcrestrvresortfl.com/event/pickleball-275/
END:VEVENT
BEGIN:VEVENT
DTSTART;TZID=America/Chicago:20251228T080000
DTEND;TZID=America/Chicago:20251228T120000
DTSTAMP:20260423T192222
CREATED:20251128T164434Z
LAST-MODIFIED:20251128T164434Z
UID:18667-1766908800-1766923200@hillcrestrvresortfl.com
SUMMARY:Pickleball
DESCRIPTION:
URL:https://hillcrestrvresortfl.com/event/pickleball-276/
END:VEVENT
BEGIN:VEVENT
DTSTART;TZID=America/Chicago:20251228T100000
DTEND;TZID=America/Chicago:20251228T113000
DTSTAMP:20260423T192222
CREATED:20251129T153949Z
LAST-MODIFIED:20251129T153949Z
UID:18961-1766916000-1766921400@hillcrestrvresortfl.com
SUMMARY:Church
DESCRIPTION:
URL:https://hillcrestrvresortfl.com/event/church-47/
END:VEVENT
BEGIN:VEVENT
DTSTART;TZID=America/Chicago:20251228T180000
DTEND;TZID=America/Chicago:20251228T190000
DTSTAMP:20260423T192222
CREATED:20251128T185055Z
LAST-MODIFIED:20251128T185055Z
UID:18779-1766944800-1766948400@hillcrestrvresortfl.com
SUMMARY:Ice Cream Social
DESCRIPTION:
URL:https://hillcrestrvresortfl.com/event/ice-cream-social-25/
END:VEVENT
BEGIN:VEVENT
DTSTART;TZID=America/Chicago:20251228T190000
DTEND;TZID=America/Chicago:20251228T200000
DTSTAMP:20260423T192222
CREATED:20251128T185314Z
LAST-MODIFIED:20251128T185314Z
UID:18785-1766948400-1766952000@hillcrestrvresortfl.com
SUMMARY:Music By "Larry Beaudry"
DESCRIPTION:
URL:https://hillcrestrvresortfl.com/event/music-by-larry-beaudry/
END:VEVENT
BEGIN:VEVENT
DTSTART;TZID=America/Chicago:20251229T073000
DTEND;TZID=America/Chicago:20251229T090000
DTSTAMP:20260423T192222
CREATED:20251128T185627Z
LAST-MODIFIED:20251128T185627Z
UID:18793-1766993400-1766998800@hillcrestrvresortfl.com
SUMMARY:Breakfast
DESCRIPTION:
URL:https://hillcrestrvresortfl.com/event/breakfast-30/
END:VEVENT
BEGIN:VEVENT
DTSTART;TZID=America/Chicago:20251229T080000
DTEND;TZID=America/Chicago:20251229T120000
DTSTAMP:20260423T192222
CREATED:20251128T164455Z
LAST-MODIFIED:20251128T164455Z
UID:18669-1766995200-1767009600@hillcrestrvresortfl.com
SUMMARY:Pickleball
DESCRIPTION:
URL:https://hillcrestrvresortfl.com/event/pickleball-277/
END:VEVENT
BEGIN:VEVENT
DTSTART;TZID=America/Chicago:20251229T090000
DTEND;TZID=America/Chicago:20251229T120000
DTSTAMP:20260423T192222
CREATED:20251128T172105Z
LAST-MODIFIED:20251128T172105Z
UID:18713-1766998800-1767009600@hillcrestrvresortfl.com
SUMMARY:Horseshoes
DESCRIPTION:
URL:https://hillcrestrvresortfl.com/event/horseshoes-226/
END:VEVENT
BEGIN:VEVENT
DTSTART;TZID=America/Chicago:20251229T100000
DTEND;TZID=America/Chicago:20251229T110000
DTSTAMP:20260423T192222
CREATED:20251128T185856Z
LAST-MODIFIED:20251128T185856Z
UID:18801-1767002400-1767006000@hillcrestrvresortfl.com
SUMMARY:Dancercize
DESCRIPTION:
URL:https://hillcrestrvresortfl.com/event/dancercize-4/
END:VEVENT
BEGIN:VEVENT
DTSTART;TZID=America/Chicago:20251229T130000
DTEND;TZID=America/Chicago:20251229T150000
DTSTAMP:20260423T192222
CREATED:20251129T152419Z
LAST-MODIFIED:20251129T152419Z
UID:18935-1767013200-1767020400@hillcrestrvresortfl.com
SUMMARY:Cribbage
DESCRIPTION:
URL:https://hillcrestrvresortfl.com/event/cribbage-34/
END:VEVENT
BEGIN:VEVENT
DTSTART;TZID=America/Chicago:20251229T130000
DTEND;TZID=America/Chicago:20251229T160000
DTSTAMP:20260423T192222
CREATED:20251128T151610Z
LAST-MODIFIED:20251128T151610Z
UID:18595-1767013200-1767024000@hillcrestrvresortfl.com
SUMMARY:Quilting/Sewing/Knitting/Crocheting
DESCRIPTION:
URL:https://hillcrestrvresortfl.com/event/quilting-sewing-knitting-crocheting-19/
END:VEVENT
BEGIN:VEVENT
DTSTART;TZID=America/Chicago:20251229T180000
DTEND;TZID=America/Chicago:20251229T210000
DTSTAMP:20260423T192222
CREATED:20251128T152112Z
LAST-MODIFIED:20251128T152112Z
UID:18611-1767031200-1767042000@hillcrestrvresortfl.com
SUMMARY:Bingo
DESCRIPTION:
URL:https://hillcrestrvresortfl.com/event/bingo-71/
END:VEVENT
BEGIN:VEVENT
DTSTART;TZID=America/Chicago:20251229T180000
DTEND;TZID=America/Chicago:20251229T210000
DTSTAMP:20260423T192222
CREATED:20251128T204308Z
LAST-MODIFIED:20251128T204308Z
UID:18903-1767031200-1767042000@hillcrestrvresortfl.com
SUMMARY:Game Night
DESCRIPTION:
URL:https://hillcrestrvresortfl.com/event/game-night-85/
END:VEVENT
BEGIN:VEVENT
DTSTART;TZID=America/Chicago:20251229T180000
DTEND;TZID=America/Chicago:20251229T210000
DTSTAMP:20260423T192222
CREATED:20251129T152700Z
LAST-MODIFIED:20251129T152700Z
UID:18941-1767031200-1767042000@hillcrestrvresortfl.com
SUMMARY:Euchre
DESCRIPTION:
URL:https://hillcrestrvresortfl.com/event/euchre-11/
END:VEVENT
BEGIN:VEVENT
DTSTART;TZID=America/Chicago:20251229T180000
DTEND;TZID=America/Chicago:20251229T210000
DTSTAMP:20260423T192222
CREATED:20251129T153004Z
LAST-MODIFIED:20251129T153004Z
UID:18947-1767031200-1767042000@hillcrestrvresortfl.com
SUMMARY:Pinochle
DESCRIPTION:
URL:https://hillcrestrvresortfl.com/event/pinochle-3/
END:VEVENT
BEGIN:VEVENT
DTSTART;TZID=America/Chicago:20251230T080000
DTEND;TZID=America/Chicago:20251230T120000
DTSTAMP:20260423T192222
CREATED:20251128T164529Z
LAST-MODIFIED:20251128T164529Z
UID:18671-1767081600-1767096000@hillcrestrvresortfl.com
SUMMARY:Pickleball
DESCRIPTION:
URL:https://hillcrestrvresortfl.com/event/pickleball-278/
END:VEVENT
BEGIN:VEVENT
DTSTART;TZID=America/Chicago:20251230T090000
DTEND;TZID=America/Chicago:20251230T120000
DTSTAMP:20260423T192222
CREATED:20251128T172126Z
LAST-MODIFIED:20251128T172126Z
UID:18715-1767085200-1767096000@hillcrestrvresortfl.com
SUMMARY:Horseshoes
DESCRIPTION:
URL:https://hillcrestrvresortfl.com/event/horseshoes-227/
END:VEVENT
BEGIN:VEVENT
DTSTART;TZID=America/Chicago:20251230T093000
DTEND;TZID=America/Chicago:20251230T103000
DTSTAMP:20260423T192222
CREATED:20251128T172446Z
LAST-MODIFIED:20251128T172446Z
UID:18727-1767087000-1767090600@hillcrestrvresortfl.com
SUMMARY:One Stop Shop (OSS)
DESCRIPTION:
URL:https://hillcrestrvresortfl.com/event/one-stop-shop-oss-9/
END:VEVENT
BEGIN:VEVENT
DTSTART;TZID=America/Chicago:20251230T130000
DTEND;TZID=America/Chicago:20251230T143000
DTSTAMP:20260423T192222
CREATED:20251128T173805Z
LAST-MODIFIED:20251128T173805Z
UID:18759-1767099600-1767105000@hillcrestrvresortfl.com
SUMMARY:Line Dancing W/Dena
DESCRIPTION:
URL:https://hillcrestrvresortfl.com/event/line-dancing-w-dena-8/
END:VEVENT
BEGIN:VEVENT
DTSTART;TZID=America/Chicago:20251230T130000
DTEND;TZID=America/Chicago:20251230T150000
DTSTAMP:20260423T192222
CREATED:20251128T201421Z
LAST-MODIFIED:20251128T201421Z
UID:18863-1767099600-1767106800@hillcrestrvresortfl.com
SUMMARY:Men's Billiards
DESCRIPTION:
URL:https://hillcrestrvresortfl.com/event/mens-billiards-105/
END:VEVENT
BEGIN:VEVENT
DTSTART;TZID=America/Chicago:20251230T180000
DTEND;TZID=America/Chicago:20251230T210000
DTSTAMP:20260423T192222
CREATED:20251128T203611Z
LAST-MODIFIED:20251128T203611Z
UID:18879-1767117600-1767128400@hillcrestrvresortfl.com
SUMMARY:Bid Euchre
DESCRIPTION:
URL:https://hillcrestrvresortfl.com/event/bid-euchre-67/
END:VEVENT
BEGIN:VEVENT
DTSTART;TZID=America/Chicago:20251230T190000
DTEND;TZID=America/Chicago:20251230T210000
DTSTAMP:20260423T192222
CREATED:20251128T172928Z
LAST-MODIFIED:20251128T172928Z
UID:18737-1767121200-1767128400@hillcrestrvresortfl.com
SUMMARY:Karaoke
DESCRIPTION:
URL:https://hillcrestrvresortfl.com/event/karaoke-33/
END:VEVENT
BEGIN:VEVENT
DTSTART;TZID=America/Chicago:20251231T080000
DTEND;TZID=America/Chicago:20251231T120000
DTSTAMP:20260423T192222
CREATED:20251128T164551Z
LAST-MODIFIED:20251128T164551Z
UID:18673-1767168000-1767182400@hillcrestrvresortfl.com
SUMMARY:Pickleball
DESCRIPTION:
URL:https://hillcrestrvresortfl.com/event/pickleball-279/
END:VEVENT
BEGIN:VEVENT
DTSTART;TZID=America/Chicago:20251231T090000
DTEND;TZID=America/Chicago:20251231T120000
DTSTAMP:20260423T192222
CREATED:20251128T172150Z
LAST-MODIFIED:20251128T172150Z
UID:18717-1767171600-1767182400@hillcrestrvresortfl.com
SUMMARY:Horseshoes
DESCRIPTION:
URL:https://hillcrestrvresortfl.com/event/horseshoes-228/
END:VEVENT
BEGIN:VEVENT
DTSTART;TZID=America/Chicago:20251231T103000
DTEND;TZID=America/Chicago:20251231T133000
DTSTAMP:20260423T192222
CREATED:20251128T203852Z
LAST-MODIFIED:20251128T203852Z
UID:18889-1767177000-1767187800@hillcrestrvresortfl.com
SUMMARY:Golf
DESCRIPTION:
URL:https://hillcrestrvresortfl.com/event/golf-29/
END:VEVENT
BEGIN:VEVENT
DTSTART;TZID=America/Chicago:20251231T130000
DTEND;TZID=America/Chicago:20251231T150000
DTSTAMP:20260423T192222
CREATED:20251128T173205Z
LAST-MODIFIED:20251128T173205Z
UID:18745-1767186000-1767193200@hillcrestrvresortfl.com
SUMMARY:Fiddler's Jam
DESCRIPTION:
URL:https://hillcrestrvresortfl.com/event/fiddlers-jam-30/
END:VEVENT
BEGIN:VEVENT
DTSTART;TZID=America/Chicago:20251231T173000
DTEND;TZID=America/Chicago:20251231T210000
DTSTAMP:20260423T192222
CREATED:20251128T204340Z
LAST-MODIFIED:20251128T204340Z
UID:18905-1767202200-1767214800@hillcrestrvresortfl.com
SUMMARY:Game Night
DESCRIPTION:
URL:https://hillcrestrvresortfl.com/event/game-night-86/
END:VEVENT
BEGIN:VEVENT
DTSTART;TZID=America/Chicago:20251231T193000
DTEND;TZID=America/Chicago:20251231T233000
DTSTAMP:20260423T192222
CREATED:20251128T193420Z
LAST-MODIFIED:20251128T193420Z
UID:18823-1767209400-1767223800@hillcrestrvresortfl.com
SUMMARY:New Year's Eve Dance W/DJ Robert
DESCRIPTION:
URL:https://hillcrestrvresortfl.com/event/new-years-eve-dance-w-dj-robert/
END:VEVENT
BEGIN:VEVENT
DTSTART;TZID=America/Chicago:20260101T073000
DTEND;TZID=America/Chicago:20260101T170000
DTSTAMP:20260423T192222
CREATED:20260102T203004Z
LAST-MODIFIED:20260102T203004Z
UID:19296-1767252600-1767286800@hillcrestrvresortfl.com
SUMMARY:Pickleball
DESCRIPTION:
URL:https://hillcrestrvresortfl.com/event/pickleball-280/
END:VEVENT
END:VCALENDAR