BEGIN:VCALENDAR
VERSION:2.0
PRODID:-//Hillcrest RV Resort - ECPv6.15.20//NONSGML v1.0//EN
CALSCALE:GREGORIAN
METHOD:PUBLISH
X-WR-CALNAME:Hillcrest RV Resort
X-ORIGINAL-URL:https://hillcrestrvresortfl.com
X-WR-CALDESC:Events for Hillcrest RV Resort
REFRESH-INTERVAL;VALUE=DURATION:PT1H
X-Robots-Tag:noindex
X-PUBLISHED-TTL:PT1H
BEGIN:VTIMEZONE
TZID:America/Chicago
BEGIN:DAYLIGHT
TZOFFSETFROM:-0600
TZOFFSETTO:-0500
TZNAME:CDT
DTSTART:20240310T080000
END:DAYLIGHT
BEGIN:STANDARD
TZOFFSETFROM:-0500
TZOFFSETTO:-0600
TZNAME:CST
DTSTART:20241103T070000
END:STANDARD
BEGIN:DAYLIGHT
TZOFFSETFROM:-0600
TZOFFSETTO:-0500
TZNAME:CDT
DTSTART:20250309T080000
END:DAYLIGHT
BEGIN:STANDARD
TZOFFSETFROM:-0500
TZOFFSETTO:-0600
TZNAME:CST
DTSTART:20251102T070000
END:STANDARD
BEGIN:DAYLIGHT
TZOFFSETFROM:-0600
TZOFFSETTO:-0500
TZNAME:CDT
DTSTART:20260308T080000
END:DAYLIGHT
BEGIN:STANDARD
TZOFFSETFROM:-0500
TZOFFSETTO:-0600
TZNAME:CST
DTSTART:20261101T070000
END:STANDARD
END:VTIMEZONE
BEGIN:VEVENT
DTSTART;TZID=America/Chicago:20251125T093000
DTEND;TZID=America/Chicago:20251125T103000
DTSTAMP:20260423T193314
CREATED:20251029T165305Z
LAST-MODIFIED:20251029T165305Z
UID:18478-1764063000-1764066600@hillcrestrvresortfl.com
SUMMARY:OSS (One Stop Shopping)
DESCRIPTION:
URL:https://hillcrestrvresortfl.com/event/oss-one-stop-shopping-8/
END:VEVENT
BEGIN:VEVENT
DTSTART;TZID=America/Chicago:20251125T093000
DTEND;TZID=America/Chicago:20251125T103000
DTSTAMP:20260423T193314
CREATED:20251029T163815Z
LAST-MODIFIED:20251029T163815Z
UID:18448-1764063000-1764066600@hillcrestrvresortfl.com
SUMMARY:Shuffleboard
DESCRIPTION:
URL:https://hillcrestrvresortfl.com/event/shuffleboard-228/
END:VEVENT
BEGIN:VEVENT
DTSTART;TZID=America/Chicago:20251125T080000
DTEND;TZID=America/Chicago:20251125T100000
DTSTAMP:20260423T193314
CREATED:20251029T170924Z
LAST-MODIFIED:20251029T170924Z
UID:18540-1764057600-1764064800@hillcrestrvresortfl.com
SUMMARY:Pickleball
DESCRIPTION:
URL:https://hillcrestrvresortfl.com/event/pickleball-244/
END:VEVENT
BEGIN:VEVENT
DTSTART;TZID=America/Chicago:20251124T180000
DTEND;TZID=America/Chicago:20251124T210000
DTSTAMP:20260423T193314
CREATED:20251029T165356Z
LAST-MODIFIED:20251029T165356Z
UID:18480-1764007200-1764018000@hillcrestrvresortfl.com
SUMMARY:Bingo
DESCRIPTION:
URL:https://hillcrestrvresortfl.com/event/bingo-63/
END:VEVENT
BEGIN:VEVENT
DTSTART;TZID=America/Chicago:20251124T180000
DTEND;TZID=America/Chicago:20251124T210000
DTSTAMP:20260423T193314
CREATED:20251029T161531Z
LAST-MODIFIED:20251029T161531Z
UID:18362-1764007200-1764018000@hillcrestrvresortfl.com
SUMMARY:Game Night
DESCRIPTION:
URL:https://hillcrestrvresortfl.com/event/game-night-74/
END:VEVENT
BEGIN:VEVENT
DTSTART;TZID=America/Chicago:20251124T093000
DTEND;TZID=America/Chicago:20251124T103000
DTSTAMP:20260423T193314
CREATED:20251029T163755Z
LAST-MODIFIED:20251029T163755Z
UID:18446-1763976600-1763980200@hillcrestrvresortfl.com
SUMMARY:Shuffleboard
DESCRIPTION:
URL:https://hillcrestrvresortfl.com/event/shuffleboard-227/
END:VEVENT
BEGIN:VEVENT
DTSTART;TZID=America/Chicago:20251124T080000
DTEND;TZID=America/Chicago:20251124T100000
DTSTAMP:20260423T193314
CREATED:20251029T170831Z
LAST-MODIFIED:20251029T170831Z
UID:18536-1763971200-1763978400@hillcrestrvresortfl.com
SUMMARY:Pickleball
DESCRIPTION:
URL:https://hillcrestrvresortfl.com/event/pickleball-242/
END:VEVENT
BEGIN:VEVENT
DTSTART;TZID=America/Chicago:20251124T073000
DTEND;TZID=America/Chicago:20251124T083000
DTSTAMP:20260423T193314
CREATED:20251029T183414Z
LAST-MODIFIED:20251029T183414Z
UID:18576-1763969400-1763973000@hillcrestrvresortfl.com
SUMMARY:Breakfast
DESCRIPTION:
URL:https://hillcrestrvresortfl.com/event/breakfast-26/
END:VEVENT
BEGIN:VEVENT
DTSTART;TZID=America/Chicago:20251123T100000
DTEND;TZID=America/Chicago:20251123T110000
DTSTAMP:20260423T193314
CREATED:20251029T162354Z
LAST-MODIFIED:20251029T162354Z
UID:18390-1763892000-1763895600@hillcrestrvresortfl.com
SUMMARY:Church
DESCRIPTION:
URL:https://hillcrestrvresortfl.com/event/church-42/
END:VEVENT
BEGIN:VEVENT
DTSTART;TZID=America/Chicago:20251123T080000
DTEND;TZID=America/Chicago:20251123T100000
DTSTAMP:20260423T193314
CREATED:20251029T170811Z
LAST-MODIFIED:20251029T170811Z
UID:18534-1763884800-1763892000@hillcrestrvresortfl.com
SUMMARY:Pickleball
DESCRIPTION:
URL:https://hillcrestrvresortfl.com/event/pickleball-241/
END:VEVENT
BEGIN:VEVENT
DTSTART;TZID=America/Chicago:20251122T193000
DTEND;TZID=America/Chicago:20251122T223000
DTSTAMP:20260423T193314
CREATED:20251029T165701Z
LAST-MODIFIED:20251029T165701Z
UID:18488-1763839800-1763850600@hillcrestrvresortfl.com
SUMMARY:Charity Dance for Children's Cancer DJ Robert
DESCRIPTION:
URL:https://hillcrestrvresortfl.com/event/charity-dance-for-childrens-cancer-dj-robert/
END:VEVENT
BEGIN:VEVENT
DTSTART;TZID=America/Chicago:20251122T093000
DTEND;TZID=America/Chicago:20251122T103000
DTSTAMP:20260423T193314
CREATED:20251029T163737Z
LAST-MODIFIED:20251029T163737Z
UID:18444-1763803800-1763807400@hillcrestrvresortfl.com
SUMMARY:Shuffleboard
DESCRIPTION:
URL:https://hillcrestrvresortfl.com/event/shuffleboard-226/
END:VEVENT
BEGIN:VEVENT
DTSTART;TZID=America/Chicago:20251122T080000
DTEND;TZID=America/Chicago:20251122T100000
DTSTAMP:20260423T193314
CREATED:20251029T170752Z
LAST-MODIFIED:20251029T170752Z
UID:18532-1763798400-1763805600@hillcrestrvresortfl.com
SUMMARY:Pickleball
DESCRIPTION:
URL:https://hillcrestrvresortfl.com/event/pickleball-240/
END:VEVENT
BEGIN:VEVENT
DTSTART;TZID=America/Chicago:20251121T130000
DTEND;TZID=America/Chicago:20251121T160000
DTSTAMP:20260423T193314
CREATED:20251029T162558Z
LAST-MODIFIED:20251029T162558Z
UID:18398-1763730000-1763740800@hillcrestrvresortfl.com
SUMMARY:Bowling
DESCRIPTION:
URL:https://hillcrestrvresortfl.com/event/bowling-43/
END:VEVENT
BEGIN:VEVENT
DTSTART;TZID=America/Chicago:20251121T093000
DTEND;TZID=America/Chicago:20251121T103000
DTSTAMP:20260423T193314
CREATED:20251029T163708Z
LAST-MODIFIED:20251029T163708Z
UID:18442-1763717400-1763721000@hillcrestrvresortfl.com
SUMMARY:Shuffleboard
DESCRIPTION:
URL:https://hillcrestrvresortfl.com/event/shuffleboard-225/
END:VEVENT
BEGIN:VEVENT
DTSTART;TZID=America/Chicago:20251121T080000
DTEND;TZID=America/Chicago:20251121T100000
DTSTAMP:20260423T193314
CREATED:20251029T170724Z
LAST-MODIFIED:20251029T170724Z
UID:18530-1763712000-1763719200@hillcrestrvresortfl.com
SUMMARY:Pickleball
DESCRIPTION:
URL:https://hillcrestrvresortfl.com/event/pickleball-239/
END:VEVENT
BEGIN:VEVENT
DTSTART;TZID=America/Chicago:20251120T180000
DTEND;TZID=America/Chicago:20251120T210000
DTSTAMP:20260423T193314
CREATED:20251029T164922Z
LAST-MODIFIED:20251029T164922Z
UID:18466-1763661600-1763672400@hillcrestrvresortfl.com
SUMMARY:Bingo
DESCRIPTION:
URL:https://hillcrestrvresortfl.com/event/bingo-61/
END:VEVENT
BEGIN:VEVENT
DTSTART;TZID=America/Chicago:20251120T180000
DTEND;TZID=America/Chicago:20251120T210000
DTSTAMP:20260423T193314
CREATED:20251029T161922Z
LAST-MODIFIED:20251029T161922Z
UID:18376-1763661600-1763672400@hillcrestrvresortfl.com
SUMMARY:Texas Hold'Em
DESCRIPTION:
URL:https://hillcrestrvresortfl.com/event/texas-holdem-43/
END:VEVENT
BEGIN:VEVENT
DTSTART;TZID=America/Chicago:20251120T150000
DTEND;TZID=America/Chicago:20251120T170000
DTSTAMP:20260423T193314
CREATED:20251029T164808Z
LAST-MODIFIED:20251029T164808Z
UID:18462-1763650800-1763658000@hillcrestrvresortfl.com
SUMMARY:Acoustic Jam
DESCRIPTION:
URL:https://hillcrestrvresortfl.com/event/acoustic-jam-35/
END:VEVENT
BEGIN:VEVENT
DTSTART;TZID=America/Chicago:20251120T093000
DTEND;TZID=America/Chicago:20251120T103000
DTSTAMP:20260423T193314
CREATED:20251029T163644Z
LAST-MODIFIED:20251029T163644Z
UID:18440-1763631000-1763634600@hillcrestrvresortfl.com
SUMMARY:Shuffleboard
DESCRIPTION:
URL:https://hillcrestrvresortfl.com/event/shuffleboard-224/
END:VEVENT
BEGIN:VEVENT
DTSTART;TZID=America/Chicago:20251120T090000
DTEND;TZID=America/Chicago:20251120T100000
DTSTAMP:20260423T193314
CREATED:20251029T162141Z
LAST-MODIFIED:20251029T162141Z
UID:18384-1763629200-1763632800@hillcrestrvresortfl.com
SUMMARY:Choir Practice
DESCRIPTION:
URL:https://hillcrestrvresortfl.com/event/choir-practice-24/
END:VEVENT
BEGIN:VEVENT
DTSTART;TZID=America/Chicago:20251120T080000
DTEND;TZID=America/Chicago:20251120T100000
DTSTAMP:20260423T193314
CREATED:20251029T170658Z
LAST-MODIFIED:20251029T170658Z
UID:18528-1763625600-1763632800@hillcrestrvresortfl.com
SUMMARY:Pickleball
DESCRIPTION:
URL:https://hillcrestrvresortfl.com/event/pickleball-238/
END:VEVENT
BEGIN:VEVENT
DTSTART;TZID=America/Chicago:20251119T180000
DTEND;TZID=America/Chicago:20251119T210000
DTSTAMP:20260423T193314
CREATED:20251029T161659Z
LAST-MODIFIED:20251029T161659Z
UID:18368-1763575200-1763586000@hillcrestrvresortfl.com
SUMMARY:Game Night
DESCRIPTION:
URL:https://hillcrestrvresortfl.com/event/game-night-77/
END:VEVENT
BEGIN:VEVENT
DTSTART;TZID=America/Chicago:20251119T103000
DTEND;TZID=America/Chicago:20251119T133000
DTSTAMP:20260423T193314
CREATED:20251029T162753Z
LAST-MODIFIED:20251029T162753Z
UID:18404-1763548200-1763559000@hillcrestrvresortfl.com
SUMMARY:Golf
DESCRIPTION:
URL:https://hillcrestrvresortfl.com/event/golf-23/
END:VEVENT
BEGIN:VEVENT
DTSTART;TZID=America/Chicago:20251119T093000
DTEND;TZID=America/Chicago:20251119T103000
DTSTAMP:20260423T193314
CREATED:20251029T163612Z
LAST-MODIFIED:20251029T163612Z
UID:18438-1763544600-1763548200@hillcrestrvresortfl.com
SUMMARY:Shuffleboard
DESCRIPTION:
URL:https://hillcrestrvresortfl.com/event/shuffleboard-223/
END:VEVENT
BEGIN:VEVENT
DTSTART;TZID=America/Chicago:20251119T080000
DTEND;TZID=America/Chicago:20251119T100000
DTSTAMP:20260423T193314
CREATED:20251029T170619Z
LAST-MODIFIED:20251029T170619Z
UID:18526-1763539200-1763546400@hillcrestrvresortfl.com
SUMMARY:Pickleball
DESCRIPTION:
URL:https://hillcrestrvresortfl.com/event/pickleball-237/
END:VEVENT
BEGIN:VEVENT
DTSTART;TZID=America/Chicago:20251118T120000
DTEND;TZID=America/Chicago:20251118T130000
DTSTAMP:20260423T193314
CREATED:20251029T183612Z
LAST-MODIFIED:20251029T183612Z
UID:18580-1763467200-1763470800@hillcrestrvresortfl.com
SUMMARY:Potluck and Nickel Bingo
DESCRIPTION:
URL:https://hillcrestrvresortfl.com/event/potluck-and-nickel-bingo/
END:VEVENT
BEGIN:VEVENT
DTSTART;TZID=America/Chicago:20251118T110000
DTEND;TZID=America/Chicago:20251118T120000
DTSTAMP:20260423T193314
CREATED:20251029T183257Z
LAST-MODIFIED:20251029T183257Z
UID:18572-1763463600-1763467200@hillcrestrvresortfl.com
SUMMARY:Missions Meeting
DESCRIPTION:
URL:https://hillcrestrvresortfl.com/event/missions-meeting-2/
END:VEVENT
BEGIN:VEVENT
DTSTART;TZID=America/Chicago:20251118T093000
DTEND;TZID=America/Chicago:20251118T103000
DTSTAMP:20260423T193314
CREATED:20251029T165239Z
LAST-MODIFIED:20251029T165239Z
UID:18476-1763458200-1763461800@hillcrestrvresortfl.com
SUMMARY:OSS (One Stop Shopping)
DESCRIPTION:
URL:https://hillcrestrvresortfl.com/event/oss-one-stop-shopping-7/
END:VEVENT
BEGIN:VEVENT
DTSTART;TZID=America/Chicago:20251118T093000
DTEND;TZID=America/Chicago:20251118T103000
DTSTAMP:20260423T193314
CREATED:20251029T163552Z
LAST-MODIFIED:20251029T163552Z
UID:18436-1763458200-1763461800@hillcrestrvresortfl.com
SUMMARY:Shuffleboard
DESCRIPTION:
URL:https://hillcrestrvresortfl.com/event/shuffleboard-222/
END:VEVENT
END:VCALENDAR