BEGIN:VCALENDAR
VERSION:2.0
PRODID:-//Hillcrest RV Resort - ECPv6.15.20//NONSGML v1.0//EN
CALSCALE:GREGORIAN
METHOD:PUBLISH
X-ORIGINAL-URL:https://hillcrestrvresortfl.com
X-WR-CALDESC:Events for Hillcrest RV Resort
REFRESH-INTERVAL;VALUE=DURATION:PT1H
X-Robots-Tag:noindex
X-PUBLISHED-TTL:PT1H
BEGIN:VTIMEZONE
TZID:America/Chicago
BEGIN:DAYLIGHT
TZOFFSETFROM:-0600
TZOFFSETTO:-0500
TZNAME:CDT
DTSTART:20250309T080000
END:DAYLIGHT
BEGIN:STANDARD
TZOFFSETFROM:-0500
TZOFFSETTO:-0600
TZNAME:CST
DTSTART:20251102T070000
END:STANDARD
BEGIN:DAYLIGHT
TZOFFSETFROM:-0600
TZOFFSETTO:-0500
TZNAME:CDT
DTSTART:20260308T080000
END:DAYLIGHT
BEGIN:STANDARD
TZOFFSETFROM:-0500
TZOFFSETTO:-0600
TZNAME:CST
DTSTART:20261101T070000
END:STANDARD
BEGIN:DAYLIGHT
TZOFFSETFROM:-0600
TZOFFSETTO:-0500
TZNAME:CDT
DTSTART:20270314T080000
END:DAYLIGHT
BEGIN:STANDARD
TZOFFSETFROM:-0500
TZOFFSETTO:-0600
TZNAME:CST
DTSTART:20271107T070000
END:STANDARD
END:VTIMEZONE
BEGIN:VEVENT
DTSTART;TZID=America/Chicago:20260121T180000
DTEND;TZID=America/Chicago:20260121T210000
DTSTAMP:20260423T180412
CREATED:20260107T164407Z
LAST-MODIFIED:20260107T164407Z
UID:19539-1769018400-1769029200@hillcrestrvresortfl.com
SUMMARY:Darts
DESCRIPTION:
URL:https://hillcrestrvresortfl.com/event/darts-28/
END:VEVENT
BEGIN:VEVENT
DTSTART;TZID=America/Chicago:20260122T080000
DTEND;TZID=America/Chicago:20260122T170000
DTSTAMP:20260423T180412
CREATED:20260102T204337Z
LAST-MODIFIED:20260102T204337Z
UID:19338-1769068800-1769101200@hillcrestrvresortfl.com
SUMMARY:Pickleball
DESCRIPTION:
URL:https://hillcrestrvresortfl.com/event/pickleball-301/
END:VEVENT
BEGIN:VEVENT
DTSTART;TZID=America/Chicago:20260122T083000
DTEND;TZID=America/Chicago:20260122T093000
DTSTAMP:20260423T180412
CREATED:20260102T170735Z
LAST-MODIFIED:20260102T170735Z
UID:19152-1769070600-1769074200@hillcrestrvresortfl.com
SUMMARY:Choir Practice
DESCRIPTION:
URL:https://hillcrestrvresortfl.com/event/choir-practice-32/
END:VEVENT
BEGIN:VEVENT
DTSTART;TZID=America/Chicago:20260122T090000
DTEND;TZID=America/Chicago:20260122T110000
DTSTAMP:20260423T180412
CREATED:20260107T131225Z
LAST-MODIFIED:20260107T131225Z
UID:19395-1769072400-1769079600@hillcrestrvresortfl.com
SUMMARY:Horseshoes
DESCRIPTION:
URL:https://hillcrestrvresortfl.com/event/horseshoes-247/
END:VEVENT
BEGIN:VEVENT
DTSTART;TZID=America/Chicago:20260122T090000
DTEND;TZID=America/Chicago:20260122T120000
DTSTAMP:20260423T180412
CREATED:20260102T134647Z
LAST-MODIFIED:20260102T134647Z
UID:19066-1769072400-1769083200@hillcrestrvresortfl.com
SUMMARY:Water Exercises
DESCRIPTION:
URL:https://hillcrestrvresortfl.com/event/water-exercises-19/
END:VEVENT
BEGIN:VEVENT
DTSTART;TZID=America/Chicago:20260122T093000
DTEND;TZID=America/Chicago:20260122T110000
DTSTAMP:20260423T180412
CREATED:20260102T133353Z
LAST-MODIFIED:20260102T133353Z
UID:19010-1769074200-1769079600@hillcrestrvresortfl.com
SUMMARY:Shuffleboard
DESCRIPTION:
URL:https://hillcrestrvresortfl.com/event/shuffleboard-251/
END:VEVENT
BEGIN:VEVENT
DTSTART;TZID=America/Chicago:20260122T100000
DTEND;TZID=America/Chicago:20260122T110000
DTSTAMP:20260423T180412
CREATED:20260107T165510Z
LAST-MODIFIED:20260107T165510Z
UID:19547-1769076000-1769079600@hillcrestrvresortfl.com
SUMMARY:Drumming Classes
DESCRIPTION:
URL:https://hillcrestrvresortfl.com/event/drumming-classes-3/
END:VEVENT
BEGIN:VEVENT
DTSTART;TZID=America/Chicago:20260122T100000
DTEND;TZID=America/Chicago:20260122T120000
DTSTAMP:20260423T180412
CREATED:20260102T142501Z
LAST-MODIFIED:20260102T142501Z
UID:19126-1769076000-1769083200@hillcrestrvresortfl.com
SUMMARY:Pentanque
DESCRIPTION:
URL:https://hillcrestrvresortfl.com/event/pentanque-191/
END:VEVENT
BEGIN:VEVENT
DTSTART;TZID=America/Chicago:20260122T130000
DTEND;TZID=America/Chicago:20260122T143000
DTSTAMP:20260423T180412
CREATED:20260107T133325Z
LAST-MODIFIED:20260107T133325Z
UID:19419-1769086800-1769092200@hillcrestrvresortfl.com
SUMMARY:Line Dancing W/Dena
DESCRIPTION:
URL:https://hillcrestrvresortfl.com/event/line-dancing-w-dena-12/
END:VEVENT
BEGIN:VEVENT
DTSTART;TZID=America/Chicago:20260122T150000
DTEND;TZID=America/Chicago:20260122T170000
DTSTAMP:20260423T180412
CREATED:20260107T133951Z
LAST-MODIFIED:20260107T133951Z
UID:19429-1769094000-1769101200@hillcrestrvresortfl.com
SUMMARY:Acoustic Jam
DESCRIPTION:
URL:https://hillcrestrvresortfl.com/event/acoustic-jam-42/
END:VEVENT
BEGIN:VEVENT
DTSTART;TZID=America/Chicago:20260122T180000
DTEND;TZID=America/Chicago:20260122T210000
DTSTAMP:20260423T180412
CREATED:20260102T171417Z
LAST-MODIFIED:20260102T171417Z
UID:19168-1769104800-1769115600@hillcrestrvresortfl.com
SUMMARY:Bid Euchre
DESCRIPTION:
URL:https://hillcrestrvresortfl.com/event/bid-euchre-74/
END:VEVENT
BEGIN:VEVENT
DTSTART;TZID=America/Chicago:20260122T180000
DTEND;TZID=America/Chicago:20260122T210000
DTSTAMP:20260423T180412
CREATED:20260102T202727Z
LAST-MODIFIED:20260102T202727Z
UID:19292-1769104800-1769115600@hillcrestrvresortfl.com
SUMMARY:Texas Hold'Em
DESCRIPTION:
URL:https://hillcrestrvresortfl.com/event/texas-holdem-50/
END:VEVENT
BEGIN:VEVENT
DTSTART;TZID=America/Chicago:20260122T183000
DTEND;TZID=America/Chicago:20260122T210000
DTSTAMP:20260423T180412
CREATED:20260107T174545Z
LAST-MODIFIED:20260107T174545Z
UID:19555-1769106600-1769115600@hillcrestrvresortfl.com
SUMMARY:Bingo
DESCRIPTION:
URL:https://hillcrestrvresortfl.com/event/bingo-74/
END:VEVENT
BEGIN:VEVENT
DTSTART;TZID=America/Chicago:20260123T080000
DTEND;TZID=America/Chicago:20260123T170000
DTSTAMP:20260423T180412
CREATED:20260102T204349Z
LAST-MODIFIED:20260102T204349Z
UID:19340-1769155200-1769187600@hillcrestrvresortfl.com
SUMMARY:Pickleball
DESCRIPTION:
URL:https://hillcrestrvresortfl.com/event/pickleball-302/
END:VEVENT
BEGIN:VEVENT
DTSTART;TZID=America/Chicago:20260123T090000
DTEND;TZID=America/Chicago:20260123T100000
DTSTAMP:20260423T180412
CREATED:20260107T135233Z
LAST-MODIFIED:20260107T135233Z
UID:19445-1769158800-1769162400@hillcrestrvresortfl.com
SUMMARY:Bone Builder Exercises
DESCRIPTION:
URL:https://hillcrestrvresortfl.com/event/bone-builder-exercises-23/
END:VEVENT
BEGIN:VEVENT
DTSTART;TZID=America/Chicago:20260123T090000
DTEND;TZID=America/Chicago:20260123T110000
DTSTAMP:20260423T180412
CREATED:20260107T131246Z
LAST-MODIFIED:20260107T131246Z
UID:19397-1769158800-1769166000@hillcrestrvresortfl.com
SUMMARY:Horseshoes
DESCRIPTION:
URL:https://hillcrestrvresortfl.com/event/horseshoes-248/
END:VEVENT
BEGIN:VEVENT
DTSTART;TZID=America/Chicago:20260123T090000
DTEND;TZID=America/Chicago:20260123T120000
DTSTAMP:20260423T180412
CREATED:20260102T134715Z
LAST-MODIFIED:20260102T134715Z
UID:19068-1769158800-1769169600@hillcrestrvresortfl.com
SUMMARY:Water Exercises
DESCRIPTION:
URL:https://hillcrestrvresortfl.com/event/water-exercises-20/
END:VEVENT
BEGIN:VEVENT
DTSTART;TZID=America/Chicago:20260123T093000
DTEND;TZID=America/Chicago:20260123T110000
DTSTAMP:20260423T180412
CREATED:20260102T133415Z
LAST-MODIFIED:20260102T133415Z
UID:19012-1769160600-1769166000@hillcrestrvresortfl.com
SUMMARY:Shuffleboard
DESCRIPTION:
URL:https://hillcrestrvresortfl.com/event/shuffleboard-252/
END:VEVENT
BEGIN:VEVENT
DTSTART;TZID=America/Chicago:20260123T100000
DTEND;TZID=America/Chicago:20260123T110000
DTSTAMP:20260423T180412
CREATED:20260102T172056Z
LAST-MODIFIED:20260102T172056Z
UID:19192-1769162400-1769166000@hillcrestrvresortfl.com
SUMMARY:Women's Billiards
DESCRIPTION:
URL:https://hillcrestrvresortfl.com/event/womens-billiards-76/
END:VEVENT
BEGIN:VEVENT
DTSTART;TZID=America/Chicago:20260123T100000
DTEND;TZID=America/Chicago:20260123T120000
DTSTAMP:20260423T180412
CREATED:20260102T142524Z
LAST-MODIFIED:20260102T142524Z
UID:19128-1769162400-1769169600@hillcrestrvresortfl.com
SUMMARY:Pentanque
DESCRIPTION:
URL:https://hillcrestrvresortfl.com/event/pentanque-192/
END:VEVENT
BEGIN:VEVENT
DTSTART;TZID=America/Chicago:20260123T110000
DTEND;TZID=America/Chicago:20260123T130000
DTSTAMP:20260423T180412
CREATED:20260107T141139Z
LAST-MODIFIED:20260107T141139Z
UID:19457-1769166000-1769173200@hillcrestrvresortfl.com
SUMMARY:Rock Painting
DESCRIPTION:
URL:https://hillcrestrvresortfl.com/event/rock-painting-34/
END:VEVENT
BEGIN:VEVENT
DTSTART;TZID=America/Chicago:20260123T123000
DTEND;TZID=America/Chicago:20260123T150000
DTSTAMP:20260423T180412
CREATED:20260102T172509Z
LAST-MODIFIED:20260102T172509Z
UID:19204-1769171400-1769180400@hillcrestrvresortfl.com
SUMMARY:Bowling
DESCRIPTION:
URL:https://hillcrestrvresortfl.com/event/bowling-51/
END:VEVENT
BEGIN:VEVENT
DTSTART;TZID=America/Chicago:20260123T130000
DTEND;TZID=America/Chicago:20260123T160000
DTSTAMP:20260423T180412
CREATED:20260102T192241Z
LAST-MODIFIED:20260102T192241Z
UID:19214-1769173200-1769184000@hillcrestrvresortfl.com
SUMMARY:Hands & Foot
DESCRIPTION:
URL:https://hillcrestrvresortfl.com/event/hands-foot-4/
END:VEVENT
BEGIN:VEVENT
DTSTART;TZID=America/Chicago:20260123T150000
DTEND;TZID=America/Chicago:20260123T170000
DTSTAMP:20260423T180412
CREATED:20260107T180119Z
LAST-MODIFIED:20260107T180119Z
UID:19567-1769180400-1769187600@hillcrestrvresortfl.com
SUMMARY:Card Bingo
DESCRIPTION:
URL:https://hillcrestrvresortfl.com/event/card-bingo-8/
END:VEVENT
BEGIN:VEVENT
DTSTART;TZID=America/Chicago:20260123T173000
DTEND;TZID=America/Chicago:20260123T210000
DTSTAMP:20260423T180412
CREATED:20260102T192505Z
LAST-MODIFIED:20260102T192505Z
UID:19224-1769189400-1769202000@hillcrestrvresortfl.com
SUMMARY:Board Games
DESCRIPTION:
URL:https://hillcrestrvresortfl.com/event/board-games-4/
END:VEVENT
BEGIN:VEVENT
DTSTART;TZID=America/Chicago:20260123T180000
DTEND;TZID=America/Chicago:20260123T210000
DTSTAMP:20260423T180412
CREATED:20260107T141348Z
LAST-MODIFIED:20260107T141348Z
UID:19465-1769191200-1769202000@hillcrestrvresortfl.com
SUMMARY:Jam
DESCRIPTION:
URL:https://hillcrestrvresortfl.com/event/jam-20/
END:VEVENT
BEGIN:VEVENT
DTSTART;TZID=America/Chicago:20260124T080000
DTEND;TZID=America/Chicago:20260124T140000
DTSTAMP:20260423T180412
CREATED:20260107T183753Z
LAST-MODIFIED:20260107T183753Z
UID:19595-1769241600-1769263200@hillcrestrvresortfl.com
SUMMARY:Can/Am Day
DESCRIPTION:
URL:https://hillcrestrvresortfl.com/event/can-am-day-3/
END:VEVENT
BEGIN:VEVENT
DTSTART;TZID=America/Chicago:20260124T080000
DTEND;TZID=America/Chicago:20260124T170000
DTSTAMP:20260423T180412
CREATED:20260102T204405Z
LAST-MODIFIED:20260102T204405Z
UID:19342-1769241600-1769274000@hillcrestrvresortfl.com
SUMMARY:Pickleball
DESCRIPTION:
URL:https://hillcrestrvresortfl.com/event/pickleball-303/
END:VEVENT
BEGIN:VEVENT
DTSTART;TZID=America/Chicago:20260124T090000
DTEND;TZID=America/Chicago:20260124T110000
DTSTAMP:20260423T180412
CREATED:20260107T131305Z
LAST-MODIFIED:20260107T131305Z
UID:19399-1769245200-1769252400@hillcrestrvresortfl.com
SUMMARY:Horseshoes
DESCRIPTION:
URL:https://hillcrestrvresortfl.com/event/horseshoes-249/
END:VEVENT
BEGIN:VEVENT
DTSTART;TZID=America/Chicago:20260124T090000
DTEND;TZID=America/Chicago:20260124T120000
DTSTAMP:20260423T180412
CREATED:20260102T134750Z
LAST-MODIFIED:20260102T134750Z
UID:19070-1769245200-1769256000@hillcrestrvresortfl.com
SUMMARY:Water Exercises
DESCRIPTION:
URL:https://hillcrestrvresortfl.com/event/water-exercises-21/
END:VEVENT
END:VCALENDAR