BEGIN:VCALENDAR
VERSION:2.0
PRODID:-//Hillcrest RV Resort - ECPv6.15.20//NONSGML v1.0//EN
CALSCALE:GREGORIAN
METHOD:PUBLISH
X-WR-CALNAME:Hillcrest RV Resort
X-ORIGINAL-URL:https://hillcrestrvresortfl.com
X-WR-CALDESC:Events for Hillcrest RV Resort
REFRESH-INTERVAL;VALUE=DURATION:PT1H
X-Robots-Tag:noindex
X-PUBLISHED-TTL:PT1H
BEGIN:VTIMEZONE
TZID:America/Chicago
BEGIN:DAYLIGHT
TZOFFSETFROM:-0600
TZOFFSETTO:-0500
TZNAME:CDT
DTSTART:20240310T080000
END:DAYLIGHT
BEGIN:STANDARD
TZOFFSETFROM:-0500
TZOFFSETTO:-0600
TZNAME:CST
DTSTART:20241103T070000
END:STANDARD
BEGIN:DAYLIGHT
TZOFFSETFROM:-0600
TZOFFSETTO:-0500
TZNAME:CDT
DTSTART:20250309T080000
END:DAYLIGHT
BEGIN:STANDARD
TZOFFSETFROM:-0500
TZOFFSETTO:-0600
TZNAME:CST
DTSTART:20251102T070000
END:STANDARD
BEGIN:DAYLIGHT
TZOFFSETFROM:-0600
TZOFFSETTO:-0500
TZNAME:CDT
DTSTART:20260308T080000
END:DAYLIGHT
BEGIN:STANDARD
TZOFFSETFROM:-0500
TZOFFSETTO:-0600
TZNAME:CST
DTSTART:20261101T070000
END:STANDARD
END:VTIMEZONE
BEGIN:VEVENT
DTSTART;TZID=America/Chicago:20250203T100000
DTEND;TZID=America/Chicago:20250203T110000
DTSTAMP:20260425T232808
CREATED:20250114T140622Z
LAST-MODIFIED:20250114T140644Z
UID:17464-1738576800-1738580400@hillcrestrvresortfl.com
SUMMARY:Association Meeting
DESCRIPTION:
URL:https://hillcrestrvresortfl.com/event/association-meeting-9/
END:VEVENT
BEGIN:VEVENT
DTSTART;TZID=America/Chicago:20250203T100000
DTEND;TZID=America/Chicago:20250203T120000
DTSTAMP:20260425T232808
CREATED:20250115T200741Z
LAST-MODIFIED:20250115T200741Z
UID:17883-1738576800-1738584000@hillcrestrvresortfl.com
SUMMARY:Womens' Billiards
DESCRIPTION:
URL:https://hillcrestrvresortfl.com/event/womens-billiards-43/
END:VEVENT
BEGIN:VEVENT
DTSTART;TZID=America/Chicago:20250203T100000
DTEND;TZID=America/Chicago:20250203T170000
DTSTAMP:20260425T232808
CREATED:20250115T192834Z
LAST-MODIFIED:20250115T192834Z
UID:17823-1738576800-1738602000@hillcrestrvresortfl.com
SUMMARY:Pentanque
DESCRIPTION:
URL:https://hillcrestrvresortfl.com/event/pentanque-113/
END:VEVENT
BEGIN:VEVENT
DTSTART;TZID=America/Chicago:20250203T130000
DTEND;TZID=America/Chicago:20250203T170000
DTSTAMP:20260425T232808
CREATED:20250114T141021Z
LAST-MODIFIED:20250114T141021Z
UID:17474-1738587600-1738602000@hillcrestrvresortfl.com
SUMMARY:Quilting Sewing Knitting Crocheting
DESCRIPTION:
URL:https://hillcrestrvresortfl.com/event/quilting-sewing-knitting-crocheting-11/
END:VEVENT
BEGIN:VEVENT
DTSTART;TZID=America/Chicago:20250203T130000
DTEND;TZID=America/Chicago:20250203T170000
DTSTAMP:20260425T232808
CREATED:20250114T141252Z
LAST-MODIFIED:20250114T141252Z
UID:17482-1738587600-1738602000@hillcrestrvresortfl.com
SUMMARY:Watercolor
DESCRIPTION:
URL:https://hillcrestrvresortfl.com/event/watercolor-5/
END:VEVENT
BEGIN:VEVENT
DTSTART;TZID=America/Chicago:20250203T130000
DTEND;TZID=America/Chicago:20250203T180000
DTSTAMP:20260425T232808
CREATED:20250115T201233Z
LAST-MODIFIED:20250115T201233Z
UID:17907-1738587600-1738605600@hillcrestrvresortfl.com
SUMMARY:Cribbage
DESCRIPTION:
URL:https://hillcrestrvresortfl.com/event/cribbage-23/
END:VEVENT
BEGIN:VEVENT
DTSTART;TZID=America/Chicago:20250203T180000
DTEND;TZID=America/Chicago:20250203T210000
DTSTAMP:20260425T232808
CREATED:20250115T201424Z
LAST-MODIFIED:20250115T201424Z
UID:17915-1738605600-1738616400@hillcrestrvresortfl.com
SUMMARY:Game Night
DESCRIPTION:
URL:https://hillcrestrvresortfl.com/event/game-night-55/
END:VEVENT
BEGIN:VEVENT
DTSTART;TZID=America/Chicago:20250203T180000
DTEND;TZID=America/Chicago:20250203T210000
DTSTAMP:20260425T232808
CREATED:20250115T201825Z
LAST-MODIFIED:20250115T201825Z
UID:17931-1738605600-1738616400@hillcrestrvresortfl.com
SUMMARY:Mixed Billiards
DESCRIPTION:
URL:https://hillcrestrvresortfl.com/event/mixed-billiards-16/
END:VEVENT
BEGIN:VEVENT
DTSTART;TZID=America/Chicago:20250203T183000
DTEND;TZID=America/Chicago:20250203T213000
DTSTAMP:20260425T232808
CREATED:20250114T141613Z
LAST-MODIFIED:20250114T141613Z
UID:17490-1738607400-1738618200@hillcrestrvresortfl.com
SUMMARY:Bingo
DESCRIPTION:
URL:https://hillcrestrvresortfl.com/event/bingo-53/
END:VEVENT
BEGIN:VEVENT
DTSTART;TZID=America/Chicago:20250204T080000
DTEND;TZID=America/Chicago:20250204T120000
DTSTAMP:20260425T232808
CREATED:20250115T192037Z
LAST-MODIFIED:20250115T192037Z
UID:17781-1738656000-1738670400@hillcrestrvresortfl.com
SUMMARY:Water Aerobics
DESCRIPTION:
URL:https://hillcrestrvresortfl.com/event/water-aerobics-170/
END:VEVENT
BEGIN:VEVENT
DTSTART;TZID=America/Chicago:20250204T080000
DTEND;TZID=America/Chicago:20250204T220000
DTSTAMP:20260425T232808
CREATED:20250114T165836Z
LAST-MODIFIED:20250114T165836Z
UID:17640-1738656000-1738706400@hillcrestrvresortfl.com
SUMMARY:Pickleball
DESCRIPTION:
URL:https://hillcrestrvresortfl.com/event/pickleball-194/
END:VEVENT
BEGIN:VEVENT
DTSTART;TZID=America/Chicago:20250204T090000
DTEND;TZID=America/Chicago:20250204T170000
DTSTAMP:20260425T232808
CREATED:20250114T174824Z
LAST-MODIFIED:20250114T174824Z
UID:17694-1738659600-1738688400@hillcrestrvresortfl.com
SUMMARY:Horseshoes
DESCRIPTION:
URL:https://hillcrestrvresortfl.com/event/horseshoes-175/
END:VEVENT
BEGIN:VEVENT
DTSTART;TZID=America/Chicago:20250204T090000
DTEND;TZID=America/Chicago:20250204T170000
DTSTAMP:20260425T232808
CREATED:20250115T191425Z
LAST-MODIFIED:20250115T191425Z
UID:17741-1738659600-1738688400@hillcrestrvresortfl.com
SUMMARY:Shuffleboard
DESCRIPTION:
URL:https://hillcrestrvresortfl.com/event/shuffleboard-169/
END:VEVENT
BEGIN:VEVENT
DTSTART;TZID=America/Chicago:20250204T093000
DTEND;TZID=America/Chicago:20250204T103000
DTSTAMP:20260425T232808
CREATED:20250114T142306Z
LAST-MODIFIED:20250114T142306Z
UID:17504-1738661400-1738665000@hillcrestrvresortfl.com
SUMMARY:One Stop Shopping (OSS)
DESCRIPTION:
URL:https://hillcrestrvresortfl.com/event/one-stop-shopping-oss-5/
END:VEVENT
BEGIN:VEVENT
DTSTART;TZID=America/Chicago:20250204T100000
DTEND;TZID=America/Chicago:20250204T170000
DTSTAMP:20260425T232808
CREATED:20250115T192852Z
LAST-MODIFIED:20250115T192852Z
UID:17825-1738663200-1738688400@hillcrestrvresortfl.com
SUMMARY:Pentanque
DESCRIPTION:
URL:https://hillcrestrvresortfl.com/event/pentanque-114/
END:VEVENT
BEGIN:VEVENT
DTSTART;TZID=America/Chicago:20250204T103000
DTEND;TZID=America/Chicago:20250204T123000
DTSTAMP:20260425T232808
CREATED:20250114T142507Z
LAST-MODIFIED:20250114T142507Z
UID:17512-1738665000-1738672200@hillcrestrvresortfl.com
SUMMARY:Advanced Line Dancing
DESCRIPTION:
URL:https://hillcrestrvresortfl.com/event/advanced-line-dancing-4/
END:VEVENT
BEGIN:VEVENT
DTSTART;TZID=America/Chicago:20250204T130000
DTEND;TZID=America/Chicago:20250204T150000
DTSTAMP:20260425T232808
CREATED:20250115T202158Z
LAST-MODIFIED:20250115T202158Z
UID:17939-1738674000-1738681200@hillcrestrvresortfl.com
SUMMARY:Men's Billiards
DESCRIPTION:
URL:https://hillcrestrvresortfl.com/event/mens-billiards-70/
END:VEVENT
BEGIN:VEVENT
DTSTART;TZID=America/Chicago:20250204T140000
DTEND;TZID=America/Chicago:20250204T160000
DTSTAMP:20260425T232808
CREATED:20250114T143213Z
LAST-MODIFIED:20250114T143213Z
UID:17520-1738677600-1738684800@hillcrestrvresortfl.com
SUMMARY:Jewelry Craft
DESCRIPTION:
URL:https://hillcrestrvresortfl.com/event/jewelry-craft-7/
END:VEVENT
BEGIN:VEVENT
DTSTART;TZID=America/Chicago:20250204T143000
DTEND;TZID=America/Chicago:20250204T163000
DTSTAMP:20260425T232808
CREATED:20250114T143409Z
LAST-MODIFIED:20250114T143409Z
UID:17526-1738679400-1738686600@hillcrestrvresortfl.com
SUMMARY:Epoxy Sun Catcher
DESCRIPTION:
URL:https://hillcrestrvresortfl.com/event/epoxy-sun-catcher/
END:VEVENT
BEGIN:VEVENT
DTSTART;TZID=America/Chicago:20250204T180000
DTEND;TZID=America/Chicago:20250204T210000
DTSTAMP:20260425T232808
CREATED:20250115T203341Z
LAST-MODIFIED:20250115T203341Z
UID:17963-1738692000-1738702800@hillcrestrvresortfl.com
SUMMARY:Bid Euchre
DESCRIPTION:
URL:https://hillcrestrvresortfl.com/event/bid-euchre-44/
END:VEVENT
BEGIN:VEVENT
DTSTART;TZID=America/Chicago:20250204T180000
DTEND;TZID=America/Chicago:20250204T210000
DTSTAMP:20260425T232808
CREATED:20250115T204032Z
LAST-MODIFIED:20250115T204032Z
UID:17979-1738692000-1738702800@hillcrestrvresortfl.com
SUMMARY:Texas Hold'Em
DESCRIPTION:
URL:https://hillcrestrvresortfl.com/event/texas-holdem-33/
END:VEVENT
BEGIN:VEVENT
DTSTART;TZID=America/Chicago:20250204T190000
DTEND;TZID=America/Chicago:20250204T213000
DTSTAMP:20260425T232808
CREATED:20250114T144511Z
LAST-MODIFIED:20250114T144511Z
UID:17528-1738695600-1738704600@hillcrestrvresortfl.com
SUMMARY:Karaoke
DESCRIPTION:
URL:https://hillcrestrvresortfl.com/event/karaoke-25/
END:VEVENT
BEGIN:VEVENT
DTSTART;TZID=America/Chicago:20250205T080000
DTEND;TZID=America/Chicago:20250205T120000
DTSTAMP:20260425T232808
CREATED:20250115T192056Z
LAST-MODIFIED:20250115T192056Z
UID:17783-1738742400-1738756800@hillcrestrvresortfl.com
SUMMARY:Water Aerobics
DESCRIPTION:
URL:https://hillcrestrvresortfl.com/event/water-aerobics-171/
END:VEVENT
BEGIN:VEVENT
DTSTART;TZID=America/Chicago:20250205T080000
DTEND;TZID=America/Chicago:20250205T220000
DTSTAMP:20260425T232808
CREATED:20250114T165856Z
LAST-MODIFIED:20250114T165856Z
UID:17642-1738742400-1738792800@hillcrestrvresortfl.com
SUMMARY:Pickleball
DESCRIPTION:
URL:https://hillcrestrvresortfl.com/event/pickleball-195/
END:VEVENT
BEGIN:VEVENT
DTSTART;TZID=America/Chicago:20250205T090000
DTEND;TZID=America/Chicago:20250205T103000
DTSTAMP:20260425T232808
CREATED:20250114T144828Z
LAST-MODIFIED:20250114T144828Z
UID:17540-1738746000-1738751400@hillcrestrvresortfl.com
SUMMARY:Bone Builder Exercises
DESCRIPTION:
URL:https://hillcrestrvresortfl.com/event/bone-builder-exercises-12/
END:VEVENT
BEGIN:VEVENT
DTSTART;TZID=America/Chicago:20250205T090000
DTEND;TZID=America/Chicago:20250205T170000
DTSTAMP:20260425T232809
CREATED:20250114T174841Z
LAST-MODIFIED:20250114T174841Z
UID:17696-1738746000-1738774800@hillcrestrvresortfl.com
SUMMARY:Horseshoes
DESCRIPTION:
URL:https://hillcrestrvresortfl.com/event/horseshoes-176/
END:VEVENT
BEGIN:VEVENT
DTSTART;TZID=America/Chicago:20250205T090000
DTEND;TZID=America/Chicago:20250205T170000
DTSTAMP:20260425T232809
CREATED:20250115T191443Z
LAST-MODIFIED:20250115T191443Z
UID:17743-1738746000-1738774800@hillcrestrvresortfl.com
SUMMARY:Shuffleboard
DESCRIPTION:
URL:https://hillcrestrvresortfl.com/event/shuffleboard-170/
END:VEVENT
BEGIN:VEVENT
DTSTART;TZID=America/Chicago:20250205T100000
DTEND;TZID=America/Chicago:20250205T120000
DTSTAMP:20260425T232809
CREATED:20250115T200806Z
LAST-MODIFIED:20250115T200806Z
UID:17885-1738749600-1738756800@hillcrestrvresortfl.com
SUMMARY:Womens' Billiards
DESCRIPTION:
URL:https://hillcrestrvresortfl.com/event/womens-billiards-44/
END:VEVENT
BEGIN:VEVENT
DTSTART;TZID=America/Chicago:20250205T100000
DTEND;TZID=America/Chicago:20250205T123000
DTSTAMP:20260425T232809
CREATED:20250115T204546Z
LAST-MODIFIED:20250115T204546Z
UID:17991-1738749600-1738758600@hillcrestrvresortfl.com
SUMMARY:Scrabble
DESCRIPTION:
URL:https://hillcrestrvresortfl.com/event/scrabble-28/
END:VEVENT
BEGIN:VEVENT
DTSTART;TZID=America/Chicago:20250205T100000
DTEND;TZID=America/Chicago:20250205T170000
DTSTAMP:20260425T232809
CREATED:20250115T192910Z
LAST-MODIFIED:20250115T192910Z
UID:17827-1738749600-1738774800@hillcrestrvresortfl.com
SUMMARY:Pentanque
DESCRIPTION:
URL:https://hillcrestrvresortfl.com/event/pentanque-115/
END:VEVENT
END:VCALENDAR