BEGIN:VCALENDAR
VERSION:2.0
PRODID:-//Hillcrest RV Resort - ECPv6.15.20//NONSGML v1.0//EN
CALSCALE:GREGORIAN
METHOD:PUBLISH
X-WR-CALNAME:Hillcrest RV Resort
X-ORIGINAL-URL:https://hillcrestrvresortfl.com
X-WR-CALDESC:Events for Hillcrest RV Resort
REFRESH-INTERVAL;VALUE=DURATION:PT1H
X-Robots-Tag:noindex
X-PUBLISHED-TTL:PT1H
BEGIN:VTIMEZONE
TZID:America/Chicago
BEGIN:DAYLIGHT
TZOFFSETFROM:-0600
TZOFFSETTO:-0500
TZNAME:CDT
DTSTART:20250309T080000
END:DAYLIGHT
BEGIN:STANDARD
TZOFFSETFROM:-0500
TZOFFSETTO:-0600
TZNAME:CST
DTSTART:20251102T070000
END:STANDARD
BEGIN:DAYLIGHT
TZOFFSETFROM:-0600
TZOFFSETTO:-0500
TZNAME:CDT
DTSTART:20260308T080000
END:DAYLIGHT
BEGIN:STANDARD
TZOFFSETFROM:-0500
TZOFFSETTO:-0600
TZNAME:CST
DTSTART:20261101T070000
END:STANDARD
BEGIN:DAYLIGHT
TZOFFSETFROM:-0600
TZOFFSETTO:-0500
TZNAME:CDT
DTSTART:20270314T080000
END:DAYLIGHT
BEGIN:STANDARD
TZOFFSETFROM:-0500
TZOFFSETTO:-0600
TZNAME:CST
DTSTART:20271107T070000
END:STANDARD
END:VTIMEZONE
BEGIN:VEVENT
DTSTART;TZID=America/Chicago:20260311T110000
DTEND;TZID=America/Chicago:20260311T120000
DTSTAMP:20260423T154408
CREATED:20260305T152243Z
LAST-MODIFIED:20260305T152243Z
UID:19841-1773226800-1773230400@hillcrestrvresortfl.com
SUMMARY:Bible Study
DESCRIPTION:
URL:https://hillcrestrvresortfl.com/event/bible-study-20/
END:VEVENT
BEGIN:VEVENT
DTSTART;TZID=America/Chicago:20260311T090000
DTEND;TZID=America/Chicago:20260311T100000
DTSTAMP:20260423T154408
CREATED:20260305T151935Z
LAST-MODIFIED:20260305T151935Z
UID:19833-1773219600-1773223200@hillcrestrvresortfl.com
SUMMARY:Bone Builder Exercises
DESCRIPTION:
URL:https://hillcrestrvresortfl.com/event/bone-builder-exercises-31/
END:VEVENT
BEGIN:VEVENT
DTSTART;TZID=America/Chicago:20260310T190000
DTEND;TZID=America/Chicago:20260310T210000
DTSTAMP:20260423T154408
CREATED:20260319T121226Z
LAST-MODIFIED:20260319T121226Z
UID:19844-1773169200-1773176400@hillcrestrvresortfl.com
SUMMARY:Special Entertainment (Kenny Evans)
DESCRIPTION:
URL:https://hillcrestrvresortfl.com/event/special-entertainment-kenny-evans/
END:VEVENT
BEGIN:VEVENT
DTSTART;TZID=America/Chicago:20260310T093000
DTEND;TZID=America/Chicago:20260310T103000
DTSTAMP:20260423T154408
CREATED:20260305T150858Z
LAST-MODIFIED:20260305T150858Z
UID:19821-1773135000-1773138600@hillcrestrvresortfl.com
SUMMARY:One Stop Shop (OSS)
DESCRIPTION:
URL:https://hillcrestrvresortfl.com/event/one-stop-shop-oss-15/
END:VEVENT
BEGIN:VEVENT
DTSTART;TZID=America/Chicago:20260309T180000
DTEND;TZID=America/Chicago:20260309T210000
DTSTAMP:20260423T154408
CREATED:20260305T140519Z
LAST-MODIFIED:20260305T140519Z
UID:19803-1773079200-1773090000@hillcrestrvresortfl.com
SUMMARY:Bingo
DESCRIPTION:
URL:https://hillcrestrvresortfl.com/event/bingo-88/
END:VEVENT
BEGIN:VEVENT
DTSTART;TZID=America/Chicago:20260309T130000
DTEND;TZID=America/Chicago:20260309T160000
DTSTAMP:20260423T154408
CREATED:20260305T140259Z
LAST-MODIFIED:20260305T140259Z
UID:19793-1773061200-1773072000@hillcrestrvresortfl.com
SUMMARY:Watercolor
DESCRIPTION:
URL:https://hillcrestrvresortfl.com/event/watercolor-18/
END:VEVENT
BEGIN:VEVENT
DTSTART;TZID=America/Chicago:20260309T130000
DTEND;TZID=America/Chicago:20260309T160000
DTSTAMP:20260423T154408
CREATED:20260305T140048Z
LAST-MODIFIED:20260305T140048Z
UID:19783-1773061200-1773072000@hillcrestrvresortfl.com
SUMMARY:Quilting/Sewing/Knitting/Crocheting
DESCRIPTION:
URL:https://hillcrestrvresortfl.com/event/quilting-sewing-knitting-crocheting-29/
END:VEVENT
BEGIN:VEVENT
DTSTART;TZID=America/Chicago:20260309T100000
DTEND;TZID=America/Chicago:20260309T110000
DTSTAMP:20260423T154408
CREATED:20260319T121654Z
LAST-MODIFIED:20260319T121654Z
UID:19856-1773050400-1773054000@hillcrestrvresortfl.com
SUMMARY:Chair Exercises
DESCRIPTION:
URL:https://hillcrestrvresortfl.com/event/chair-exercises-4/
END:VEVENT
BEGIN:VEVENT
DTSTART;TZID=America/Chicago:20260309T073000
DTEND;TZID=America/Chicago:20260309T090000
DTSTAMP:20260423T154408
CREATED:20260319T121626Z
LAST-MODIFIED:20260319T121626Z
UID:19854-1773041400-1773046800@hillcrestrvresortfl.com
SUMMARY:Breakfast
DESCRIPTION:
URL:https://hillcrestrvresortfl.com/event/breakfast-38/
END:VEVENT
BEGIN:VEVENT
DTSTART;TZID=America/Chicago:20260308T130000
DTEND;TZID=America/Chicago:20260308T160000
DTSTAMP:20260423T154408
CREATED:20260319T121334Z
LAST-MODIFIED:20260319T121334Z
UID:19846-1772974800-1772985600@hillcrestrvresortfl.com
SUMMARY:Jam (Ambush on the Patio)
DESCRIPTION:
URL:https://hillcrestrvresortfl.com/event/jam-ambush-on-the-patio/
END:VEVENT
BEGIN:VEVENT
DTSTART;TZID=America/Chicago:20260308T060000
DTEND;TZID=America/Chicago:20260308T200000
DTSTAMP:20260423T154408
CREATED:20260319T121417Z
LAST-MODIFIED:20260319T121417Z
UID:19848-1772949600-1773000000@hillcrestrvresortfl.com
SUMMARY:Ice Cream Social (Jesse Derringer)
DESCRIPTION:
URL:https://hillcrestrvresortfl.com/event/ice-cream-social-jesse-derringer/
END:VEVENT
BEGIN:VEVENT
DTSTART;TZID=America/Chicago:20260307T193000
DTEND;TZID=America/Chicago:20260307T223000
DTSTAMP:20260423T154408
CREATED:20260319T140719Z
LAST-MODIFIED:20260319T140719Z
UID:19954-1772911800-1772922600@hillcrestrvresortfl.com
SUMMARY:Classic Rock Dance W/Zach
DESCRIPTION:
URL:https://hillcrestrvresortfl.com/event/classic-rock-dance-w-zach/
END:VEVENT
BEGIN:VEVENT
DTSTART;TZID=America/Chicago:20260307T120000
DTEND;TZID=America/Chicago:20260307T170000
DTSTAMP:20260423T154408
CREATED:20260319T140444Z
LAST-MODIFIED:20260319T140444Z
UID:19952-1772884800-1772902800@hillcrestrvresortfl.com
SUMMARY:Pickleball Tournament
DESCRIPTION:
URL:https://hillcrestrvresortfl.com/event/pickleball-tournament/
END:VEVENT
BEGIN:VEVENT
DTSTART;TZID=America/Chicago:20260307T080000
DTEND;TZID=America/Chicago:20260307T120000
DTSTAMP:20260423T154408
CREATED:20260319T140400Z
LAST-MODIFIED:20260319T140400Z
UID:19950-1772870400-1772884800@hillcrestrvresortfl.com
SUMMARY:CAN/AM Day
DESCRIPTION:
URL:https://hillcrestrvresortfl.com/event/can-am-day-4/
END:VEVENT
BEGIN:VEVENT
DTSTART;TZID=America/Chicago:20260306T140000
DTEND;TZID=America/Chicago:20260306T160000
DTSTAMP:20260423T154408
CREATED:20260319T140212Z
LAST-MODIFIED:20260319T140212Z
UID:19942-1772805600-1772812800@hillcrestrvresortfl.com
SUMMARY:Card Bingo
DESCRIPTION:
URL:https://hillcrestrvresortfl.com/event/card-bingo-14/
END:VEVENT
BEGIN:VEVENT
DTSTART;TZID=America/Chicago:20260306T110000
DTEND;TZID=America/Chicago:20260306T130000
DTSTAMP:20260423T154408
CREATED:20260319T135827Z
LAST-MODIFIED:20260319T135827Z
UID:19934-1772794800-1772802000@hillcrestrvresortfl.com
SUMMARY:Rock Painting
DESCRIPTION:
URL:https://hillcrestrvresortfl.com/event/rock-painting-39/
END:VEVENT
BEGIN:VEVENT
DTSTART;TZID=America/Chicago:20260306T090000
DTEND;TZID=America/Chicago:20260306T100000
DTSTAMP:20260423T154408
CREATED:20260319T135636Z
LAST-MODIFIED:20260319T135636Z
UID:19926-1772787600-1772791200@hillcrestrvresortfl.com
SUMMARY:Bone Builder Exercises
DESCRIPTION:
URL:https://hillcrestrvresortfl.com/event/bone-builder-exercises-34/
END:VEVENT
BEGIN:VEVENT
DTSTART;TZID=America/Chicago:20260305T180000
DTEND;TZID=America/Chicago:20260305T210000
DTSTAMP:20260423T154408
CREATED:20260305T140851Z
LAST-MODIFIED:20260305T140851Z
UID:19811-1772733600-1772744400@hillcrestrvresortfl.com
SUMMARY:Bingo
DESCRIPTION:
URL:https://hillcrestrvresortfl.com/event/bingo-92/
END:VEVENT
BEGIN:VEVENT
DTSTART;TZID=America/Chicago:20260305T150000
DTEND;TZID=America/Chicago:20260305T170000
DTSTAMP:20260423T154408
CREATED:20260319T135303Z
LAST-MODIFIED:20260319T135303Z
UID:19918-1772722800-1772730000@hillcrestrvresortfl.com
SUMMARY:Acoustic Jam
DESCRIPTION:
URL:https://hillcrestrvresortfl.com/event/acoustic-jam-48/
END:VEVENT
BEGIN:VEVENT
DTSTART;TZID=America/Chicago:20260305T130000
DTEND;TZID=America/Chicago:20260305T143000
DTSTAMP:20260423T154408
CREATED:20260319T135113Z
LAST-MODIFIED:20260319T135113Z
UID:19910-1772715600-1772721000@hillcrestrvresortfl.com
SUMMARY:Line Dancing W/Dena
DESCRIPTION:
URL:https://hillcrestrvresortfl.com/event/line-dancing-w-dena-14/
END:VEVENT
BEGIN:VEVENT
DTSTART;TZID=America/Chicago:20260305T100000
DTEND;TZID=America/Chicago:20260305T110000
DTSTAMP:20260423T154408
CREATED:20260319T134910Z
LAST-MODIFIED:20260319T134910Z
UID:19902-1772704800-1772708400@hillcrestrvresortfl.com
SUMMARY:Drumming Exercises
DESCRIPTION:
URL:https://hillcrestrvresortfl.com/event/drumming-exercises-13/
END:VEVENT
BEGIN:VEVENT
DTSTART;TZID=America/Chicago:20260304T180000
DTEND;TZID=America/Chicago:20260304T210000
DTSTAMP:20260423T154408
CREATED:20260319T122524Z
LAST-MODIFIED:20260319T122524Z
UID:19888-1772647200-1772658000@hillcrestrvresortfl.com
SUMMARY:Darts
DESCRIPTION:
URL:https://hillcrestrvresortfl.com/event/darts-33/
END:VEVENT
BEGIN:VEVENT
DTSTART;TZID=America/Chicago:20260304T130000
DTEND;TZID=America/Chicago:20260304T150000
DTSTAMP:20260423T154408
CREATED:20260319T122331Z
LAST-MODIFIED:20260319T122331Z
UID:19880-1772629200-1772636400@hillcrestrvresortfl.com
SUMMARY:Fiddler's Jam
DESCRIPTION:
URL:https://hillcrestrvresortfl.com/event/fiddlers-jam-38/
END:VEVENT
BEGIN:VEVENT
DTSTART;TZID=America/Chicago:20260304T110000
DTEND;TZID=America/Chicago:20260304T120000
DTSTAMP:20260423T154408
CREATED:20260305T152127Z
LAST-MODIFIED:20260305T152127Z
UID:19839-1772622000-1772625600@hillcrestrvresortfl.com
SUMMARY:Bible Study
DESCRIPTION:
URL:https://hillcrestrvresortfl.com/event/bible-study-19/
END:VEVENT
BEGIN:VEVENT
DTSTART;TZID=America/Chicago:20260304T090000
DTEND;TZID=America/Chicago:20260304T100000
DTSTAMP:20260423T154408
CREATED:20260305T151903Z
LAST-MODIFIED:20260305T151903Z
UID:19831-1772614800-1772618400@hillcrestrvresortfl.com
SUMMARY:Bone Builder Exercises
DESCRIPTION:
URL:https://hillcrestrvresortfl.com/event/bone-builder-exercises-30/
END:VEVENT
BEGIN:VEVENT
DTSTART;TZID=America/Chicago:20260303T190000
DTEND;TZID=America/Chicago:20260303T210000
DTSTAMP:20260423T154408
CREATED:20260305T151607Z
LAST-MODIFIED:20260305T151607Z
UID:19829-1772564400-1772571600@hillcrestrvresortfl.com
SUMMARY:Karaoke
DESCRIPTION:
URL:https://hillcrestrvresortfl.com/event/karaoke-40/
END:VEVENT
BEGIN:VEVENT
DTSTART;TZID=America/Chicago:20260303T120000
DTEND;TZID=America/Chicago:20260303T150000
DTSTAMP:20260423T154408
CREATED:20260305T151323Z
LAST-MODIFIED:20260305T151323Z
UID:19827-1772539200-1772550000@hillcrestrvresortfl.com
SUMMARY:Potluck & Nickel Bingo
DESCRIPTION:
URL:https://hillcrestrvresortfl.com/event/potluck-nickel-bingo-6/
END:VEVENT
BEGIN:VEVENT
DTSTART;TZID=America/Chicago:20260303T103000
DTEND;TZID=America/Chicago:20260303T120000
DTSTAMP:20260423T154408
CREATED:20260305T151213Z
LAST-MODIFIED:20260305T151213Z
UID:19825-1772533800-1772539200@hillcrestrvresortfl.com
SUMMARY:Thyroid Wellness w/Dr. Tim
DESCRIPTION:
URL:https://hillcrestrvresortfl.com/event/thyroid-wellness-w-dr-tim/
END:VEVENT
BEGIN:VEVENT
DTSTART;TZID=America/Chicago:20260303T093000
DTEND;TZID=America/Chicago:20260303T103000
DTSTAMP:20260423T154408
CREATED:20260305T150812Z
LAST-MODIFIED:20260305T150812Z
UID:19819-1772530200-1772533800@hillcrestrvresortfl.com
SUMMARY:One Stop Shop (OSS)
DESCRIPTION:
URL:https://hillcrestrvresortfl.com/event/one-stop-shop-oss-14/
END:VEVENT
BEGIN:VEVENT
DTSTART;TZID=America/Chicago:20260302T180000
DTEND;TZID=America/Chicago:20260302T210000
DTSTAMP:20260423T154408
CREATED:20260305T140451Z
LAST-MODIFIED:20260305T140451Z
UID:19801-1772474400-1772485200@hillcrestrvresortfl.com
SUMMARY:Bingo
DESCRIPTION:
URL:https://hillcrestrvresortfl.com/event/bingo-87/
END:VEVENT
END:VCALENDAR