BEGIN:VCALENDAR
VERSION:2.0
PRODID:-//Hillcrest RV Resort - ECPv6.15.20//NONSGML v1.0//EN
CALSCALE:GREGORIAN
METHOD:PUBLISH
X-WR-CALNAME:Hillcrest RV Resort
X-ORIGINAL-URL:https://hillcrestrvresortfl.com
X-WR-CALDESC:Events for Hillcrest RV Resort
REFRESH-INTERVAL;VALUE=DURATION:PT1H
X-Robots-Tag:noindex
X-PUBLISHED-TTL:PT1H
BEGIN:VTIMEZONE
TZID:America/Chicago
BEGIN:DAYLIGHT
TZOFFSETFROM:-0600
TZOFFSETTO:-0500
TZNAME:CDT
DTSTART:20250309T080000
END:DAYLIGHT
BEGIN:STANDARD
TZOFFSETFROM:-0500
TZOFFSETTO:-0600
TZNAME:CST
DTSTART:20251102T070000
END:STANDARD
BEGIN:DAYLIGHT
TZOFFSETFROM:-0600
TZOFFSETTO:-0500
TZNAME:CDT
DTSTART:20260308T080000
END:DAYLIGHT
BEGIN:STANDARD
TZOFFSETFROM:-0500
TZOFFSETTO:-0600
TZNAME:CST
DTSTART:20261101T070000
END:STANDARD
BEGIN:DAYLIGHT
TZOFFSETFROM:-0600
TZOFFSETTO:-0500
TZNAME:CDT
DTSTART:20270314T080000
END:DAYLIGHT
BEGIN:STANDARD
TZOFFSETFROM:-0500
TZOFFSETTO:-0600
TZNAME:CST
DTSTART:20271107T070000
END:STANDARD
END:VTIMEZONE
BEGIN:VEVENT
DTSTART;TZID=America/Chicago:20260130T123000
DTEND;TZID=America/Chicago:20260130T150000
DTSTAMP:20260423T154336
CREATED:20260102T172531Z
LAST-MODIFIED:20260102T172531Z
UID:19206-1769776200-1769785200@hillcrestrvresortfl.com
SUMMARY:Bowling
DESCRIPTION:
URL:https://hillcrestrvresortfl.com/event/bowling-52/
END:VEVENT
BEGIN:VEVENT
DTSTART;TZID=America/Chicago:20260130T110000
DTEND;TZID=America/Chicago:20260130T130000
DTSTAMP:20260423T154336
CREATED:20260107T141201Z
LAST-MODIFIED:20260107T141201Z
UID:19459-1769770800-1769778000@hillcrestrvresortfl.com
SUMMARY:Rock Painting
DESCRIPTION:
URL:https://hillcrestrvresortfl.com/event/rock-painting-35/
END:VEVENT
BEGIN:VEVENT
DTSTART;TZID=America/Chicago:20260130T100000
DTEND;TZID=America/Chicago:20260130T120000
DTSTAMP:20260423T154336
CREATED:20260102T142820Z
LAST-MODIFIED:20260102T142820Z
UID:19142-1769767200-1769774400@hillcrestrvresortfl.com
SUMMARY:Pentanque
DESCRIPTION:
URL:https://hillcrestrvresortfl.com/event/pentanque-199/
END:VEVENT
BEGIN:VEVENT
DTSTART;TZID=America/Chicago:20260130T100000
DTEND;TZID=America/Chicago:20260130T110000
DTSTAMP:20260423T154336
CREATED:20260102T172221Z
LAST-MODIFIED:20260102T172221Z
UID:19198-1769767200-1769770800@hillcrestrvresortfl.com
SUMMARY:Women's Billiards
DESCRIPTION:
URL:https://hillcrestrvresortfl.com/event/womens-billiards-79/
END:VEVENT
BEGIN:VEVENT
DTSTART;TZID=America/Chicago:20260130T093000
DTEND;TZID=America/Chicago:20260130T110000
DTSTAMP:20260423T154336
CREATED:20260102T133651Z
LAST-MODIFIED:20260102T133651Z
UID:19024-1769765400-1769770800@hillcrestrvresortfl.com
SUMMARY:Shuffleboard
DESCRIPTION:
URL:https://hillcrestrvresortfl.com/event/shuffleboard-258/
END:VEVENT
BEGIN:VEVENT
DTSTART;TZID=America/Chicago:20260130T090000
DTEND;TZID=America/Chicago:20260130T120000
DTSTAMP:20260423T154336
CREATED:20260102T134947Z
LAST-MODIFIED:20260102T134947Z
UID:19080-1769763600-1769774400@hillcrestrvresortfl.com
SUMMARY:Water Exercises
DESCRIPTION:
URL:https://hillcrestrvresortfl.com/event/water-exercises-26/
END:VEVENT
BEGIN:VEVENT
DTSTART;TZID=America/Chicago:20260130T090000
DTEND;TZID=America/Chicago:20260130T110000
DTSTAMP:20260423T154336
CREATED:20260107T131449Z
LAST-MODIFIED:20260107T131449Z
UID:19409-1769763600-1769770800@hillcrestrvresortfl.com
SUMMARY:Horseshoes
DESCRIPTION:
URL:https://hillcrestrvresortfl.com/event/horseshoes-254/
END:VEVENT
BEGIN:VEVENT
DTSTART;TZID=America/Chicago:20260130T090000
DTEND;TZID=America/Chicago:20260130T100000
DTSTAMP:20260423T154336
CREATED:20260107T135326Z
LAST-MODIFIED:20260107T135326Z
UID:19449-1769763600-1769767200@hillcrestrvresortfl.com
SUMMARY:Bone Builder Exercises
DESCRIPTION:
URL:https://hillcrestrvresortfl.com/event/bone-builder-exercises-25/
END:VEVENT
BEGIN:VEVENT
DTSTART;TZID=America/Chicago:20260130T080000
DTEND;TZID=America/Chicago:20260130T170000
DTSTAMP:20260423T154336
CREATED:20260102T204533Z
LAST-MODIFIED:20260102T204533Z
UID:19354-1769760000-1769792400@hillcrestrvresortfl.com
SUMMARY:Pickleball
DESCRIPTION:
URL:https://hillcrestrvresortfl.com/event/pickleball-309/
END:VEVENT
BEGIN:VEVENT
DTSTART;TZID=America/Chicago:20260129T183000
DTEND;TZID=America/Chicago:20260129T210000
DTSTAMP:20260423T154336
CREATED:20260107T174609Z
LAST-MODIFIED:20260107T174609Z
UID:19557-1769711400-1769720400@hillcrestrvresortfl.com
SUMMARY:Bingo
DESCRIPTION:
URL:https://hillcrestrvresortfl.com/event/bingo-75/
END:VEVENT
BEGIN:VEVENT
DTSTART;TZID=America/Chicago:20260129T180000
DTEND;TZID=America/Chicago:20260129T210000
DTSTAMP:20260423T154336
CREATED:20260102T202755Z
LAST-MODIFIED:20260102T202755Z
UID:19294-1769709600-1769720400@hillcrestrvresortfl.com
SUMMARY:Texas Hold'Em
DESCRIPTION:
URL:https://hillcrestrvresortfl.com/event/texas-holdem-51/
END:VEVENT
BEGIN:VEVENT
DTSTART;TZID=America/Chicago:20260129T180000
DTEND;TZID=America/Chicago:20260129T210000
DTSTAMP:20260423T154336
CREATED:20260102T171504Z
LAST-MODIFIED:20260102T171504Z
UID:19172-1769709600-1769720400@hillcrestrvresortfl.com
SUMMARY:Bid Euchre
DESCRIPTION:
URL:https://hillcrestrvresortfl.com/event/bid-euchre-76/
END:VEVENT
BEGIN:VEVENT
DTSTART;TZID=America/Chicago:20260129T150000
DTEND;TZID=America/Chicago:20260129T170000
DTSTAMP:20260423T154336
CREATED:20260107T134833Z
LAST-MODIFIED:20260107T134833Z
UID:19431-1769698800-1769706000@hillcrestrvresortfl.com
SUMMARY:Acoustic Jam
DESCRIPTION:
URL:https://hillcrestrvresortfl.com/event/acoustic-jam-43/
END:VEVENT
BEGIN:VEVENT
DTSTART;TZID=America/Chicago:20260129T130000
DTEND;TZID=America/Chicago:20260129T143000
DTSTAMP:20260423T154336
CREATED:20260107T133349Z
LAST-MODIFIED:20260107T133349Z
UID:19421-1769691600-1769697000@hillcrestrvresortfl.com
SUMMARY:Line Dancing W/Dena
DESCRIPTION:
URL:https://hillcrestrvresortfl.com/event/line-dancing-w-dena-13/
END:VEVENT
BEGIN:VEVENT
DTSTART;TZID=America/Chicago:20260129T100000
DTEND;TZID=America/Chicago:20260129T120000
DTSTAMP:20260423T154336
CREATED:20260102T142742Z
LAST-MODIFIED:20260102T142742Z
UID:19140-1769680800-1769688000@hillcrestrvresortfl.com
SUMMARY:Pentanque
DESCRIPTION:
URL:https://hillcrestrvresortfl.com/event/pentanque-198/
END:VEVENT
BEGIN:VEVENT
DTSTART;TZID=America/Chicago:20260129T100000
DTEND;TZID=America/Chicago:20260129T110000
DTSTAMP:20260423T154336
CREATED:20260107T165532Z
LAST-MODIFIED:20260107T165532Z
UID:19549-1769680800-1769684400@hillcrestrvresortfl.com
SUMMARY:Drumming Classes
DESCRIPTION:
URL:https://hillcrestrvresortfl.com/event/drumming-classes-4/
END:VEVENT
BEGIN:VEVENT
DTSTART;TZID=America/Chicago:20260129T093000
DTEND;TZID=America/Chicago:20260129T110000
DTSTAMP:20260423T154336
CREATED:20260102T133628Z
LAST-MODIFIED:20260102T133628Z
UID:19022-1769679000-1769684400@hillcrestrvresortfl.com
SUMMARY:Shuffleboard
DESCRIPTION:
URL:https://hillcrestrvresortfl.com/event/shuffleboard-257/
END:VEVENT
BEGIN:VEVENT
DTSTART;TZID=America/Chicago:20260129T090000
DTEND;TZID=America/Chicago:20260129T120000
DTSTAMP:20260423T154336
CREATED:20260102T134925Z
LAST-MODIFIED:20260102T134925Z
UID:19078-1769677200-1769688000@hillcrestrvresortfl.com
SUMMARY:Water Exercises
DESCRIPTION:
URL:https://hillcrestrvresortfl.com/event/water-exercises-25/
END:VEVENT
BEGIN:VEVENT
DTSTART;TZID=America/Chicago:20260129T090000
DTEND;TZID=America/Chicago:20260129T110000
DTSTAMP:20260423T154336
CREATED:20260107T131429Z
LAST-MODIFIED:20260107T131429Z
UID:19407-1769677200-1769684400@hillcrestrvresortfl.com
SUMMARY:Horseshoes
DESCRIPTION:
URL:https://hillcrestrvresortfl.com/event/horseshoes-253/
END:VEVENT
BEGIN:VEVENT
DTSTART;TZID=America/Chicago:20260129T083000
DTEND;TZID=America/Chicago:20260129T093000
DTSTAMP:20260423T154336
CREATED:20260102T170756Z
LAST-MODIFIED:20260102T170756Z
UID:19154-1769675400-1769679000@hillcrestrvresortfl.com
SUMMARY:Choir Practice
DESCRIPTION:
URL:https://hillcrestrvresortfl.com/event/choir-practice-33/
END:VEVENT
BEGIN:VEVENT
DTSTART;TZID=America/Chicago:20260129T080000
DTEND;TZID=America/Chicago:20260129T170000
DTSTAMP:20260423T154336
CREATED:20260102T204517Z
LAST-MODIFIED:20260102T204517Z
UID:19352-1769673600-1769706000@hillcrestrvresortfl.com
SUMMARY:Pickleball
DESCRIPTION:
URL:https://hillcrestrvresortfl.com/event/pickleball-308/
END:VEVENT
BEGIN:VEVENT
DTSTART;TZID=America/Chicago:20260128T180000
DTEND;TZID=America/Chicago:20260128T210000
DTSTAMP:20260423T154336
CREATED:20260107T164917Z
LAST-MODIFIED:20260107T164917Z
UID:19541-1769623200-1769634000@hillcrestrvresortfl.com
SUMMARY:Darts
DESCRIPTION:
URL:https://hillcrestrvresortfl.com/event/darts-29/
END:VEVENT
BEGIN:VEVENT
DTSTART;TZID=America/Chicago:20260128T180000
DTEND;TZID=America/Chicago:20260128T210000
DTSTAMP:20260423T154336
CREATED:20260102T194004Z
LAST-MODIFIED:20260102T194004Z
UID:19250-1769623200-1769634000@hillcrestrvresortfl.com
SUMMARY:Game Night
DESCRIPTION:
URL:https://hillcrestrvresortfl.com/event/game-night-94/
END:VEVENT
BEGIN:VEVENT
DTSTART;TZID=America/Chicago:20260128T130000
DTEND;TZID=America/Chicago:20260128T150000
DTSTAMP:20260423T154336
CREATED:20260107T163922Z
LAST-MODIFIED:20260107T163922Z
UID:19533-1769605200-1769612400@hillcrestrvresortfl.com
SUMMARY:Fiddler's Jam
DESCRIPTION:
URL:https://hillcrestrvresortfl.com/event/fiddlers-jam-34/
END:VEVENT
BEGIN:VEVENT
DTSTART;TZID=America/Chicago:20260128T103000
DTEND;TZID=America/Chicago:20260128T133000
DTSTAMP:20260423T154336
CREATED:20260102T202557Z
LAST-MODIFIED:20260102T202557Z
UID:19286-1769596200-1769607000@hillcrestrvresortfl.com
SUMMARY:Golf
DESCRIPTION:
URL:https://hillcrestrvresortfl.com/event/golf-33/
END:VEVENT
BEGIN:VEVENT
DTSTART;TZID=America/Chicago:20260128T100000
DTEND;TZID=America/Chicago:20260128T120000
DTSTAMP:20260423T154336
CREATED:20260102T142723Z
LAST-MODIFIED:20260102T142723Z
UID:19138-1769594400-1769601600@hillcrestrvresortfl.com
SUMMARY:Pentanque
DESCRIPTION:
URL:https://hillcrestrvresortfl.com/event/pentanque-197/
END:VEVENT
BEGIN:VEVENT
DTSTART;TZID=America/Chicago:20260128T100000
DTEND;TZID=America/Chicago:20260128T110000
DTSTAMP:20260423T154336
CREATED:20260102T202349Z
LAST-MODIFIED:20260102T202349Z
UID:19278-1769594400-1769598000@hillcrestrvresortfl.com
SUMMARY:Scrabble
DESCRIPTION:
URL:https://hillcrestrvresortfl.com/event/scrabble-39/
END:VEVENT
BEGIN:VEVENT
DTSTART;TZID=America/Chicago:20260128T100000
DTEND;TZID=America/Chicago:20260128T110000
DTSTAMP:20260423T154336
CREATED:20260102T172143Z
LAST-MODIFIED:20260102T172143Z
UID:19196-1769594400-1769598000@hillcrestrvresortfl.com
SUMMARY:Women's Billiards
DESCRIPTION:
URL:https://hillcrestrvresortfl.com/event/womens-billiards-78/
END:VEVENT
BEGIN:VEVENT
DTSTART;TZID=America/Chicago:20260128T093000
DTEND;TZID=America/Chicago:20260128T110000
DTSTAMP:20260423T154336
CREATED:20260102T133606Z
LAST-MODIFIED:20260102T133606Z
UID:19020-1769592600-1769598000@hillcrestrvresortfl.com
SUMMARY:Shuffleboard
DESCRIPTION:
URL:https://hillcrestrvresortfl.com/event/shuffleboard-256/
END:VEVENT
BEGIN:VEVENT
DTSTART;TZID=America/Chicago:20260128T090000
DTEND;TZID=America/Chicago:20260128T120000
DTSTAMP:20260423T154336
CREATED:20260102T134855Z
LAST-MODIFIED:20260102T134855Z
UID:19076-1769590800-1769601600@hillcrestrvresortfl.com
SUMMARY:Water Exercises
DESCRIPTION:
URL:https://hillcrestrvresortfl.com/event/water-exercises-24/
END:VEVENT
END:VCALENDAR