BEGIN:VCALENDAR
VERSION:2.0
PRODID:-//Hillcrest RV Resort - ECPv6.15.20//NONSGML v1.0//EN
CALSCALE:GREGORIAN
METHOD:PUBLISH
X-WR-CALNAME:Hillcrest RV Resort
X-ORIGINAL-URL:https://hillcrestrvresortfl.com
X-WR-CALDESC:Events for Hillcrest RV Resort
REFRESH-INTERVAL;VALUE=DURATION:PT1H
X-Robots-Tag:noindex
X-PUBLISHED-TTL:PT1H
BEGIN:VTIMEZONE
TZID:America/Chicago
BEGIN:DAYLIGHT
TZOFFSETFROM:-0600
TZOFFSETTO:-0500
TZNAME:CDT
DTSTART:20250309T080000
END:DAYLIGHT
BEGIN:STANDARD
TZOFFSETFROM:-0500
TZOFFSETTO:-0600
TZNAME:CST
DTSTART:20251102T070000
END:STANDARD
BEGIN:DAYLIGHT
TZOFFSETFROM:-0600
TZOFFSETTO:-0500
TZNAME:CDT
DTSTART:20260308T080000
END:DAYLIGHT
BEGIN:STANDARD
TZOFFSETFROM:-0500
TZOFFSETTO:-0600
TZNAME:CST
DTSTART:20261101T070000
END:STANDARD
BEGIN:DAYLIGHT
TZOFFSETFROM:-0600
TZOFFSETTO:-0500
TZNAME:CDT
DTSTART:20270314T080000
END:DAYLIGHT
BEGIN:STANDARD
TZOFFSETFROM:-0500
TZOFFSETTO:-0600
TZNAME:CST
DTSTART:20271107T070000
END:STANDARD
END:VTIMEZONE
BEGIN:VEVENT
DTSTART;TZID=America/Chicago:20260109T090000
DTEND;TZID=America/Chicago:20260109T100000
DTSTAMP:20260423T181522
CREATED:20260107T135032Z
LAST-MODIFIED:20260107T135032Z
UID:19437-1767949200-1767952800@hillcrestrvresortfl.com
SUMMARY:Bone Builder Exercises
DESCRIPTION:
URL:https://hillcrestrvresortfl.com/event/bone-builder-exercises-19/
END:VEVENT
BEGIN:VEVENT
DTSTART;TZID=America/Chicago:20260109T080000
DTEND;TZID=America/Chicago:20260109T170000
DTSTAMP:20260423T181522
CREATED:20260102T204031Z
LAST-MODIFIED:20260102T204031Z
UID:19312-1767945600-1767978000@hillcrestrvresortfl.com
SUMMARY:Pickleball
DESCRIPTION:
URL:https://hillcrestrvresortfl.com/event/pickleball-288/
END:VEVENT
BEGIN:VEVENT
DTSTART;TZID=America/Chicago:20260108T183000
DTEND;TZID=America/Chicago:20260108T210000
DTSTAMP:20260423T181522
CREATED:20260107T174453Z
LAST-MODIFIED:20260107T174453Z
UID:19551-1767897000-1767906000@hillcrestrvresortfl.com
SUMMARY:Bingo
DESCRIPTION:
URL:https://hillcrestrvresortfl.com/event/bingo-72/
END:VEVENT
BEGIN:VEVENT
DTSTART;TZID=America/Chicago:20260108T180000
DTEND;TZID=America/Chicago:20260108T210000
DTSTAMP:20260423T181522
CREATED:20260102T202644Z
LAST-MODIFIED:20260102T202644Z
UID:19288-1767895200-1767906000@hillcrestrvresortfl.com
SUMMARY:Texas Hold'Em
DESCRIPTION:
URL:https://hillcrestrvresortfl.com/event/texas-holdem-48/
END:VEVENT
BEGIN:VEVENT
DTSTART;TZID=America/Chicago:20260108T180000
DTEND;TZID=America/Chicago:20260108T210000
DTSTAMP:20260423T181522
CREATED:20260102T170950Z
LAST-MODIFIED:20260102T170950Z
UID:19160-1767895200-1767906000@hillcrestrvresortfl.com
SUMMARY:Bid Euchre
DESCRIPTION:
URL:https://hillcrestrvresortfl.com/event/bid-euchre-70/
END:VEVENT
BEGIN:VEVENT
DTSTART;TZID=America/Chicago:20260108T150000
DTEND;TZID=America/Chicago:20260108T170000
DTSTAMP:20260423T181522
CREATED:20260107T133900Z
LAST-MODIFIED:20260107T133900Z
UID:19425-1767884400-1767891600@hillcrestrvresortfl.com
SUMMARY:Acoustic Jam
DESCRIPTION:
URL:https://hillcrestrvresortfl.com/event/acoustic-jam-40/
END:VEVENT
BEGIN:VEVENT
DTSTART;TZID=America/Chicago:20260108T130000
DTEND;TZID=America/Chicago:20260108T143000
DTSTAMP:20260423T181522
CREATED:20260107T133227Z
LAST-MODIFIED:20260107T133227Z
UID:19415-1767877200-1767882600@hillcrestrvresortfl.com
SUMMARY:Line Dancing W/Dena
DESCRIPTION:
URL:https://hillcrestrvresortfl.com/event/line-dancing-w-dena-10/
END:VEVENT
BEGIN:VEVENT
DTSTART;TZID=America/Chicago:20260108T100000
DTEND;TZID=America/Chicago:20260108T120000
DTSTAMP:20260423T181522
CREATED:20260102T141953Z
LAST-MODIFIED:20260102T141953Z
UID:19098-1767866400-1767873600@hillcrestrvresortfl.com
SUMMARY:Pentanque
DESCRIPTION:
URL:https://hillcrestrvresortfl.com/event/pentanque-177/
END:VEVENT
BEGIN:VEVENT
DTSTART;TZID=America/Chicago:20260108T100000
DTEND;TZID=America/Chicago:20260108T110000
DTSTAMP:20260423T181522
CREATED:20260107T165204Z
LAST-MODIFIED:20260107T165204Z
UID:19543-1767866400-1767870000@hillcrestrvresortfl.com
SUMMARY:Drumming Classes
DESCRIPTION:
URL:https://hillcrestrvresortfl.com/event/drumming-classes/
END:VEVENT
BEGIN:VEVENT
DTSTART;TZID=America/Chicago:20260108T093000
DTEND;TZID=America/Chicago:20260108T110000
DTSTAMP:20260423T181522
CREATED:20251230T150006Z
LAST-MODIFIED:20251230T150006Z
UID:18986-1767864600-1767870000@hillcrestrvresortfl.com
SUMMARY:Shuffleboard
DESCRIPTION:
URL:https://hillcrestrvresortfl.com/event/shuffleboard-239/
END:VEVENT
BEGIN:VEVENT
DTSTART;TZID=America/Chicago:20260108T090000
DTEND;TZID=America/Chicago:20260108T120000
DTSTAMP:20260423T181522
CREATED:20260102T134048Z
LAST-MODIFIED:20260102T134048Z
UID:19040-1767862800-1767873600@hillcrestrvresortfl.com
SUMMARY:Water Exercises
DESCRIPTION:
URL:https://hillcrestrvresortfl.com/event/water-exercises-7/
END:VEVENT
BEGIN:VEVENT
DTSTART;TZID=America/Chicago:20260108T090000
DTEND;TZID=America/Chicago:20260108T110000
DTSTAMP:20260423T181522
CREATED:20260107T130759Z
LAST-MODIFIED:20260107T130759Z
UID:19371-1767862800-1767870000@hillcrestrvresortfl.com
SUMMARY:Horseshoes
DESCRIPTION:
URL:https://hillcrestrvresortfl.com/event/horseshoes-235/
END:VEVENT
BEGIN:VEVENT
DTSTART;TZID=America/Chicago:20260108T083000
DTEND;TZID=America/Chicago:20260108T093000
DTSTAMP:20260423T181522
CREATED:20260102T170642Z
LAST-MODIFIED:20260102T170642Z
UID:19148-1767861000-1767864600@hillcrestrvresortfl.com
SUMMARY:Choir Practice
DESCRIPTION:
URL:https://hillcrestrvresortfl.com/event/choir-practice-30/
END:VEVENT
BEGIN:VEVENT
DTSTART;TZID=America/Chicago:20260108T080000
DTEND;TZID=America/Chicago:20260108T170000
DTSTAMP:20260423T181522
CREATED:20260102T204017Z
LAST-MODIFIED:20260102T204017Z
UID:19310-1767859200-1767891600@hillcrestrvresortfl.com
SUMMARY:Pickleball
DESCRIPTION:
URL:https://hillcrestrvresortfl.com/event/pickleball-287/
END:VEVENT
BEGIN:VEVENT
DTSTART;TZID=America/Chicago:20260107T180000
DTEND;TZID=America/Chicago:20260107T210000
DTSTAMP:20260423T181522
CREATED:20260107T164305Z
LAST-MODIFIED:20260107T164305Z
UID:19535-1767808800-1767819600@hillcrestrvresortfl.com
SUMMARY:Darts
DESCRIPTION:
URL:https://hillcrestrvresortfl.com/event/darts-26/
END:VEVENT
BEGIN:VEVENT
DTSTART;TZID=America/Chicago:20260107T180000
DTEND;TZID=America/Chicago:20260107T210000
DTSTAMP:20260423T181522
CREATED:20260102T193456Z
LAST-MODIFIED:20260102T193456Z
UID:19238-1767808800-1767819600@hillcrestrvresortfl.com
SUMMARY:Game Night
DESCRIPTION:
URL:https://hillcrestrvresortfl.com/event/game-night-88/
END:VEVENT
BEGIN:VEVENT
DTSTART;TZID=America/Chicago:20260107T130000
DTEND;TZID=America/Chicago:20260107T150000
DTSTAMP:20260423T181522
CREATED:20260107T163750Z
LAST-MODIFIED:20260107T163750Z
UID:19527-1767790800-1767798000@hillcrestrvresortfl.com
SUMMARY:Fiddler's Jam
DESCRIPTION:
URL:https://hillcrestrvresortfl.com/event/fiddlers-jam-31/
END:VEVENT
BEGIN:VEVENT
DTSTART;TZID=America/Chicago:20260107T103000
DTEND;TZID=America/Chicago:20260107T133000
DTSTAMP:20260423T181522
CREATED:20260102T202437Z
LAST-MODIFIED:20260102T202437Z
UID:19280-1767781800-1767792600@hillcrestrvresortfl.com
SUMMARY:Golf
DESCRIPTION:
URL:https://hillcrestrvresortfl.com/event/golf-30/
END:VEVENT
BEGIN:VEVENT
DTSTART;TZID=America/Chicago:20260107T100000
DTEND;TZID=America/Chicago:20260107T120000
DTSTAMP:20260423T181522
CREATED:20260102T141933Z
LAST-MODIFIED:20260102T141933Z
UID:19096-1767780000-1767787200@hillcrestrvresortfl.com
SUMMARY:Pentanque
DESCRIPTION:
URL:https://hillcrestrvresortfl.com/event/pentanque-176/
END:VEVENT
BEGIN:VEVENT
DTSTART;TZID=America/Chicago:20260107T100000
DTEND;TZID=America/Chicago:20260107T110000
DTSTAMP:20260423T181522
CREATED:20260102T202237Z
LAST-MODIFIED:20260102T202237Z
UID:19272-1767780000-1767783600@hillcrestrvresortfl.com
SUMMARY:Scrabble
DESCRIPTION:
URL:https://hillcrestrvresortfl.com/event/scrabble-36/
END:VEVENT
BEGIN:VEVENT
DTSTART;TZID=America/Chicago:20260107T100000
DTEND;TZID=America/Chicago:20260107T110000
DTSTAMP:20260423T181522
CREATED:20260102T171634Z
LAST-MODIFIED:20260102T171634Z
UID:19178-1767780000-1767783600@hillcrestrvresortfl.com
SUMMARY:Women's Billiards
DESCRIPTION:
URL:https://hillcrestrvresortfl.com/event/womens-billiards-69/
END:VEVENT
BEGIN:VEVENT
DTSTART;TZID=America/Chicago:20260107T093000
DTEND;TZID=America/Chicago:20260107T110000
DTSTAMP:20260423T181522
CREATED:20251230T145936Z
LAST-MODIFIED:20251230T145936Z
UID:18984-1767778200-1767783600@hillcrestrvresortfl.com
SUMMARY:Shuffleboard
DESCRIPTION:
URL:https://hillcrestrvresortfl.com/event/shuffleboard-238/
END:VEVENT
BEGIN:VEVENT
DTSTART;TZID=America/Chicago:20260107T090000
DTEND;TZID=America/Chicago:20260107T120000
DTSTAMP:20260423T181522
CREATED:20260102T134027Z
LAST-MODIFIED:20260102T134027Z
UID:19038-1767776400-1767787200@hillcrestrvresortfl.com
SUMMARY:Water Exercises
DESCRIPTION:
URL:https://hillcrestrvresortfl.com/event/water-exercises-6/
END:VEVENT
BEGIN:VEVENT
DTSTART;TZID=America/Chicago:20260107T090000
DTEND;TZID=America/Chicago:20260107T110000
DTSTAMP:20260423T181522
CREATED:20260107T130740Z
LAST-MODIFIED:20260107T130740Z
UID:19369-1767776400-1767783600@hillcrestrvresortfl.com
SUMMARY:Horseshoes
DESCRIPTION:
URL:https://hillcrestrvresortfl.com/event/horseshoes-234/
END:VEVENT
BEGIN:VEVENT
DTSTART;TZID=America/Chicago:20260107T090000
DTEND;TZID=America/Chicago:20260107T100000
DTSTAMP:20260423T181522
CREATED:20260107T135007Z
LAST-MODIFIED:20260107T135007Z
UID:19435-1767776400-1767780000@hillcrestrvresortfl.com
SUMMARY:Bone Builder Exercises
DESCRIPTION:
URL:https://hillcrestrvresortfl.com/event/bone-builder-exercises-18/
END:VEVENT
BEGIN:VEVENT
DTSTART;TZID=America/Chicago:20260107T080000
DTEND;TZID=America/Chicago:20260107T170000
DTSTAMP:20260423T181522
CREATED:20260102T204004Z
LAST-MODIFIED:20260102T204004Z
UID:19308-1767772800-1767805200@hillcrestrvresortfl.com
SUMMARY:Pickleball
DESCRIPTION:
URL:https://hillcrestrvresortfl.com/event/pickleball-286/
END:VEVENT
BEGIN:VEVENT
DTSTART;TZID=America/Chicago:20260106T190000
DTEND;TZID=America/Chicago:20260106T210000
DTSTAMP:20260423T181522
CREATED:20260107T161647Z
LAST-MODIFIED:20260107T161647Z
UID:19521-1767726000-1767733200@hillcrestrvresortfl.com
SUMMARY:Karaoke
DESCRIPTION:
URL:https://hillcrestrvresortfl.com/event/karaoke-34/
END:VEVENT
BEGIN:VEVENT
DTSTART;TZID=America/Chicago:20260106T180000
DTEND;TZID=America/Chicago:20260106T210000
DTSTAMP:20260423T181522
CREATED:20260102T170928Z
LAST-MODIFIED:20260102T170928Z
UID:19158-1767722400-1767733200@hillcrestrvresortfl.com
SUMMARY:Bid Euchre
DESCRIPTION:
URL:https://hillcrestrvresortfl.com/event/bid-euchre-69/
END:VEVENT
BEGIN:VEVENT
DTSTART;TZID=America/Chicago:20260106T130000
DTEND;TZID=America/Chicago:20260106T160000
DTSTAMP:20260423T181522
CREATED:20260102T202139Z
LAST-MODIFIED:20260102T202139Z
UID:19268-1767704400-1767715200@hillcrestrvresortfl.com
SUMMARY:Jewelry Making
DESCRIPTION:
URL:https://hillcrestrvresortfl.com/event/jewelry-making/
END:VEVENT
BEGIN:VEVENT
DTSTART;TZID=America/Chicago:20260106T120000
DTEND;TZID=America/Chicago:20260106T150000
DTSTAMP:20260423T181522
CREATED:20260107T161615Z
LAST-MODIFIED:20260107T161615Z
UID:19519-1767700800-1767711600@hillcrestrvresortfl.com
SUMMARY:Potluck & Nickel Bingo
DESCRIPTION:
URL:https://hillcrestrvresortfl.com/event/potluck-nickel-bingo-4/
END:VEVENT
END:VCALENDAR