BEGIN:VCALENDAR
VERSION:2.0
PRODID:-//Hillcrest RV Resort - ECPv6.15.20//NONSGML v1.0//EN
CALSCALE:GREGORIAN
METHOD:PUBLISH
X-WR-CALNAME:Hillcrest RV Resort
X-ORIGINAL-URL:https://hillcrestrvresortfl.com
X-WR-CALDESC:Events for Hillcrest RV Resort
REFRESH-INTERVAL;VALUE=DURATION:PT1H
X-Robots-Tag:noindex
X-PUBLISHED-TTL:PT1H
BEGIN:VTIMEZONE
TZID:America/Chicago
BEGIN:DAYLIGHT
TZOFFSETFROM:-0600
TZOFFSETTO:-0500
TZNAME:CDT
DTSTART:20240310T080000
END:DAYLIGHT
BEGIN:STANDARD
TZOFFSETFROM:-0500
TZOFFSETTO:-0600
TZNAME:CST
DTSTART:20241103T070000
END:STANDARD
BEGIN:DAYLIGHT
TZOFFSETFROM:-0600
TZOFFSETTO:-0500
TZNAME:CDT
DTSTART:20250309T080000
END:DAYLIGHT
BEGIN:STANDARD
TZOFFSETFROM:-0500
TZOFFSETTO:-0600
TZNAME:CST
DTSTART:20251102T070000
END:STANDARD
BEGIN:DAYLIGHT
TZOFFSETFROM:-0600
TZOFFSETTO:-0500
TZNAME:CDT
DTSTART:20260308T080000
END:DAYLIGHT
BEGIN:STANDARD
TZOFFSETFROM:-0500
TZOFFSETTO:-0600
TZNAME:CST
DTSTART:20261101T070000
END:STANDARD
END:VTIMEZONE
BEGIN:VEVENT
DTSTART;TZID=America/Chicago:20251204T130000
DTEND;TZID=America/Chicago:20251204T143000
DTSTAMP:20260423T190127
CREATED:20251128T173614Z
LAST-MODIFIED:20251128T173614Z
UID:18753-1764853200-1764858600@hillcrestrvresortfl.com
SUMMARY:Line Dancing W/Dena
DESCRIPTION:
URL:https://hillcrestrvresortfl.com/event/line-dancing-w-dena-5/
END:VEVENT
BEGIN:VEVENT
DTSTART;TZID=America/Chicago:20251204T090000
DTEND;TZID=America/Chicago:20251204T120000
DTSTAMP:20260423T190127
CREATED:20251128T164813Z
LAST-MODIFIED:20251128T164813Z
UID:18681-1764838800-1764849600@hillcrestrvresortfl.com
SUMMARY:Horseshoes
DESCRIPTION:
URL:https://hillcrestrvresortfl.com/event/horseshoes-210/
END:VEVENT
BEGIN:VEVENT
DTSTART;TZID=America/Chicago:20251204T083000
DTEND;TZID=America/Chicago:20251204T100000
DTSTAMP:20260423T190127
CREATED:20251128T204433Z
LAST-MODIFIED:20251128T204433Z
UID:18907-1764837000-1764842400@hillcrestrvresortfl.com
SUMMARY:Choir Practice
DESCRIPTION:
URL:https://hillcrestrvresortfl.com/event/choir-practice-26/
END:VEVENT
BEGIN:VEVENT
DTSTART;TZID=America/Chicago:20251204T080000
DTEND;TZID=America/Chicago:20251204T120000
DTSTAMP:20260423T190127
CREATED:20251128T152404Z
LAST-MODIFIED:20251128T152404Z
UID:18619-1764835200-1764849600@hillcrestrvresortfl.com
SUMMARY:Pickleball
DESCRIPTION:
URL:https://hillcrestrvresortfl.com/event/pickleball-252/
END:VEVENT
BEGIN:VEVENT
DTSTART;TZID=America/Chicago:20251203T180000
DTEND;TZID=America/Chicago:20251203T210000
DTSTAMP:20260423T190127
CREATED:20251128T203930Z
LAST-MODIFIED:20251128T203930Z
UID:18891-1764784800-1764795600@hillcrestrvresortfl.com
SUMMARY:Game Night
DESCRIPTION:
URL:https://hillcrestrvresortfl.com/event/game-night-79/
END:VEVENT
BEGIN:VEVENT
DTSTART;TZID=America/Chicago:20251203T180000
DTEND;TZID=America/Chicago:20251203T210000
DTSTAMP:20260423T190127
CREATED:20251128T173346Z
LAST-MODIFIED:20251128T173346Z
UID:18747-1764784800-1764795600@hillcrestrvresortfl.com
SUMMARY:Darts
DESCRIPTION:
URL:https://hillcrestrvresortfl.com/event/darts-23/
END:VEVENT
BEGIN:VEVENT
DTSTART;TZID=America/Chicago:20251203T130000
DTEND;TZID=America/Chicago:20251203T150000
DTSTAMP:20260423T190127
CREATED:20251128T173028Z
LAST-MODIFIED:20251128T173028Z
UID:18739-1764766800-1764774000@hillcrestrvresortfl.com
SUMMARY:Fiddler's Jam
DESCRIPTION:
URL:https://hillcrestrvresortfl.com/event/fiddlers-jam-27/
END:VEVENT
BEGIN:VEVENT
DTSTART;TZID=America/Chicago:20251203T103000
DTEND;TZID=America/Chicago:20251203T133000
DTSTAMP:20260423T190127
CREATED:20251128T203705Z
LAST-MODIFIED:20251128T203705Z
UID:18881-1764757800-1764768600@hillcrestrvresortfl.com
SUMMARY:Golf
DESCRIPTION:
URL:https://hillcrestrvresortfl.com/event/golf-25/
END:VEVENT
BEGIN:VEVENT
DTSTART;TZID=America/Chicago:20251203T090000
DTEND;TZID=America/Chicago:20251203T120000
DTSTAMP:20260423T190127
CREATED:20251128T164749Z
LAST-MODIFIED:20251128T164749Z
UID:18679-1764752400-1764763200@hillcrestrvresortfl.com
SUMMARY:Horseshoes
DESCRIPTION:
URL:https://hillcrestrvresortfl.com/event/horseshoes-209/
END:VEVENT
BEGIN:VEVENT
DTSTART;TZID=America/Chicago:20251203T080000
DTEND;TZID=America/Chicago:20251203T120000
DTSTAMP:20260423T190127
CREATED:20251128T152341Z
LAST-MODIFIED:20251128T152341Z
UID:18617-1764748800-1764763200@hillcrestrvresortfl.com
SUMMARY:Pickleball
DESCRIPTION:
URL:https://hillcrestrvresortfl.com/event/pickleball-251/
END:VEVENT
BEGIN:VEVENT
DTSTART;TZID=America/Chicago:20251202T190000
DTEND;TZID=America/Chicago:20251202T210000
DTSTAMP:20260423T190127
CREATED:20251128T172729Z
LAST-MODIFIED:20251128T172729Z
UID:18729-1764702000-1764709200@hillcrestrvresortfl.com
SUMMARY:Karaoke
DESCRIPTION:
URL:https://hillcrestrvresortfl.com/event/karaoke-29/
END:VEVENT
BEGIN:VEVENT
DTSTART;TZID=America/Chicago:20251202T180000
DTEND;TZID=America/Chicago:20251202T210000
DTSTAMP:20260423T190127
CREATED:20251128T201510Z
LAST-MODIFIED:20251128T201510Z
UID:18865-1764698400-1764709200@hillcrestrvresortfl.com
SUMMARY:Bid Euchre
DESCRIPTION:
URL:https://hillcrestrvresortfl.com/event/bid-euchre-60/
END:VEVENT
BEGIN:VEVENT
DTSTART;TZID=America/Chicago:20251202T130000
DTEND;TZID=America/Chicago:20251202T150000
DTSTAMP:20260423T190127
CREATED:20251128T200749Z
LAST-MODIFIED:20251128T200749Z
UID:18841-1764680400-1764687600@hillcrestrvresortfl.com
SUMMARY:Men's Billiards
DESCRIPTION:
URL:https://hillcrestrvresortfl.com/event/mens-billiards-94/
END:VEVENT
BEGIN:VEVENT
DTSTART;TZID=America/Chicago:20251202T093000
DTEND;TZID=America/Chicago:20251202T103000
DTSTAMP:20260423T190127
CREATED:20251128T172259Z
LAST-MODIFIED:20251128T172259Z
UID:18719-1764667800-1764671400@hillcrestrvresortfl.com
SUMMARY:One Stop Shop (OSS)
DESCRIPTION:
URL:https://hillcrestrvresortfl.com/event/one-stop-shop-oss-5/
END:VEVENT
BEGIN:VEVENT
DTSTART;TZID=America/Chicago:20251202T090000
DTEND;TZID=America/Chicago:20251202T120000
DTSTAMP:20260423T190127
CREATED:20251128T164727Z
LAST-MODIFIED:20251128T164727Z
UID:18677-1764666000-1764676800@hillcrestrvresortfl.com
SUMMARY:Horseshoes
DESCRIPTION:
URL:https://hillcrestrvresortfl.com/event/horseshoes-208/
END:VEVENT
BEGIN:VEVENT
DTSTART;TZID=America/Chicago:20251202T080000
DTEND;TZID=America/Chicago:20251202T120000
DTSTAMP:20260423T190127
CREATED:20251128T152321Z
LAST-MODIFIED:20251128T152321Z
UID:18615-1764662400-1764676800@hillcrestrvresortfl.com
SUMMARY:Pickleball
DESCRIPTION:
URL:https://hillcrestrvresortfl.com/event/pickleball-250/
END:VEVENT
BEGIN:VEVENT
DTSTART;TZID=America/Chicago:20251201T180000
DTEND;TZID=America/Chicago:20251201T210000
DTSTAMP:20260423T190127
CREATED:20251128T151716Z
LAST-MODIFIED:20251128T151716Z
UID:18597-1764612000-1764622800@hillcrestrvresortfl.com
SUMMARY:Bingo
DESCRIPTION:
URL:https://hillcrestrvresortfl.com/event/bingo-64/
END:VEVENT
BEGIN:VEVENT
DTSTART;TZID=America/Chicago:20251201T130000
DTEND;TZID=America/Chicago:20251201T160000
DTSTAMP:20260423T190127
CREATED:20251128T151407Z
LAST-MODIFIED:20251128T151407Z
UID:18587-1764594000-1764604800@hillcrestrvresortfl.com
SUMMARY:Quilting/Sewing/Knitting/Crocheting
DESCRIPTION:
URL:https://hillcrestrvresortfl.com/event/quilting-sewing-knitting-crocheting-15/
END:VEVENT
BEGIN:VEVENT
DTSTART;TZID=America/Chicago:20251201T090000
DTEND;TZID=America/Chicago:20251201T120000
DTSTAMP:20260423T190127
CREATED:20251128T164704Z
LAST-MODIFIED:20251128T164704Z
UID:18675-1764579600-1764590400@hillcrestrvresortfl.com
SUMMARY:Horseshoes
DESCRIPTION:
URL:https://hillcrestrvresortfl.com/event/horseshoes-207/
END:VEVENT
BEGIN:VEVENT
DTSTART;TZID=America/Chicago:20251201T090000
DTEND;TZID=America/Chicago:20251201T100000
DTSTAMP:20260423T190127
CREATED:20251128T151259Z
LAST-MODIFIED:20251128T151259Z
UID:18585-1764579600-1764583200@hillcrestrvresortfl.com
SUMMARY:Association Meeting
DESCRIPTION:
URL:https://hillcrestrvresortfl.com/event/association-meeting-11/
END:VEVENT
BEGIN:VEVENT
DTSTART;TZID=America/Chicago:20251201T080000
DTEND;TZID=America/Chicago:20251201T120000
DTSTAMP:20260423T190127
CREATED:20251128T152300Z
LAST-MODIFIED:20251128T152300Z
UID:18613-1764576000-1764590400@hillcrestrvresortfl.com
SUMMARY:Pickleball
DESCRIPTION:
URL:https://hillcrestrvresortfl.com/event/pickleball-249/
END:VEVENT
BEGIN:VEVENT
DTSTART;TZID=America/Chicago:20251201T080000
DTEND;TZID=America/Chicago:20251201T090000
DTSTAMP:20260423T190127
CREATED:20251128T151116Z
LAST-MODIFIED:20251128T151116Z
UID:18583-1764576000-1764579600@hillcrestrvresortfl.com
SUMMARY:Coffee & Donuts
DESCRIPTION:
URL:https://hillcrestrvresortfl.com/event/coffee-donuts-3/
END:VEVENT
BEGIN:VEVENT
DTSTART;TZID=America/Chicago:20251130T190000
DTEND;TZID=America/Chicago:20251130T200000
DTSTAMP:20260423T190127
CREATED:20251029T165520Z
LAST-MODIFIED:20251029T165520Z
UID:18484-1764529200-1764532800@hillcrestrvresortfl.com
SUMMARY:Dance (DJ Robert)
DESCRIPTION:
URL:https://hillcrestrvresortfl.com/event/dance-dj-robert/
END:VEVENT
BEGIN:VEVENT
DTSTART;TZID=America/Chicago:20251130T180000
DTEND;TZID=America/Chicago:20251130T190000
DTSTAMP:20260423T190127
CREATED:20251029T165437Z
LAST-MODIFIED:20251029T165437Z
UID:18482-1764525600-1764529200@hillcrestrvresortfl.com
SUMMARY:Ice Cream Social
DESCRIPTION:
URL:https://hillcrestrvresortfl.com/event/ice-cream-social-22/
END:VEVENT
BEGIN:VEVENT
DTSTART;TZID=America/Chicago:20251130T100000
DTEND;TZID=America/Chicago:20251130T110000
DTSTAMP:20260423T190127
CREATED:20251029T162421Z
LAST-MODIFIED:20251029T162421Z
UID:18392-1764496800-1764500400@hillcrestrvresortfl.com
SUMMARY:Church
DESCRIPTION:
URL:https://hillcrestrvresortfl.com/event/church-43/
END:VEVENT
BEGIN:VEVENT
DTSTART;TZID=America/Chicago:20251130T080000
DTEND;TZID=America/Chicago:20251130T100000
DTSTAMP:20260423T190127
CREATED:20251029T171059Z
LAST-MODIFIED:20251029T171059Z
UID:18548-1764489600-1764496800@hillcrestrvresortfl.com
SUMMARY:Pickleball
DESCRIPTION:
URL:https://hillcrestrvresortfl.com/event/pickleball-248/
END:VEVENT
BEGIN:VEVENT
DTSTART;TZID=America/Chicago:20251129T093000
DTEND;TZID=America/Chicago:20251129T103000
DTSTAMP:20260423T190127
CREATED:20251029T164007Z
LAST-MODIFIED:20251029T164007Z
UID:18456-1764408600-1764412200@hillcrestrvresortfl.com
SUMMARY:Shuffleboard
DESCRIPTION:
URL:https://hillcrestrvresortfl.com/event/shuffleboard-232/
END:VEVENT
BEGIN:VEVENT
DTSTART;TZID=America/Chicago:20251129T080000
DTEND;TZID=America/Chicago:20251129T100000
DTSTAMP:20260423T190127
CREATED:20251029T171031Z
LAST-MODIFIED:20251029T171031Z
UID:18546-1764403200-1764410400@hillcrestrvresortfl.com
SUMMARY:Pickleball
DESCRIPTION:
URL:https://hillcrestrvresortfl.com/event/pickleball-247/
END:VEVENT
BEGIN:VEVENT
DTSTART;TZID=America/Chicago:20251128T180000
DTEND;TZID=America/Chicago:20251128T210000
DTSTAMP:20260423T190127
CREATED:20251029T165603Z
LAST-MODIFIED:20251029T165603Z
UID:18486-1764352800-1764363600@hillcrestrvresortfl.com
SUMMARY:Jam
DESCRIPTION:
URL:https://hillcrestrvresortfl.com/event/jam-17/
END:VEVENT
BEGIN:VEVENT
DTSTART;TZID=America/Chicago:20251128T130000
DTEND;TZID=America/Chicago:20251128T160000
DTSTAMP:20260423T190127
CREATED:20251029T162618Z
LAST-MODIFIED:20251029T162618Z
UID:18400-1764334800-1764345600@hillcrestrvresortfl.com
SUMMARY:Bowling
DESCRIPTION:
URL:https://hillcrestrvresortfl.com/event/bowling-44/
END:VEVENT
END:VCALENDAR