BEGIN:VCALENDAR
VERSION:2.0
PRODID:-//Hillcrest RV Resort - ECPv6.15.20//NONSGML v1.0//EN
CALSCALE:GREGORIAN
METHOD:PUBLISH
X-WR-CALNAME:Hillcrest RV Resort
X-ORIGINAL-URL:https://hillcrestrvresortfl.com
X-WR-CALDESC:Events for Hillcrest RV Resort
REFRESH-INTERVAL;VALUE=DURATION:PT1H
X-Robots-Tag:noindex
X-PUBLISHED-TTL:PT1H
BEGIN:VTIMEZONE
TZID:America/Chicago
BEGIN:DAYLIGHT
TZOFFSETFROM:-0600
TZOFFSETTO:-0500
TZNAME:CDT
DTSTART:20240310T080000
END:DAYLIGHT
BEGIN:STANDARD
TZOFFSETFROM:-0500
TZOFFSETTO:-0600
TZNAME:CST
DTSTART:20241103T070000
END:STANDARD
BEGIN:DAYLIGHT
TZOFFSETFROM:-0600
TZOFFSETTO:-0500
TZNAME:CDT
DTSTART:20250309T080000
END:DAYLIGHT
BEGIN:STANDARD
TZOFFSETFROM:-0500
TZOFFSETTO:-0600
TZNAME:CST
DTSTART:20251102T070000
END:STANDARD
BEGIN:DAYLIGHT
TZOFFSETFROM:-0600
TZOFFSETTO:-0500
TZNAME:CDT
DTSTART:20260308T080000
END:DAYLIGHT
BEGIN:STANDARD
TZOFFSETFROM:-0500
TZOFFSETTO:-0600
TZNAME:CST
DTSTART:20261101T070000
END:STANDARD
END:VTIMEZONE
BEGIN:VEVENT
DTSTART;TZID=America/Chicago:20250131T080000
DTEND;TZID=America/Chicago:20250131T170000
DTSTAMP:20260425T233001
CREATED:20250113T204909Z
LAST-MODIFIED:20250113T204909Z
UID:17210-1738310400-1738342800@hillcrestrvresortfl.com
SUMMARY:Water Aerobics
DESCRIPTION:
URL:https://hillcrestrvresortfl.com/event/water-aerobics-168/
END:VEVENT
BEGIN:VEVENT
DTSTART;TZID=America/Chicago:20250131T080000
DTEND;TZID=America/Chicago:20250131T170000
DTSTAMP:20260425T233001
CREATED:20250113T195937Z
LAST-MODIFIED:20250113T195937Z
UID:17164-1738310400-1738342800@hillcrestrvresortfl.com
SUMMARY:shuffleboard
DESCRIPTION:
URL:https://hillcrestrvresortfl.com/event/shuffleboard-166/
END:VEVENT
BEGIN:VEVENT
DTSTART;TZID=America/Chicago:20250130T183000
DTEND;TZID=America/Chicago:20250130T210000
DTSTAMP:20260425T233001
CREATED:20250114T133238Z
LAST-MODIFIED:20250114T133238Z
UID:17394-1738261800-1738270800@hillcrestrvresortfl.com
SUMMARY:Men's Billiards
DESCRIPTION:
URL:https://hillcrestrvresortfl.com/event/mens-billiards-68/
END:VEVENT
BEGIN:VEVENT
DTSTART;TZID=America/Chicago:20250130T180000
DTEND;TZID=America/Chicago:20250130T213000
DTSTAMP:20260425T233001
CREATED:20250113T181656Z
LAST-MODIFIED:20250113T181656Z
UID:16984-1738260000-1738272600@hillcrestrvresortfl.com
SUMMARY:Bingo
DESCRIPTION:
URL:https://hillcrestrvresortfl.com/event/bingo-52/
END:VEVENT
BEGIN:VEVENT
DTSTART;TZID=America/Chicago:20250130T180000
DTEND;TZID=America/Chicago:20250130T210000
DTSTAMP:20260425T233001
CREATED:20250114T132635Z
LAST-MODIFIED:20250114T132635Z
UID:17368-1738260000-1738270800@hillcrestrvresortfl.com
SUMMARY:Bid Euchre
DESCRIPTION:
URL:https://hillcrestrvresortfl.com/event/bid-euchre-43/
END:VEVENT
BEGIN:VEVENT
DTSTART;TZID=America/Chicago:20250130T150000
DTEND;TZID=America/Chicago:20250130T180000
DTSTAMP:20260425T233001
CREATED:20250113T181621Z
LAST-MODIFIED:20250113T181621Z
UID:16982-1738249200-1738260000@hillcrestrvresortfl.com
SUMMARY:Acoustic Jam
DESCRIPTION:
URL:https://hillcrestrvresortfl.com/event/acoustic-jam-28/
END:VEVENT
BEGIN:VEVENT
DTSTART;TZID=America/Chicago:20250130T130000
DTEND;TZID=America/Chicago:20250130T150000
DTSTAMP:20260425T233001
CREATED:20250113T181546Z
LAST-MODIFIED:20250113T181546Z
UID:16980-1738242000-1738249200@hillcrestrvresortfl.com
SUMMARY:Line Dancing
DESCRIPTION:
URL:https://hillcrestrvresortfl.com/event/line-dancing-21/
END:VEVENT
BEGIN:VEVENT
DTSTART;TZID=America/Chicago:20250130T110000
DTEND;TZID=America/Chicago:20250130T123000
DTSTAMP:20260425T233001
CREATED:20250113T181506Z
LAST-MODIFIED:20250113T181506Z
UID:16978-1738234800-1738240200@hillcrestrvresortfl.com
SUMMARY:Cornhole
DESCRIPTION:
URL:https://hillcrestrvresortfl.com/event/cornhole-9/
END:VEVENT
BEGIN:VEVENT
DTSTART;TZID=America/Chicago:20250130T100000
DTEND;TZID=America/Chicago:20250130T170000
DTSTAMP:20260425T233001
CREATED:20250114T124531Z
LAST-MODIFIED:20250114T124531Z
UID:17271-1738231200-1738256400@hillcrestrvresortfl.com
SUMMARY:Pentanque
DESCRIPTION:
URL:https://hillcrestrvresortfl.com/event/pentanque-109/
END:VEVENT
BEGIN:VEVENT
DTSTART;TZID=America/Chicago:20250130T100000
DTEND;TZID=America/Chicago:20250130T120000
DTSTAMP:20260425T233001
CREATED:20250113T181438Z
LAST-MODIFIED:20250113T181438Z
UID:16976-1738231200-1738238400@hillcrestrvresortfl.com
SUMMARY:Drumming Exercises
DESCRIPTION:
URL:https://hillcrestrvresortfl.com/event/drumming-exercises-4/
END:VEVENT
BEGIN:VEVENT
DTSTART;TZID=America/Chicago:20250130T090000
DTEND;TZID=America/Chicago:20250130T210000
DTSTAMP:20260425T233001
CREATED:20250113T184506Z
LAST-MODIFIED:20250113T184506Z
UID:17058-1738227600-1738270800@hillcrestrvresortfl.com
SUMMARY:Horseshoes
DESCRIPTION:
URL:https://hillcrestrvresortfl.com/event/horseshoes-141/
END:VEVENT
BEGIN:VEVENT
DTSTART;TZID=America/Chicago:20250130T090000
DTEND;TZID=America/Chicago:20250130T103000
DTSTAMP:20260425T233001
CREATED:20250114T132212Z
LAST-MODIFIED:20250114T132212Z
UID:17350-1738227600-1738233000@hillcrestrvresortfl.com
SUMMARY:Choir Practice
DESCRIPTION:
URL:https://hillcrestrvresortfl.com/event/choir-practice-13/
END:VEVENT
BEGIN:VEVENT
DTSTART;TZID=America/Chicago:20250130T080000
DTEND;TZID=America/Chicago:20250130T220000
DTSTAMP:20260425T233001
CREATED:20250113T184337Z
LAST-MODIFIED:20250113T184337Z
UID:17052-1738224000-1738274400@hillcrestrvresortfl.com
SUMMARY:Pickleball
DESCRIPTION:
URL:https://hillcrestrvresortfl.com/event/pickleball-189/
END:VEVENT
BEGIN:VEVENT
DTSTART;TZID=America/Chicago:20250130T080000
DTEND;TZID=America/Chicago:20250130T170000
DTSTAMP:20260425T233001
CREATED:20250113T204855Z
LAST-MODIFIED:20250113T204855Z
UID:17208-1738224000-1738256400@hillcrestrvresortfl.com
SUMMARY:Water Aerobics
DESCRIPTION:
URL:https://hillcrestrvresortfl.com/event/water-aerobics-167/
END:VEVENT
BEGIN:VEVENT
DTSTART;TZID=America/Chicago:20250130T080000
DTEND;TZID=America/Chicago:20250130T170000
DTSTAMP:20260425T233001
CREATED:20250113T195921Z
LAST-MODIFIED:20250113T195921Z
UID:17162-1738224000-1738256400@hillcrestrvresortfl.com
SUMMARY:shuffleboard
DESCRIPTION:
URL:https://hillcrestrvresortfl.com/event/shuffleboard-165/
END:VEVENT
BEGIN:VEVENT
DTSTART;TZID=America/Chicago:20250129T180000
DTEND;TZID=America/Chicago:20250129T213000
DTSTAMP:20260425T233001
CREATED:20250113T181308Z
LAST-MODIFIED:20250113T181308Z
UID:16974-1738173600-1738186200@hillcrestrvresortfl.com
SUMMARY:Darts
DESCRIPTION:
URL:https://hillcrestrvresortfl.com/event/darts-20/
END:VEVENT
BEGIN:VEVENT
DTSTART;TZID=America/Chicago:20250129T180000
DTEND;TZID=America/Chicago:20250129T210000
DTSTAMP:20260425T233001
CREATED:20250114T130913Z
LAST-MODIFIED:20250114T130913Z
UID:17340-1738173600-1738184400@hillcrestrvresortfl.com
SUMMARY:Game Night
DESCRIPTION:
URL:https://hillcrestrvresortfl.com/event/game-night-54/
END:VEVENT
BEGIN:VEVENT
DTSTART;TZID=America/Chicago:20250129T130000
DTEND;TZID=America/Chicago:20250129T150000
DTSTAMP:20260425T233001
CREATED:20250113T181238Z
LAST-MODIFIED:20250113T181238Z
UID:16972-1738155600-1738162800@hillcrestrvresortfl.com
SUMMARY:Fiddler's Jam
DESCRIPTION:
URL:https://hillcrestrvresortfl.com/event/fiddlers-jam-23/
END:VEVENT
BEGIN:VEVENT
DTSTART;TZID=America/Chicago:20250129T110000
DTEND;TZID=America/Chicago:20250129T123000
DTSTAMP:20260425T233001
CREATED:20250113T181209Z
LAST-MODIFIED:20250113T181209Z
UID:16970-1738148400-1738153800@hillcrestrvresortfl.com
SUMMARY:Bible Study
DESCRIPTION:
URL:https://hillcrestrvresortfl.com/event/bible-study-12/
END:VEVENT
BEGIN:VEVENT
DTSTART;TZID=America/Chicago:20250129T103000
DTEND;TZID=America/Chicago:20250129T170000
DTSTAMP:20260425T233001
CREATED:20250114T130446Z
LAST-MODIFIED:20250114T130446Z
UID:17322-1738146600-1738170000@hillcrestrvresortfl.com
SUMMARY:Golf
DESCRIPTION:
URL:https://hillcrestrvresortfl.com/event/golf-13/
END:VEVENT
BEGIN:VEVENT
DTSTART;TZID=America/Chicago:20250129T100000
DTEND;TZID=America/Chicago:20250129T170000
DTSTAMP:20260425T233001
CREATED:20250114T124514Z
LAST-MODIFIED:20250114T124514Z
UID:17269-1738144800-1738170000@hillcrestrvresortfl.com
SUMMARY:Pentanque
DESCRIPTION:
URL:https://hillcrestrvresortfl.com/event/pentanque-108/
END:VEVENT
BEGIN:VEVENT
DTSTART;TZID=America/Chicago:20250129T100000
DTEND;TZID=America/Chicago:20250129T130000
DTSTAMP:20260425T233001
CREATED:20250114T130006Z
LAST-MODIFIED:20250114T130006Z
UID:17300-1738144800-1738155600@hillcrestrvresortfl.com
SUMMARY:Women's Billiards
DESCRIPTION:
URL:https://hillcrestrvresortfl.com/event/womens-billiards-41/
END:VEVENT
BEGIN:VEVENT
DTSTART;TZID=America/Chicago:20250129T100000
DTEND;TZID=America/Chicago:20250129T120000
DTSTAMP:20260425T233001
CREATED:20250114T130239Z
LAST-MODIFIED:20250114T130239Z
UID:17312-1738144800-1738152000@hillcrestrvresortfl.com
SUMMARY:Scrabble
DESCRIPTION:
URL:https://hillcrestrvresortfl.com/event/scrabble-27/
END:VEVENT
BEGIN:VEVENT
DTSTART;TZID=America/Chicago:20250129T090000
DTEND;TZID=America/Chicago:20250129T210000
DTSTAMP:20260425T233001
CREATED:20250113T184532Z
LAST-MODIFIED:20250113T184532Z
UID:17060-1738141200-1738184400@hillcrestrvresortfl.com
SUMMARY:Horseshoes
DESCRIPTION:
URL:https://hillcrestrvresortfl.com/event/horseshoes-142/
END:VEVENT
BEGIN:VEVENT
DTSTART;TZID=America/Chicago:20250129T090000
DTEND;TZID=America/Chicago:20250129T120000
DTSTAMP:20260425T233001
CREATED:20250113T181137Z
LAST-MODIFIED:20250113T181137Z
UID:16968-1738141200-1738152000@hillcrestrvresortfl.com
SUMMARY:Bone Builder Exercises
DESCRIPTION:
URL:https://hillcrestrvresortfl.com/event/bone-builder-exercises-10/
END:VEVENT
BEGIN:VEVENT
DTSTART;TZID=America/Chicago:20250129T080000
DTEND;TZID=America/Chicago:20250129T220000
DTSTAMP:20260425T233001
CREATED:20250113T184316Z
LAST-MODIFIED:20250113T184316Z
UID:17050-1738137600-1738188000@hillcrestrvresortfl.com
SUMMARY:Pickleball
DESCRIPTION:
URL:https://hillcrestrvresortfl.com/event/pickleball-188/
END:VEVENT
BEGIN:VEVENT
DTSTART;TZID=America/Chicago:20250129T080000
DTEND;TZID=America/Chicago:20250129T170000
DTSTAMP:20260425T233001
CREATED:20250113T204841Z
LAST-MODIFIED:20250113T204841Z
UID:17206-1738137600-1738170000@hillcrestrvresortfl.com
SUMMARY:Water Aerobics
DESCRIPTION:
URL:https://hillcrestrvresortfl.com/event/water-aerobics-166/
END:VEVENT
BEGIN:VEVENT
DTSTART;TZID=America/Chicago:20250129T080000
DTEND;TZID=America/Chicago:20250129T170000
DTSTAMP:20260425T233001
CREATED:20250113T195857Z
LAST-MODIFIED:20250113T195857Z
UID:17160-1738137600-1738170000@hillcrestrvresortfl.com
SUMMARY:shuffleboard
DESCRIPTION:
URL:https://hillcrestrvresortfl.com/event/shuffleboard-164/
END:VEVENT
BEGIN:VEVENT
DTSTART;TZID=America/Chicago:20250128T190000
DTEND;TZID=America/Chicago:20250128T213000
DTSTAMP:20260425T233001
CREATED:20250113T181103Z
LAST-MODIFIED:20250113T181103Z
UID:16966-1738090800-1738099800@hillcrestrvresortfl.com
SUMMARY:Karaoke
DESCRIPTION:
URL:https://hillcrestrvresortfl.com/event/karaoke-24/
END:VEVENT
BEGIN:VEVENT
DTSTART;TZID=America/Chicago:20250128T180000
DTEND;TZID=America/Chicago:20250128T210000
DTSTAMP:20260425T233001
CREATED:20250114T134239Z
LAST-MODIFIED:20250114T134239Z
UID:17438-1738087200-1738098000@hillcrestrvresortfl.com
SUMMARY:Texas Hold'Em
DESCRIPTION:
URL:https://hillcrestrvresortfl.com/event/texas-holdem-32/
END:VEVENT
END:VCALENDAR