BEGIN:VCALENDAR
VERSION:2.0
PRODID:-//Hillcrest RV Resort - ECPv6.15.20//NONSGML v1.0//EN
CALSCALE:GREGORIAN
METHOD:PUBLISH
X-WR-CALNAME:Hillcrest RV Resort
X-ORIGINAL-URL:https://hillcrestrvresortfl.com
X-WR-CALDESC:Events for Hillcrest RV Resort
REFRESH-INTERVAL;VALUE=DURATION:PT1H
X-Robots-Tag:noindex
X-PUBLISHED-TTL:PT1H
BEGIN:VTIMEZONE
TZID:America/Chicago
BEGIN:DAYLIGHT
TZOFFSETFROM:-0600
TZOFFSETTO:-0500
TZNAME:CDT
DTSTART:20240310T080000
END:DAYLIGHT
BEGIN:STANDARD
TZOFFSETFROM:-0500
TZOFFSETTO:-0600
TZNAME:CST
DTSTART:20241103T070000
END:STANDARD
BEGIN:DAYLIGHT
TZOFFSETFROM:-0600
TZOFFSETTO:-0500
TZNAME:CDT
DTSTART:20250309T080000
END:DAYLIGHT
BEGIN:STANDARD
TZOFFSETFROM:-0500
TZOFFSETTO:-0600
TZNAME:CST
DTSTART:20251102T070000
END:STANDARD
BEGIN:DAYLIGHT
TZOFFSETFROM:-0600
TZOFFSETTO:-0500
TZNAME:CDT
DTSTART:20260308T080000
END:DAYLIGHT
BEGIN:STANDARD
TZOFFSETFROM:-0500
TZOFFSETTO:-0600
TZNAME:CST
DTSTART:20261101T070000
END:STANDARD
END:VTIMEZONE
BEGIN:VEVENT
DTSTART;TZID=America/Chicago:20251103T180000
DTEND;TZID=America/Chicago:20251103T210000
DTSTAMP:20260424T113328
CREATED:20251029T161227Z
LAST-MODIFIED:20251029T161227Z
UID:18355-1762192800-1762203600@hillcrestrvresortfl.com
SUMMARY:Game Night
DESCRIPTION:
URL:https://hillcrestrvresortfl.com/event/game-night-71/
END:VEVENT
BEGIN:VEVENT
DTSTART;TZID=America/Chicago:20251103T093000
DTEND;TZID=America/Chicago:20251103T103000
DTSTAMP:20260424T113328
CREATED:20251029T162944Z
LAST-MODIFIED:20251029T162944Z
UID:18410-1762162200-1762165800@hillcrestrvresortfl.com
SUMMARY:Shuffleboard
DESCRIPTION:
URL:https://hillcrestrvresortfl.com/event/shuffleboard-209/
END:VEVENT
BEGIN:VEVENT
DTSTART;TZID=America/Chicago:20251103T090000
DTEND;TZID=America/Chicago:20251103T103000
DTSTAMP:20260424T113328
CREATED:20251029T171220Z
LAST-MODIFIED:20251029T171220Z
UID:18550-1762160400-1762165800@hillcrestrvresortfl.com
SUMMARY:Horseshoes
DESCRIPTION:
URL:https://hillcrestrvresortfl.com/event/horseshoes-197/
END:VEVENT
BEGIN:VEVENT
DTSTART;TZID=America/Chicago:20251103T080000
DTEND;TZID=America/Chicago:20251103T100000
DTSTAMP:20260424T113328
CREATED:20251029T165849Z
LAST-MODIFIED:20251029T165849Z
UID:18494-1762156800-1762164000@hillcrestrvresortfl.com
SUMMARY:Pickleball
DESCRIPTION:
URL:https://hillcrestrvresortfl.com/event/pickleball-221/
END:VEVENT
BEGIN:VEVENT
DTSTART;TZID=America/Chicago:20251102T080000
DTEND;TZID=America/Chicago:20251102T100000
DTSTAMP:20260424T113328
CREATED:20251029T165830Z
LAST-MODIFIED:20251029T165830Z
UID:18492-1762070400-1762077600@hillcrestrvresortfl.com
SUMMARY:Pickleball
DESCRIPTION:
URL:https://hillcrestrvresortfl.com/event/pickleball-220/
END:VEVENT
BEGIN:VEVENT
DTSTART;TZID=America/Chicago:20251101T093000
DTEND;TZID=America/Chicago:20251101T103000
DTSTAMP:20260424T113328
CREATED:20251029T162921Z
LAST-MODIFIED:20251029T162921Z
UID:18408-1761989400-1761993000@hillcrestrvresortfl.com
SUMMARY:Shuffleboard
DESCRIPTION:
URL:https://hillcrestrvresortfl.com/event/shuffleboard-208/
END:VEVENT
BEGIN:VEVENT
DTSTART;TZID=America/Chicago:20251101T080000
DTEND;TZID=America/Chicago:20251101T100000
DTSTAMP:20260424T113328
CREATED:20251029T165807Z
LAST-MODIFIED:20251029T165807Z
UID:18490-1761984000-1761991200@hillcrestrvresortfl.com
SUMMARY:Pickleball
DESCRIPTION:
URL:https://hillcrestrvresortfl.com/event/pickleball-219/
END:VEVENT
BEGIN:VEVENT
DTSTART;TZID=America/Chicago:20251031T190000
DTEND;TZID=America/Chicago:20251031T210000
DTSTAMP:20260424T113328
CREATED:20251029T121637Z
LAST-MODIFIED:20251029T121637Z
UID:18353-1761937200-1761944400@hillcrestrvresortfl.com
SUMMARY:Halloween Dance
DESCRIPTION:
URL:https://hillcrestrvresortfl.com/event/halloween-dance/
END:VEVENT
BEGIN:VEVENT
DTSTART;TZID=America/Chicago:20250331T100000
DTEND;TZID=America/Chicago:20250331T170000
DTSTAMP:20260424T113328
CREATED:20250516T140041Z
LAST-MODIFIED:20250516T140041Z
UID:18340-1743415200-1743440400@hillcrestrvresortfl.com
SUMMARY:Pentanque
DESCRIPTION:
URL:https://hillcrestrvresortfl.com/event/pentanque-169/
END:VEVENT
BEGIN:VEVENT
DTSTART;TZID=America/Chicago:20250330T100000
DTEND;TZID=America/Chicago:20250330T170000
DTSTAMP:20260424T113328
CREATED:20250516T140020Z
LAST-MODIFIED:20250516T140020Z
UID:18338-1743328800-1743354000@hillcrestrvresortfl.com
SUMMARY:Pentanque
DESCRIPTION:
URL:https://hillcrestrvresortfl.com/event/pentanque-168/
END:VEVENT
BEGIN:VEVENT
DTSTART;TZID=America/Chicago:20250330T100000
DTEND;TZID=America/Chicago:20250330T113000
DTSTAMP:20260424T113328
CREATED:20250501T123208Z
LAST-MODIFIED:20250501T123208Z
UID:18050-1743328800-1743334200@hillcrestrvresortfl.com
SUMMARY:Church
DESCRIPTION:
URL:https://hillcrestrvresortfl.com/event/church-40/
END:VEVENT
BEGIN:VEVENT
DTSTART;TZID=America/Chicago:20250329T100000
DTEND;TZID=America/Chicago:20250329T170000
DTSTAMP:20260424T113328
CREATED:20250516T135958Z
LAST-MODIFIED:20250516T135958Z
UID:18336-1743242400-1743267600@hillcrestrvresortfl.com
SUMMARY:Pentanque
DESCRIPTION:
URL:https://hillcrestrvresortfl.com/event/pentanque-167/
END:VEVENT
BEGIN:VEVENT
DTSTART;TZID=America/Chicago:20250328T130000
DTEND;TZID=America/Chicago:20250328T170000
DTSTAMP:20260424T113328
CREATED:20250502T143330Z
LAST-MODIFIED:20250502T143330Z
UID:18186-1743166800-1743181200@hillcrestrvresortfl.com
SUMMARY:Bowling
DESCRIPTION:
URL:https://hillcrestrvresortfl.com/event/bowling-40/
END:VEVENT
BEGIN:VEVENT
DTSTART;TZID=America/Chicago:20250328T130000
DTEND;TZID=America/Chicago:20250328T160000
DTSTAMP:20260424T113328
CREATED:20250502T141321Z
LAST-MODIFIED:20250502T141321Z
UID:18132-1743166800-1743177600@hillcrestrvresortfl.com
SUMMARY:Men's Billiards
DESCRIPTION:
URL:https://hillcrestrvresortfl.com/event/mens-billiards-93/
END:VEVENT
BEGIN:VEVENT
DTSTART;TZID=America/Chicago:20250328T100000
DTEND;TZID=America/Chicago:20250328T170000
DTSTAMP:20260424T113328
CREATED:20250516T135934Z
LAST-MODIFIED:20250516T135934Z
UID:18334-1743156000-1743181200@hillcrestrvresortfl.com
SUMMARY:Pentanque
DESCRIPTION:
URL:https://hillcrestrvresortfl.com/event/pentanque-166/
END:VEVENT
BEGIN:VEVENT
DTSTART;TZID=America/Chicago:20250328T100000
DTEND;TZID=America/Chicago:20250328T130000
DTSTAMP:20260424T113328
CREATED:20250501T123756Z
LAST-MODIFIED:20250501T123756Z
UID:18074-1743156000-1743166800@hillcrestrvresortfl.com
SUMMARY:Women's Billiards
DESCRIPTION:
URL:https://hillcrestrvresortfl.com/event/womens-billiards-66/
END:VEVENT
BEGIN:VEVENT
DTSTART;TZID=America/Chicago:20250328T093000
DTEND;TZID=America/Chicago:20250328T110000
DTSTAMP:20260424T113328
CREATED:20250502T150220Z
LAST-MODIFIED:20250502T150220Z
UID:18238-1743154200-1743159600@hillcrestrvresortfl.com
SUMMARY:Shuffleboard
DESCRIPTION:
URL:https://hillcrestrvresortfl.com/event/shuffleboard-207/
END:VEVENT
BEGIN:VEVENT
DTSTART;TZID=America/Chicago:20250328T080000
DTEND;TZID=America/Chicago:20250328T110000
DTSTAMP:20260424T113328
CREATED:20250502T152459Z
LAST-MODIFIED:20250502T152459Z
UID:18277-1743148800-1743159600@hillcrestrvresortfl.com
SUMMARY:Water Aerobics
DESCRIPTION:
URL:https://hillcrestrvresortfl.com/event/water-aerobics-207/
END:VEVENT
BEGIN:VEVENT
DTSTART;TZID=America/Chicago:20250327T183000
DTEND;TZID=America/Chicago:20250327T210000
DTSTAMP:20260424T113328
CREATED:20250502T140617Z
LAST-MODIFIED:20250502T140617Z
UID:18124-1743100200-1743109200@hillcrestrvresortfl.com
SUMMARY:Men's Billiards
DESCRIPTION:
URL:https://hillcrestrvresortfl.com/event/mens-billiards-89/
END:VEVENT
BEGIN:VEVENT
DTSTART;TZID=America/Chicago:20250327T180000
DTEND;TZID=America/Chicago:20250327T210000
DTSTAMP:20260424T113328
CREATED:20250502T141723Z
LAST-MODIFIED:20250502T141723Z
UID:18148-1743098400-1743109200@hillcrestrvresortfl.com
SUMMARY:Bid Euchre
DESCRIPTION:
URL:https://hillcrestrvresortfl.com/event/bid-euchre-59/
END:VEVENT
BEGIN:VEVENT
DTSTART;TZID=America/Chicago:20250327T100000
DTEND;TZID=America/Chicago:20250327T170000
DTSTAMP:20260424T113328
CREATED:20250516T135915Z
LAST-MODIFIED:20250516T135915Z
UID:18332-1743069600-1743094800@hillcrestrvresortfl.com
SUMMARY:Pentanque
DESCRIPTION:
URL:https://hillcrestrvresortfl.com/event/pentanque-165/
END:VEVENT
BEGIN:VEVENT
DTSTART;TZID=America/Chicago:20250327T093000
DTEND;TZID=America/Chicago:20250327T110000
DTSTAMP:20260424T113328
CREATED:20250502T150159Z
LAST-MODIFIED:20250502T150159Z
UID:18236-1743067800-1743073200@hillcrestrvresortfl.com
SUMMARY:Shuffleboard
DESCRIPTION:
URL:https://hillcrestrvresortfl.com/event/shuffleboard-206/
END:VEVENT
BEGIN:VEVENT
DTSTART;TZID=America/Chicago:20250327T090000
DTEND;TZID=America/Chicago:20250327T103000
DTSTAMP:20260424T113328
CREATED:20250502T143444Z
LAST-MODIFIED:20250502T143444Z
UID:18190-1743066000-1743071400@hillcrestrvresortfl.com
SUMMARY:Choir Practice
DESCRIPTION:
URL:https://hillcrestrvresortfl.com/event/choir-practice-21/
END:VEVENT
BEGIN:VEVENT
DTSTART;TZID=America/Chicago:20250327T080000
DTEND;TZID=America/Chicago:20250327T110000
DTSTAMP:20260424T113328
CREATED:20250502T152438Z
LAST-MODIFIED:20250502T152438Z
UID:18275-1743062400-1743073200@hillcrestrvresortfl.com
SUMMARY:Water Aerobics
DESCRIPTION:
URL:https://hillcrestrvresortfl.com/event/water-aerobics-206/
END:VEVENT
BEGIN:VEVENT
DTSTART;TZID=America/Chicago:20250326T180000
DTEND;TZID=America/Chicago:20250326T210000
DTSTAMP:20260424T113328
CREATED:20250501T124449Z
LAST-MODIFIED:20250501T124449Z
UID:18098-1743012000-1743022800@hillcrestrvresortfl.com
SUMMARY:Game Night
DESCRIPTION:
URL:https://hillcrestrvresortfl.com/event/game-night-70/
END:VEVENT
BEGIN:VEVENT
DTSTART;TZID=America/Chicago:20250326T103000
DTEND;TZID=America/Chicago:20250326T170000
DTSTAMP:20260424T113328
CREATED:20250502T142421Z
LAST-MODIFIED:20250502T142421Z
UID:18174-1742985000-1743008400@hillcrestrvresortfl.com
SUMMARY:Golf
DESCRIPTION:
URL:https://hillcrestrvresortfl.com/event/golf-21/
END:VEVENT
BEGIN:VEVENT
DTSTART;TZID=America/Chicago:20250326T100000
DTEND;TZID=America/Chicago:20250326T170000
DTSTAMP:20260424T113328
CREATED:20250516T135855Z
LAST-MODIFIED:20250516T135855Z
UID:18330-1742983200-1743008400@hillcrestrvresortfl.com
SUMMARY:Pentanque
DESCRIPTION:
URL:https://hillcrestrvresortfl.com/event/pentanque-164/
END:VEVENT
BEGIN:VEVENT
DTSTART;TZID=America/Chicago:20250326T100000
DTEND;TZID=America/Chicago:20250326T140000
DTSTAMP:20260424T113328
CREATED:20250502T142228Z
LAST-MODIFIED:20250502T142228Z
UID:18166-1742983200-1742997600@hillcrestrvresortfl.com
SUMMARY:Scrabble
DESCRIPTION:
URL:https://hillcrestrvresortfl.com/event/scrabble-35/
END:VEVENT
BEGIN:VEVENT
DTSTART;TZID=America/Chicago:20250326T100000
DTEND;TZID=America/Chicago:20250326T130000
DTSTAMP:20260424T113328
CREATED:20250501T123616Z
LAST-MODIFIED:20250501T123616Z
UID:18066-1742983200-1742994000@hillcrestrvresortfl.com
SUMMARY:Women's Billiards
DESCRIPTION:
URL:https://hillcrestrvresortfl.com/event/womens-billiards-62/
END:VEVENT
BEGIN:VEVENT
DTSTART;TZID=America/Chicago:20250326T093000
DTEND;TZID=America/Chicago:20250326T110000
DTSTAMP:20260424T113328
CREATED:20250502T150136Z
LAST-MODIFIED:20250502T150136Z
UID:18234-1742981400-1742986800@hillcrestrvresortfl.com
SUMMARY:Shuffleboard
DESCRIPTION:
URL:https://hillcrestrvresortfl.com/event/shuffleboard-205/
END:VEVENT
END:VCALENDAR