BEGIN:VCALENDAR
VERSION:2.0
PRODID:-//Hillcrest RV Resort - ECPv6.15.20//NONSGML v1.0//EN
CALSCALE:GREGORIAN
METHOD:PUBLISH
X-WR-CALNAME:Hillcrest RV Resort
X-ORIGINAL-URL:https://hillcrestrvresortfl.com
X-WR-CALDESC:Events for Hillcrest RV Resort
REFRESH-INTERVAL;VALUE=DURATION:PT1H
X-Robots-Tag:noindex
X-PUBLISHED-TTL:PT1H
BEGIN:VTIMEZONE
TZID:America/Chicago
BEGIN:DAYLIGHT
TZOFFSETFROM:-0600
TZOFFSETTO:-0500
TZNAME:CDT
DTSTART:20240310T080000
END:DAYLIGHT
BEGIN:STANDARD
TZOFFSETFROM:-0500
TZOFFSETTO:-0600
TZNAME:CST
DTSTART:20241103T070000
END:STANDARD
BEGIN:DAYLIGHT
TZOFFSETFROM:-0600
TZOFFSETTO:-0500
TZNAME:CDT
DTSTART:20250309T080000
END:DAYLIGHT
BEGIN:STANDARD
TZOFFSETFROM:-0500
TZOFFSETTO:-0600
TZNAME:CST
DTSTART:20251102T070000
END:STANDARD
BEGIN:DAYLIGHT
TZOFFSETFROM:-0600
TZOFFSETTO:-0500
TZNAME:CDT
DTSTART:20260308T080000
END:DAYLIGHT
BEGIN:STANDARD
TZOFFSETFROM:-0500
TZOFFSETTO:-0600
TZNAME:CST
DTSTART:20261101T070000
END:STANDARD
END:VTIMEZONE
BEGIN:VEVENT
DTSTART;TZID=America/Chicago:20251113T093000
DTEND;TZID=America/Chicago:20251113T103000
DTSTAMP:20260424T104038
CREATED:20251029T163342Z
LAST-MODIFIED:20251029T163342Z
UID:18428-1763026200-1763029800@hillcrestrvresortfl.com
SUMMARY:Shuffleboard
DESCRIPTION:
URL:https://hillcrestrvresortfl.com/event/shuffleboard-218/
END:VEVENT
BEGIN:VEVENT
DTSTART;TZID=America/Chicago:20251113T090000
DTEND;TZID=America/Chicago:20251113T103000
DTSTAMP:20260424T104038
CREATED:20251029T171530Z
LAST-MODIFIED:20251029T171530Z
UID:18566-1763024400-1763029800@hillcrestrvresortfl.com
SUMMARY:Horseshoes
DESCRIPTION:
URL:https://hillcrestrvresortfl.com/event/horseshoes-205/
END:VEVENT
BEGIN:VEVENT
DTSTART;TZID=America/Chicago:20251113T090000
DTEND;TZID=America/Chicago:20251113T100000
DTSTAMP:20260424T104038
CREATED:20251029T162104Z
LAST-MODIFIED:20251029T162104Z
UID:18382-1763024400-1763028000@hillcrestrvresortfl.com
SUMMARY:Choir Practice
DESCRIPTION:
URL:https://hillcrestrvresortfl.com/event/choir-practice-23/
END:VEVENT
BEGIN:VEVENT
DTSTART;TZID=America/Chicago:20251113T080000
DTEND;TZID=America/Chicago:20251113T100000
DTSTAMP:20260424T104038
CREATED:20251029T170338Z
LAST-MODIFIED:20251029T170338Z
UID:18514-1763020800-1763028000@hillcrestrvresortfl.com
SUMMARY:Pickleball
DESCRIPTION:
URL:https://hillcrestrvresortfl.com/event/pickleball-231/
END:VEVENT
BEGIN:VEVENT
DTSTART;TZID=America/Chicago:20251112T180000
DTEND;TZID=America/Chicago:20251112T210000
DTSTAMP:20260424T104038
CREATED:20251029T161633Z
LAST-MODIFIED:20251029T161633Z
UID:18366-1762970400-1762981200@hillcrestrvresortfl.com
SUMMARY:Game Night
DESCRIPTION:
URL:https://hillcrestrvresortfl.com/event/game-night-76/
END:VEVENT
BEGIN:VEVENT
DTSTART;TZID=America/Chicago:20251112T103000
DTEND;TZID=America/Chicago:20251112T133000
DTSTAMP:20260424T104038
CREATED:20251029T162723Z
LAST-MODIFIED:20251029T162723Z
UID:18402-1762943400-1762954200@hillcrestrvresortfl.com
SUMMARY:Golf
DESCRIPTION:
URL:https://hillcrestrvresortfl.com/event/golf-22/
END:VEVENT
BEGIN:VEVENT
DTSTART;TZID=America/Chicago:20251112T093000
DTEND;TZID=America/Chicago:20251112T103000
DTSTAMP:20260424T104038
CREATED:20251029T163322Z
LAST-MODIFIED:20251029T163322Z
UID:18426-1762939800-1762943400@hillcrestrvresortfl.com
SUMMARY:Shuffleboard
DESCRIPTION:
URL:https://hillcrestrvresortfl.com/event/shuffleboard-217/
END:VEVENT
BEGIN:VEVENT
DTSTART;TZID=America/Chicago:20251112T090000
DTEND;TZID=America/Chicago:20251112T103000
DTSTAMP:20260424T104038
CREATED:20251029T171511Z
LAST-MODIFIED:20251029T171511Z
UID:18564-1762938000-1762943400@hillcrestrvresortfl.com
SUMMARY:Horseshoes
DESCRIPTION:
URL:https://hillcrestrvresortfl.com/event/horseshoes-204/
END:VEVENT
BEGIN:VEVENT
DTSTART;TZID=America/Chicago:20251112T080000
DTEND;TZID=America/Chicago:20251112T100000
DTSTAMP:20260424T104038
CREATED:20251029T170035Z
LAST-MODIFIED:20251029T170035Z
UID:18504-1762934400-1762941600@hillcrestrvresortfl.com
SUMMARY:Pickleball
DESCRIPTION:
URL:https://hillcrestrvresortfl.com/event/pickleball-226/
END:VEVENT
BEGIN:VEVENT
DTSTART;TZID=America/Chicago:20251111T110000
DTEND;TZID=America/Chicago:20251111T120000
DTSTAMP:20260424T104038
CREATED:20251029T183228Z
LAST-MODIFIED:20251029T183228Z
UID:18570-1762858800-1762862400@hillcrestrvresortfl.com
SUMMARY:Missions Meeting
DESCRIPTION:
URL:https://hillcrestrvresortfl.com/event/missions-meeting/
END:VEVENT
BEGIN:VEVENT
DTSTART;TZID=America/Chicago:20251111T093000
DTEND;TZID=America/Chicago:20251111T103000
DTSTAMP:20260424T104038
CREATED:20251029T165212Z
LAST-MODIFIED:20251029T165212Z
UID:18474-1762853400-1762857000@hillcrestrvresortfl.com
SUMMARY:OSS (One Stop Shopping)
DESCRIPTION:
URL:https://hillcrestrvresortfl.com/event/oss-one-stop-shopping-6/
END:VEVENT
BEGIN:VEVENT
DTSTART;TZID=America/Chicago:20251111T093000
DTEND;TZID=America/Chicago:20251111T103000
DTSTAMP:20260424T104038
CREATED:20251029T163252Z
LAST-MODIFIED:20251029T163252Z
UID:18424-1762853400-1762857000@hillcrestrvresortfl.com
SUMMARY:Shuffleboard
DESCRIPTION:
URL:https://hillcrestrvresortfl.com/event/shuffleboard-216/
END:VEVENT
BEGIN:VEVENT
DTSTART;TZID=America/Chicago:20251111T090000
DTEND;TZID=America/Chicago:20251111T103000
DTSTAMP:20260424T104038
CREATED:20251029T171451Z
LAST-MODIFIED:20251029T171451Z
UID:18562-1762851600-1762857000@hillcrestrvresortfl.com
SUMMARY:Horseshoes
DESCRIPTION:
URL:https://hillcrestrvresortfl.com/event/horseshoes-203/
END:VEVENT
BEGIN:VEVENT
DTSTART;TZID=America/Chicago:20251111T080000
DTEND;TZID=America/Chicago:20251111T100000
DTSTAMP:20260424T104038
CREATED:20251029T170319Z
LAST-MODIFIED:20251029T170319Z
UID:18512-1762848000-1762855200@hillcrestrvresortfl.com
SUMMARY:Pickleball
DESCRIPTION:
URL:https://hillcrestrvresortfl.com/event/pickleball-230/
END:VEVENT
BEGIN:VEVENT
DTSTART;TZID=America/Chicago:20251110T180000
DTEND;TZID=America/Chicago:20251110T210000
DTSTAMP:20260424T104038
CREATED:20251029T161341Z
LAST-MODIFIED:20251029T161435Z
UID:18357-1762797600-1762808400@hillcrestrvresortfl.com
SUMMARY:Game Night
DESCRIPTION:
URL:https://hillcrestrvresortfl.com/event/game-night-72/
END:VEVENT
BEGIN:VEVENT
DTSTART;TZID=America/Chicago:20251110T093000
DTEND;TZID=America/Chicago:20251110T103000
DTSTAMP:20260424T104038
CREATED:20251029T163227Z
LAST-MODIFIED:20251029T163227Z
UID:18422-1762767000-1762770600@hillcrestrvresortfl.com
SUMMARY:Shuffleboard
DESCRIPTION:
URL:https://hillcrestrvresortfl.com/event/shuffleboard-215/
END:VEVENT
BEGIN:VEVENT
DTSTART;TZID=America/Chicago:20251110T090000
DTEND;TZID=America/Chicago:20251110T103000
DTSTAMP:20260424T104038
CREATED:20251029T171431Z
LAST-MODIFIED:20251029T171431Z
UID:18560-1762765200-1762770600@hillcrestrvresortfl.com
SUMMARY:Horseshoes
DESCRIPTION:
URL:https://hillcrestrvresortfl.com/event/horseshoes-202/
END:VEVENT
BEGIN:VEVENT
DTSTART;TZID=America/Chicago:20251110T090000
DTEND;TZID=America/Chicago:20251110T100000
DTSTAMP:20260424T104038
CREATED:20251029T165108Z
LAST-MODIFIED:20251029T165108Z
UID:18472-1762765200-1762768800@hillcrestrvresortfl.com
SUMMARY:Association Meeting
DESCRIPTION:
URL:https://hillcrestrvresortfl.com/event/association-meeting-10/
END:VEVENT
BEGIN:VEVENT
DTSTART;TZID=America/Chicago:20251110T080000
DTEND;TZID=America/Chicago:20251110T100000
DTSTAMP:20260424T104038
CREATED:20251029T170220Z
LAST-MODIFIED:20251029T170220Z
UID:18510-1762761600-1762768800@hillcrestrvresortfl.com
SUMMARY:Pickleball
DESCRIPTION:
URL:https://hillcrestrvresortfl.com/event/pickleball-229/
END:VEVENT
BEGIN:VEVENT
DTSTART;TZID=America/Chicago:20251110T080000
DTEND;TZID=America/Chicago:20251110T090000
DTSTAMP:20260424T104038
CREATED:20251029T165034Z
LAST-MODIFIED:20251029T165034Z
UID:18470-1762761600-1762765200@hillcrestrvresortfl.com
SUMMARY:Coffee & Donuts
DESCRIPTION:
URL:https://hillcrestrvresortfl.com/event/coffee-donuts-2/
END:VEVENT
BEGIN:VEVENT
DTSTART;TZID=America/Chicago:20251109T080000
DTEND;TZID=America/Chicago:20251109T100000
DTSTAMP:20260424T104038
CREATED:20251029T170150Z
LAST-MODIFIED:20251029T170150Z
UID:18508-1762675200-1762682400@hillcrestrvresortfl.com
SUMMARY:Pickleball
DESCRIPTION:
URL:https://hillcrestrvresortfl.com/event/pickleball-228/
END:VEVENT
BEGIN:VEVENT
DTSTART;TZID=America/Chicago:20251108T093000
DTEND;TZID=America/Chicago:20251108T103000
DTSTAMP:20260424T104038
CREATED:20251029T163204Z
LAST-MODIFIED:20251029T163204Z
UID:18420-1762594200-1762597800@hillcrestrvresortfl.com
SUMMARY:Shuffleboard
DESCRIPTION:
URL:https://hillcrestrvresortfl.com/event/shuffleboard-214/
END:VEVENT
BEGIN:VEVENT
DTSTART;TZID=America/Chicago:20251108T080000
DTEND;TZID=America/Chicago:20251108T100000
DTSTAMP:20260424T104038
CREATED:20251029T170126Z
LAST-MODIFIED:20251029T170126Z
UID:18506-1762588800-1762596000@hillcrestrvresortfl.com
SUMMARY:Pickleball
DESCRIPTION:
URL:https://hillcrestrvresortfl.com/event/pickleball-227/
END:VEVENT
BEGIN:VEVENT
DTSTART;TZID=America/Chicago:20251107T130000
DTEND;TZID=America/Chicago:20251107T160000
DTSTAMP:20260424T104038
CREATED:20251029T162513Z
LAST-MODIFIED:20251029T162513Z
UID:18394-1762520400-1762531200@hillcrestrvresortfl.com
SUMMARY:Bowling
DESCRIPTION:
URL:https://hillcrestrvresortfl.com/event/bowling-41/
END:VEVENT
BEGIN:VEVENT
DTSTART;TZID=America/Chicago:20251107T093000
DTEND;TZID=America/Chicago:20251107T103000
DTSTAMP:20260424T104038
CREATED:20251029T163136Z
LAST-MODIFIED:20251029T163136Z
UID:18418-1762507800-1762511400@hillcrestrvresortfl.com
SUMMARY:Shuffleboard
DESCRIPTION:
URL:https://hillcrestrvresortfl.com/event/shuffleboard-213/
END:VEVENT
BEGIN:VEVENT
DTSTART;TZID=America/Chicago:20251107T090000
DTEND;TZID=America/Chicago:20251107T103000
DTSTAMP:20260424T104038
CREATED:20251029T171357Z
LAST-MODIFIED:20251029T171357Z
UID:18558-1762506000-1762511400@hillcrestrvresortfl.com
SUMMARY:Horseshoes
DESCRIPTION:
URL:https://hillcrestrvresortfl.com/event/horseshoes-201/
END:VEVENT
BEGIN:VEVENT
DTSTART;TZID=America/Chicago:20251107T080000
DTEND;TZID=America/Chicago:20251107T100000
DTSTAMP:20260424T104038
CREATED:20251029T170011Z
LAST-MODIFIED:20251029T170011Z
UID:18502-1762502400-1762509600@hillcrestrvresortfl.com
SUMMARY:Pickleball
DESCRIPTION:
URL:https://hillcrestrvresortfl.com/event/pickleball-225/
END:VEVENT
BEGIN:VEVENT
DTSTART;TZID=America/Chicago:20251106T180000
DTEND;TZID=America/Chicago:20251106T210000
DTSTAMP:20260424T104038
CREATED:20251029T161829Z
LAST-MODIFIED:20251029T161829Z
UID:18372-1762452000-1762462800@hillcrestrvresortfl.com
SUMMARY:Texas Hold'Em
DESCRIPTION:
URL:https://hillcrestrvresortfl.com/event/texas-holdem-41/
END:VEVENT
BEGIN:VEVENT
DTSTART;TZID=America/Chicago:20251106T150000
DTEND;TZID=America/Chicago:20251106T170000
DTSTAMP:20260424T104038
CREATED:20251029T164727Z
LAST-MODIFIED:20251029T164727Z
UID:18458-1762441200-1762448400@hillcrestrvresortfl.com
SUMMARY:Acoustic Jam
DESCRIPTION:
URL:https://hillcrestrvresortfl.com/event/acoustic-jam-33/
END:VEVENT
BEGIN:VEVENT
DTSTART;TZID=America/Chicago:20251106T093000
DTEND;TZID=America/Chicago:20251106T103000
DTSTAMP:20260424T104038
CREATED:20251029T163113Z
LAST-MODIFIED:20251029T163113Z
UID:18416-1762421400-1762425000@hillcrestrvresortfl.com
SUMMARY:Shuffleboard
DESCRIPTION:
URL:https://hillcrestrvresortfl.com/event/shuffleboard-212/
END:VEVENT
END:VCALENDAR