BEGIN:VCALENDAR
VERSION:2.0
PRODID:-//Hillcrest RV Resort - ECPv6.15.20//NONSGML v1.0//EN
CALSCALE:GREGORIAN
METHOD:PUBLISH
X-ORIGINAL-URL:https://hillcrestrvresortfl.com
X-WR-CALDESC:Events for Hillcrest RV Resort
REFRESH-INTERVAL;VALUE=DURATION:PT1H
X-Robots-Tag:noindex
X-PUBLISHED-TTL:PT1H
BEGIN:VTIMEZONE
TZID:America/Chicago
BEGIN:DAYLIGHT
TZOFFSETFROM:-0600
TZOFFSETTO:-0500
TZNAME:CDT
DTSTART:20250309T080000
END:DAYLIGHT
BEGIN:STANDARD
TZOFFSETFROM:-0500
TZOFFSETTO:-0600
TZNAME:CST
DTSTART:20251102T070000
END:STANDARD
BEGIN:DAYLIGHT
TZOFFSETFROM:-0600
TZOFFSETTO:-0500
TZNAME:CDT
DTSTART:20260308T080000
END:DAYLIGHT
BEGIN:STANDARD
TZOFFSETFROM:-0500
TZOFFSETTO:-0600
TZNAME:CST
DTSTART:20261101T070000
END:STANDARD
BEGIN:DAYLIGHT
TZOFFSETFROM:-0600
TZOFFSETTO:-0500
TZNAME:CDT
DTSTART:20270314T080000
END:DAYLIGHT
BEGIN:STANDARD
TZOFFSETFROM:-0500
TZOFFSETTO:-0600
TZNAME:CST
DTSTART:20271107T070000
END:STANDARD
END:VTIMEZONE
BEGIN:VEVENT
DTSTART;TZID=America/Chicago:20260330T100000
DTEND;TZID=America/Chicago:20260330T110000
DTSTAMP:20260423T130128
CREATED:20260319T121851Z
LAST-MODIFIED:20260319T121851Z
UID:19864-1774864800-1774868400@hillcrestrvresortfl.com
SUMMARY:Chair Exercises
DESCRIPTION:
URL:https://hillcrestrvresortfl.com/event/chair-exercises-6/
END:VEVENT
BEGIN:VEVENT
DTSTART;TZID=America/Chicago:20260330T130000
DTEND;TZID=America/Chicago:20260330T160000
DTSTAMP:20260423T130128
CREATED:20260305T140204Z
LAST-MODIFIED:20260305T140204Z
UID:19789-1774875600-1774886400@hillcrestrvresortfl.com
SUMMARY:Quilting/Sewing/Knitting/Crocheting
DESCRIPTION:
URL:https://hillcrestrvresortfl.com/event/quilting-sewing-knitting-crocheting-32/
END:VEVENT
BEGIN:VEVENT
DTSTART;TZID=America/Chicago:20260330T130000
DTEND;TZID=America/Chicago:20260330T160000
DTSTAMP:20260423T130128
CREATED:20260305T140404Z
LAST-MODIFIED:20260305T140404Z
UID:19799-1774875600-1774886400@hillcrestrvresortfl.com
SUMMARY:Watercolor
DESCRIPTION:
URL:https://hillcrestrvresortfl.com/event/watercolor-21/
END:VEVENT
BEGIN:VEVENT
DTSTART;TZID=America/Chicago:20260330T180000
DTEND;TZID=America/Chicago:20260330T210000
DTSTAMP:20260423T130128
CREATED:20260305T140627Z
LAST-MODIFIED:20260305T140627Z
UID:19809-1774893600-1774904400@hillcrestrvresortfl.com
SUMMARY:Bingo
DESCRIPTION:
URL:https://hillcrestrvresortfl.com/event/bingo-91/
END:VEVENT
BEGIN:VEVENT
DTSTART;TZID=America/Chicago:20260331T120000
DTEND;TZID=America/Chicago:20260331T150000
DTSTAMP:20260423T130128
CREATED:20260319T122235Z
LAST-MODIFIED:20260319T122235Z
UID:19878-1774958400-1774969200@hillcrestrvresortfl.com
SUMMARY:Potluch & Nickel Bingo
DESCRIPTION:
URL:https://hillcrestrvresortfl.com/event/potluch-nickel-bingo/
END:VEVENT
BEGIN:VEVENT
DTSTART;TZID=America/Chicago:20260331T190000
DTEND;TZID=America/Chicago:20260331T210000
DTSTAMP:20260423T130128
CREATED:20260319T122148Z
LAST-MODIFIED:20260319T122148Z
UID:19876-1774983600-1774990800@hillcrestrvresortfl.com
SUMMARY:Karaoke
DESCRIPTION:
URL:https://hillcrestrvresortfl.com/event/karaoke-43/
END:VEVENT
END:VCALENDAR