BEGIN:VCALENDAR
VERSION:2.0
PRODID:-//Hillcrest RV Resort - ECPv6.15.20//NONSGML v1.0//EN
CALSCALE:GREGORIAN
METHOD:PUBLISH
X-ORIGINAL-URL:https://hillcrestrvresortfl.com
X-WR-CALDESC:Events for Hillcrest RV Resort
REFRESH-INTERVAL;VALUE=DURATION:PT1H
X-Robots-Tag:noindex
X-PUBLISHED-TTL:PT1H
BEGIN:VTIMEZONE
TZID:America/Chicago
BEGIN:DAYLIGHT
TZOFFSETFROM:-0600
TZOFFSETTO:-0500
TZNAME:CDT
DTSTART:20250309T080000
END:DAYLIGHT
BEGIN:STANDARD
TZOFFSETFROM:-0500
TZOFFSETTO:-0600
TZNAME:CST
DTSTART:20251102T070000
END:STANDARD
BEGIN:DAYLIGHT
TZOFFSETFROM:-0600
TZOFFSETTO:-0500
TZNAME:CDT
DTSTART:20260308T080000
END:DAYLIGHT
BEGIN:STANDARD
TZOFFSETFROM:-0500
TZOFFSETTO:-0600
TZNAME:CST
DTSTART:20261101T070000
END:STANDARD
BEGIN:DAYLIGHT
TZOFFSETFROM:-0600
TZOFFSETTO:-0500
TZNAME:CDT
DTSTART:20270314T080000
END:DAYLIGHT
BEGIN:STANDARD
TZOFFSETFROM:-0500
TZOFFSETTO:-0600
TZNAME:CST
DTSTART:20271107T070000
END:STANDARD
END:VTIMEZONE
BEGIN:VEVENT
DTSTART;TZID=America/Chicago:20260212T100000
DTEND;TZID=America/Chicago:20260212T110000
DTSTAMP:20260423T154338
CREATED:20260218T164202Z
LAST-MODIFIED:20260218T164202Z
UID:19710-1770890400-1770894000@hillcrestrvresortfl.com
SUMMARY:Drumming Exercises
DESCRIPTION:
URL:https://hillcrestrvresortfl.com/event/drumming-exercises-10/
END:VEVENT
BEGIN:VEVENT
DTSTART;TZID=America/Chicago:20260212T130000
DTEND;TZID=America/Chicago:20260212T143000
DTSTAMP:20260423T154338
CREATED:20260223T141918Z
LAST-MODIFIED:20260223T141918Z
UID:19718-1770901200-1770906600@hillcrestrvresortfl.com
SUMMARY:Line Dancing
DESCRIPTION:
URL:https://hillcrestrvresortfl.com/event/line-dancing-26/
END:VEVENT
BEGIN:VEVENT
DTSTART;TZID=America/Chicago:20260212T150000
DTEND;TZID=America/Chicago:20260212T170000
DTSTAMP:20260423T154338
CREATED:20260223T142225Z
LAST-MODIFIED:20260223T142225Z
UID:19724-1770908400-1770915600@hillcrestrvresortfl.com
SUMMARY:Acoustic Jam
DESCRIPTION:
URL:https://hillcrestrvresortfl.com/event/acoustic-jam-45/
END:VEVENT
BEGIN:VEVENT
DTSTART;TZID=America/Chicago:20260212T183000
DTEND;TZID=America/Chicago:20260212T210000
DTSTAMP:20260423T154338
CREATED:20260223T142405Z
LAST-MODIFIED:20260223T142405Z
UID:19732-1770921000-1770930000@hillcrestrvresortfl.com
SUMMARY:Bingo
DESCRIPTION:
URL:https://hillcrestrvresortfl.com/event/bingo-84/
END:VEVENT
BEGIN:VEVENT
DTSTART;TZID=America/Chicago:20260213T090000
DTEND;TZID=America/Chicago:20260213T100000
DTSTAMP:20260423T154338
CREATED:20260305T134809Z
LAST-MODIFIED:20260305T134809Z
UID:19745-1770973200-1770976800@hillcrestrvresortfl.com
SUMMARY:Bone Builder
DESCRIPTION:
URL:https://hillcrestrvresortfl.com/event/bone-builder/
END:VEVENT
BEGIN:VEVENT
DTSTART;TZID=America/Chicago:20260213T110000
DTEND;TZID=America/Chicago:20260213T130000
DTSTAMP:20260423T154338
CREATED:20260305T134839Z
LAST-MODIFIED:20260305T134839Z
UID:19747-1770980400-1770987600@hillcrestrvresortfl.com
SUMMARY:Rock Painting
DESCRIPTION:
URL:https://hillcrestrvresortfl.com/event/rock-painting-36/
END:VEVENT
BEGIN:VEVENT
DTSTART;TZID=America/Chicago:20260213T140000
DTEND;TZID=America/Chicago:20260213T160000
DTSTAMP:20260423T154338
CREATED:20260305T134907Z
LAST-MODIFIED:20260305T134907Z
UID:19749-1770991200-1770998400@hillcrestrvresortfl.com
SUMMARY:Card Bingo
DESCRIPTION:
URL:https://hillcrestrvresortfl.com/event/card-bingo-11/
END:VEVENT
BEGIN:VEVENT
DTSTART;TZID=America/Chicago:20260213T190000
DTEND;TZID=America/Chicago:20260213T210000
DTSTAMP:20260423T154338
CREATED:20260305T134936Z
LAST-MODIFIED:20260305T134936Z
UID:19751-1771009200-1771016400@hillcrestrvresortfl.com
SUMMARY:Talent Show
DESCRIPTION:
URL:https://hillcrestrvresortfl.com/event/talent-show-4/
END:VEVENT
BEGIN:VEVENT
DTSTART;TZID=America/Chicago:20260214T113000
DTEND;TZID=America/Chicago:20260214T170000
DTSTAMP:20260423T154338
CREATED:20260305T135432Z
LAST-MODIFIED:20260305T135432Z
UID:19769-1771068600-1771088400@hillcrestrvresortfl.com
SUMMARY:Singles Outing
DESCRIPTION:
URL:https://hillcrestrvresortfl.com/event/singles-outing/
END:VEVENT
BEGIN:VEVENT
DTSTART;TZID=America/Chicago:20260214T193000
DTEND;TZID=America/Chicago:20260214T223000
DTSTAMP:20260423T154338
CREATED:20260305T135522Z
LAST-MODIFIED:20260305T135522Z
UID:19771-1771097400-1771108200@hillcrestrvresortfl.com
SUMMARY:Valentine's Dance W/Driftin South
DESCRIPTION:
URL:https://hillcrestrvresortfl.com/event/valentines-dance-w-driftin-south/
END:VEVENT
BEGIN:VEVENT
DTSTART;TZID=America/Chicago:20260215T180000
DTEND;TZID=America/Chicago:20260215T190000
DTSTAMP:20260423T154338
CREATED:20260202T152413Z
LAST-MODIFIED:20260202T152413Z
UID:19604-1771178400-1771182000@hillcrestrvresortfl.com
SUMMARY:Ice Cream Social
DESCRIPTION:
URL:https://hillcrestrvresortfl.com/event/ice-cream-social-31/
END:VEVENT
BEGIN:VEVENT
DTSTART;TZID=America/Chicago:20260215T190000
DTEND;TZID=America/Chicago:20260215T200000
DTSTAMP:20260423T154338
CREATED:20260202T152850Z
LAST-MODIFIED:20260202T152850Z
UID:19612-1771182000-1771185600@hillcrestrvresortfl.com
SUMMARY:Charles Williams Music
DESCRIPTION:
URL:https://hillcrestrvresortfl.com/event/charles-williams-music/
END:VEVENT
BEGIN:VEVENT
DTSTART;TZID=America/Chicago:20260216T073000
DTEND;TZID=America/Chicago:20260216T083000
DTSTAMP:20260423T154338
CREATED:20260202T153141Z
LAST-MODIFIED:20260202T153141Z
UID:19620-1771227000-1771230600@hillcrestrvresortfl.com
SUMMARY:Breakfast
DESCRIPTION:
URL:https://hillcrestrvresortfl.com/event/breakfast-36/
END:VEVENT
BEGIN:VEVENT
DTSTART;TZID=America/Chicago:20260216T100000
DTEND;TZID=America/Chicago:20260216T110000
DTSTAMP:20260423T154338
CREATED:20260218T160730Z
LAST-MODIFIED:20260218T160730Z
UID:19652-1771236000-1771239600@hillcrestrvresortfl.com
SUMMARY:Chair Exercises
DESCRIPTION:
URL:https://hillcrestrvresortfl.com/event/chair-exercises-2/
END:VEVENT
BEGIN:VEVENT
DTSTART;TZID=America/Chicago:20260216T130000
DTEND;TZID=America/Chicago:20260216T160000
DTSTAMP:20260423T154338
CREATED:20260202T153446Z
LAST-MODIFIED:20260202T153446Z
UID:19629-1771246800-1771257600@hillcrestrvresortfl.com
SUMMARY:Quilting/Sewing/Knitting/Crocheting
DESCRIPTION:
URL:https://hillcrestrvresortfl.com/event/quilting-sewing-knitting-crocheting-26/
END:VEVENT
BEGIN:VEVENT
DTSTART;TZID=America/Chicago:20260216T130000
DTEND;TZID=America/Chicago:20260216T160000
DTSTAMP:20260423T154338
CREATED:20260202T153617Z
LAST-MODIFIED:20260202T153617Z
UID:19635-1771246800-1771257600@hillcrestrvresortfl.com
SUMMARY:Watercolor
DESCRIPTION:
URL:https://hillcrestrvresortfl.com/event/watercolor-14/
END:VEVENT
BEGIN:VEVENT
DTSTART;TZID=America/Chicago:20260216T183000
DTEND;TZID=America/Chicago:20260216T210000
DTSTAMP:20260423T154338
CREATED:20260218T160449Z
LAST-MODIFIED:20260218T160449Z
UID:19646-1771266600-1771275600@hillcrestrvresortfl.com
SUMMARY:Bingo
DESCRIPTION:
URL:https://hillcrestrvresortfl.com/event/bingo-81/
END:VEVENT
BEGIN:VEVENT
DTSTART;TZID=America/Chicago:20260217T093000
DTEND;TZID=America/Chicago:20260217T103000
DTSTAMP:20260423T154338
CREATED:20260218T160941Z
LAST-MODIFIED:20260218T160941Z
UID:19660-1771320600-1771324200@hillcrestrvresortfl.com
SUMMARY:One Stop Shopping (OSS)
DESCRIPTION:
URL:https://hillcrestrvresortfl.com/event/one-stop-shopping-oss-11/
END:VEVENT
BEGIN:VEVENT
DTSTART;TZID=America/Chicago:20260217T113000
DTEND;TZID=America/Chicago:20260217T130000
DTSTAMP:20260423T154338
CREATED:20260218T162843Z
LAST-MODIFIED:20260218T162843Z
UID:19674-1771327800-1771333200@hillcrestrvresortfl.com
SUMMARY:Red Hat Luncheon
DESCRIPTION:
URL:https://hillcrestrvresortfl.com/event/red-hat-luncheon-6/
END:VEVENT
BEGIN:VEVENT
DTSTART;TZID=America/Chicago:20260217T130000
DTEND;TZID=America/Chicago:20260217T160000
DTSTAMP:20260423T154338
CREATED:20260218T162921Z
LAST-MODIFIED:20260218T162921Z
UID:19676-1771333200-1771344000@hillcrestrvresortfl.com
SUMMARY:Jewelry Making
DESCRIPTION:
URL:https://hillcrestrvresortfl.com/event/jewelry-making-5/
END:VEVENT
BEGIN:VEVENT
DTSTART;TZID=America/Chicago:20260217T190000
DTEND;TZID=America/Chicago:20260217T210000
DTSTAMP:20260423T154338
CREATED:20260218T161201Z
LAST-MODIFIED:20260218T161201Z
UID:19670-1771354800-1771362000@hillcrestrvresortfl.com
SUMMARY:Karaoke
DESCRIPTION:
URL:https://hillcrestrvresortfl.com/event/karaoke-39/
END:VEVENT
BEGIN:VEVENT
DTSTART;TZID=America/Chicago:20260218T090000
DTEND;TZID=America/Chicago:20260218T100000
DTSTAMP:20260423T154338
CREATED:20260218T163149Z
LAST-MODIFIED:20260218T163149Z
UID:19684-1771405200-1771408800@hillcrestrvresortfl.com
SUMMARY:Bone Builder Exercises
DESCRIPTION:
URL:https://hillcrestrvresortfl.com/event/bone-builder-exercises-28/
END:VEVENT
BEGIN:VEVENT
DTSTART;TZID=America/Chicago:20260218T110000
DTEND;TZID=America/Chicago:20260218T120000
DTSTAMP:20260423T154338
CREATED:20260218T163421Z
LAST-MODIFIED:20260218T163421Z
UID:19692-1771412400-1771416000@hillcrestrvresortfl.com
SUMMARY:Bible Study
DESCRIPTION:
URL:https://hillcrestrvresortfl.com/event/bible-study-17/
END:VEVENT
BEGIN:VEVENT
DTSTART;TZID=America/Chicago:20260218T130000
DTEND;TZID=America/Chicago:20260218T150000
DTSTAMP:20260423T154338
CREATED:20260218T163537Z
LAST-MODIFIED:20260218T163537Z
UID:19698-1771419600-1771426800@hillcrestrvresortfl.com
SUMMARY:Fiddler's Jam
DESCRIPTION:
URL:https://hillcrestrvresortfl.com/event/fiddlers-jam-36/
END:VEVENT
BEGIN:VEVENT
DTSTART;TZID=America/Chicago:20260218T180000
DTEND;TZID=America/Chicago:20260218T210000
DTSTAMP:20260423T154338
CREATED:20260218T163648Z
LAST-MODIFIED:20260218T163648Z
UID:19704-1771437600-1771448400@hillcrestrvresortfl.com
SUMMARY:Darts
DESCRIPTION:
URL:https://hillcrestrvresortfl.com/event/darts-31/
END:VEVENT
BEGIN:VEVENT
DTSTART;TZID=America/Chicago:20260219T100000
DTEND;TZID=America/Chicago:20260219T110000
DTSTAMP:20260423T154338
CREATED:20260218T164225Z
LAST-MODIFIED:20260218T164225Z
UID:19712-1771495200-1771498800@hillcrestrvresortfl.com
SUMMARY:Drumming Exercises
DESCRIPTION:
URL:https://hillcrestrvresortfl.com/event/drumming-exercises-11/
END:VEVENT
BEGIN:VEVENT
DTSTART;TZID=America/Chicago:20260219T150000
DTEND;TZID=America/Chicago:20260219T170000
DTSTAMP:20260423T154338
CREATED:20260223T142246Z
LAST-MODIFIED:20260223T142246Z
UID:19726-1771513200-1771520400@hillcrestrvresortfl.com
SUMMARY:Acoustic Jam
DESCRIPTION:
URL:https://hillcrestrvresortfl.com/event/acoustic-jam-46/
END:VEVENT
BEGIN:VEVENT
DTSTART;TZID=America/Chicago:20260219T183000
DTEND;TZID=America/Chicago:20260219T210000
DTSTAMP:20260423T154338
CREATED:20260223T142541Z
LAST-MODIFIED:20260223T142541Z
UID:19734-1771525800-1771534800@hillcrestrvresortfl.com
SUMMARY:Bingo
DESCRIPTION:
URL:https://hillcrestrvresortfl.com/event/bingo-85/
END:VEVENT
BEGIN:VEVENT
DTSTART;TZID=America/Chicago:20260220T090000
DTEND;TZID=America/Chicago:20260220T100000
DTSTAMP:20260423T154338
CREATED:20260305T135009Z
LAST-MODIFIED:20260305T135009Z
UID:19753-1771578000-1771581600@hillcrestrvresortfl.com
SUMMARY:Bone Builder
DESCRIPTION:
URL:https://hillcrestrvresortfl.com/event/bone-builder-2/
END:VEVENT
BEGIN:VEVENT
DTSTART;TZID=America/Chicago:20260220T110000
DTEND;TZID=America/Chicago:20260220T130000
DTSTAMP:20260423T154338
CREATED:20260305T135043Z
LAST-MODIFIED:20260305T135043Z
UID:19755-1771585200-1771592400@hillcrestrvresortfl.com
SUMMARY:Rock Painting
DESCRIPTION:
URL:https://hillcrestrvresortfl.com/event/rock-painting-37/
END:VEVENT
END:VCALENDAR