BEGIN:VCALENDAR
VERSION:2.0
PRODID:-//Hillcrest RV Resort - ECPv6.15.20//NONSGML v1.0//EN
CALSCALE:GREGORIAN
METHOD:PUBLISH
X-ORIGINAL-URL:https://hillcrestrvresortfl.com
X-WR-CALDESC:Events for Hillcrest RV Resort
REFRESH-INTERVAL;VALUE=DURATION:PT1H
X-Robots-Tag:noindex
X-PUBLISHED-TTL:PT1H
BEGIN:VTIMEZONE
TZID:America/Chicago
BEGIN:DAYLIGHT
TZOFFSETFROM:-0600
TZOFFSETTO:-0500
TZNAME:CDT
DTSTART:20250309T080000
END:DAYLIGHT
BEGIN:STANDARD
TZOFFSETFROM:-0500
TZOFFSETTO:-0600
TZNAME:CST
DTSTART:20251102T070000
END:STANDARD
BEGIN:DAYLIGHT
TZOFFSETFROM:-0600
TZOFFSETTO:-0500
TZNAME:CDT
DTSTART:20260308T080000
END:DAYLIGHT
BEGIN:STANDARD
TZOFFSETFROM:-0500
TZOFFSETTO:-0600
TZNAME:CST
DTSTART:20261101T070000
END:STANDARD
BEGIN:DAYLIGHT
TZOFFSETFROM:-0600
TZOFFSETTO:-0500
TZNAME:CDT
DTSTART:20270314T080000
END:DAYLIGHT
BEGIN:STANDARD
TZOFFSETFROM:-0500
TZOFFSETTO:-0600
TZNAME:CST
DTSTART:20271107T070000
END:STANDARD
END:VTIMEZONE
BEGIN:VEVENT
DTSTART;TZID=America/Chicago:20260120T080000
DTEND;TZID=America/Chicago:20260120T170000
DTSTAMP:20260423T154209
CREATED:20260102T204313Z
LAST-MODIFIED:20260102T204313Z
UID:19334-1768896000-1768928400@hillcrestrvresortfl.com
SUMMARY:Pickleball
DESCRIPTION:
URL:https://hillcrestrvresortfl.com/event/pickleball-299/
END:VEVENT
BEGIN:VEVENT
DTSTART;TZID=America/Chicago:20260120T090000
DTEND;TZID=America/Chicago:20260120T110000
DTSTAMP:20260423T154209
CREATED:20260107T131143Z
LAST-MODIFIED:20260107T131143Z
UID:19391-1768899600-1768906800@hillcrestrvresortfl.com
SUMMARY:Horseshoes
DESCRIPTION:
URL:https://hillcrestrvresortfl.com/event/horseshoes-245/
END:VEVENT
BEGIN:VEVENT
DTSTART;TZID=America/Chicago:20260120T090000
DTEND;TZID=America/Chicago:20260120T120000
DTSTAMP:20260423T154209
CREATED:20260102T134554Z
LAST-MODIFIED:20260102T134554Z
UID:19062-1768899600-1768910400@hillcrestrvresortfl.com
SUMMARY:Water Exercises
DESCRIPTION:
URL:https://hillcrestrvresortfl.com/event/water-exercises-17/
END:VEVENT
BEGIN:VEVENT
DTSTART;TZID=America/Chicago:20260120T093000
DTEND;TZID=America/Chicago:20260120T103000
DTSTAMP:20260423T154209
CREATED:20260107T161459Z
LAST-MODIFIED:20260107T161459Z
UID:19515-1768901400-1768905000@hillcrestrvresortfl.com
SUMMARY:One Stop Shop (OSS)
DESCRIPTION:
URL:https://hillcrestrvresortfl.com/event/one-stop-shop-oss-12/
END:VEVENT
BEGIN:VEVENT
DTSTART;TZID=America/Chicago:20260120T093000
DTEND;TZID=America/Chicago:20260120T110000
DTSTAMP:20260423T154209
CREATED:20260102T133306Z
LAST-MODIFIED:20260102T133306Z
UID:19006-1768901400-1768906800@hillcrestrvresortfl.com
SUMMARY:Shuffleboard
DESCRIPTION:
URL:https://hillcrestrvresortfl.com/event/shuffleboard-249/
END:VEVENT
BEGIN:VEVENT
DTSTART;TZID=America/Chicago:20260120T100000
DTEND;TZID=America/Chicago:20260120T120000
DTSTAMP:20260423T154209
CREATED:20260102T142416Z
LAST-MODIFIED:20260102T142416Z
UID:19122-1768903200-1768910400@hillcrestrvresortfl.com
SUMMARY:Pentanque
DESCRIPTION:
URL:https://hillcrestrvresortfl.com/event/pentanque-189/
END:VEVENT
BEGIN:VEVENT
DTSTART;TZID=America/Chicago:20260120T110000
DTEND;TZID=America/Chicago:20260120T120000
DTSTAMP:20260423T154209
CREATED:20260102T201916Z
LAST-MODIFIED:20260102T201916Z
UID:19264-1768906800-1768910400@hillcrestrvresortfl.com
SUMMARY:Missions Meeting
DESCRIPTION:
URL:https://hillcrestrvresortfl.com/event/missions-meeting-8/
END:VEVENT
BEGIN:VEVENT
DTSTART;TZID=America/Chicago:20260120T130000
DTEND;TZID=America/Chicago:20260120T160000
DTSTAMP:20260423T154209
CREATED:20260107T182005Z
LAST-MODIFIED:20260107T182005Z
UID:19583-1768914000-1768924800@hillcrestrvresortfl.com
SUMMARY:Jewelry Making
DESCRIPTION:
URL:https://hillcrestrvresortfl.com/event/jewelry-making-3/
END:VEVENT
BEGIN:VEVENT
DTSTART;TZID=America/Chicago:20260120T180000
DTEND;TZID=America/Chicago:20260120T210000
DTSTAMP:20260423T154209
CREATED:20260102T171356Z
LAST-MODIFIED:20260102T171356Z
UID:19166-1768932000-1768942800@hillcrestrvresortfl.com
SUMMARY:Bid Euchre
DESCRIPTION:
URL:https://hillcrestrvresortfl.com/event/bid-euchre-73/
END:VEVENT
BEGIN:VEVENT
DTSTART;TZID=America/Chicago:20260120T190000
DTEND;TZID=America/Chicago:20260120T210000
DTSTAMP:20260423T154209
CREATED:20260107T161709Z
LAST-MODIFIED:20260107T161709Z
UID:19523-1768935600-1768942800@hillcrestrvresortfl.com
SUMMARY:Karaoke
DESCRIPTION:
URL:https://hillcrestrvresortfl.com/event/karaoke-35/
END:VEVENT
BEGIN:VEVENT
DTSTART;TZID=America/Chicago:20260121T080000
DTEND;TZID=America/Chicago:20260121T170000
DTSTAMP:20260423T154209
CREATED:20260102T204325Z
LAST-MODIFIED:20260102T204325Z
UID:19336-1768982400-1769014800@hillcrestrvresortfl.com
SUMMARY:Pickleball
DESCRIPTION:
URL:https://hillcrestrvresortfl.com/event/pickleball-300/
END:VEVENT
BEGIN:VEVENT
DTSTART;TZID=America/Chicago:20260121T090000
DTEND;TZID=America/Chicago:20260121T100000
DTSTAMP:20260423T154209
CREATED:20260107T135211Z
LAST-MODIFIED:20260107T135211Z
UID:19443-1768986000-1768989600@hillcrestrvresortfl.com
SUMMARY:Bone Builder Exercises
DESCRIPTION:
URL:https://hillcrestrvresortfl.com/event/bone-builder-exercises-22/
END:VEVENT
BEGIN:VEVENT
DTSTART;TZID=America/Chicago:20260121T090000
DTEND;TZID=America/Chicago:20260121T110000
DTSTAMP:20260423T154209
CREATED:20260107T131205Z
LAST-MODIFIED:20260107T131205Z
UID:19393-1768986000-1768993200@hillcrestrvresortfl.com
SUMMARY:Horseshoes
DESCRIPTION:
URL:https://hillcrestrvresortfl.com/event/horseshoes-246/
END:VEVENT
BEGIN:VEVENT
DTSTART;TZID=America/Chicago:20260121T090000
DTEND;TZID=America/Chicago:20260121T120000
DTSTAMP:20260423T154209
CREATED:20260102T134621Z
LAST-MODIFIED:20260102T134621Z
UID:19064-1768986000-1768996800@hillcrestrvresortfl.com
SUMMARY:Water Exercises
DESCRIPTION:
URL:https://hillcrestrvresortfl.com/event/water-exercises-18/
END:VEVENT
BEGIN:VEVENT
DTSTART;TZID=America/Chicago:20260121T093000
DTEND;TZID=America/Chicago:20260121T110000
DTSTAMP:20260423T154209
CREATED:20260102T133331Z
LAST-MODIFIED:20260102T133331Z
UID:19008-1768987800-1768993200@hillcrestrvresortfl.com
SUMMARY:Shuffleboard
DESCRIPTION:
URL:https://hillcrestrvresortfl.com/event/shuffleboard-250/
END:VEVENT
BEGIN:VEVENT
DTSTART;TZID=America/Chicago:20260121T100000
DTEND;TZID=America/Chicago:20260121T110000
DTSTAMP:20260423T154209
CREATED:20260102T172033Z
LAST-MODIFIED:20260102T172033Z
UID:19190-1768989600-1768993200@hillcrestrvresortfl.com
SUMMARY:Women's Billiards
DESCRIPTION:
URL:https://hillcrestrvresortfl.com/event/womens-billiards-75/
END:VEVENT
BEGIN:VEVENT
DTSTART;TZID=America/Chicago:20260121T100000
DTEND;TZID=America/Chicago:20260121T110000
DTSTAMP:20260423T154209
CREATED:20260102T202325Z
LAST-MODIFIED:20260102T202325Z
UID:19276-1768989600-1768993200@hillcrestrvresortfl.com
SUMMARY:Scrabble
DESCRIPTION:
URL:https://hillcrestrvresortfl.com/event/scrabble-38/
END:VEVENT
BEGIN:VEVENT
DTSTART;TZID=America/Chicago:20260121T100000
DTEND;TZID=America/Chicago:20260121T120000
DTSTAMP:20260423T154209
CREATED:20260102T142435Z
LAST-MODIFIED:20260102T142435Z
UID:19124-1768989600-1768996800@hillcrestrvresortfl.com
SUMMARY:Pentanque
DESCRIPTION:
URL:https://hillcrestrvresortfl.com/event/pentanque-190/
END:VEVENT
BEGIN:VEVENT
DTSTART;TZID=America/Chicago:20260121T103000
DTEND;TZID=America/Chicago:20260121T133000
DTSTAMP:20260423T154209
CREATED:20260102T202528Z
LAST-MODIFIED:20260102T202528Z
UID:19284-1768991400-1769002200@hillcrestrvresortfl.com
SUMMARY:Golf
DESCRIPTION:
URL:https://hillcrestrvresortfl.com/event/golf-32/
END:VEVENT
BEGIN:VEVENT
DTSTART;TZID=America/Chicago:20260121T130000
DTEND;TZID=America/Chicago:20260121T150000
DTSTAMP:20260423T154209
CREATED:20260107T163902Z
LAST-MODIFIED:20260107T163902Z
UID:19531-1769000400-1769007600@hillcrestrvresortfl.com
SUMMARY:Fiddler's Jam
DESCRIPTION:
URL:https://hillcrestrvresortfl.com/event/fiddlers-jam-33/
END:VEVENT
BEGIN:VEVENT
DTSTART;TZID=America/Chicago:20260121T180000
DTEND;TZID=America/Chicago:20260121T210000
DTSTAMP:20260423T154209
CREATED:20260107T164407Z
LAST-MODIFIED:20260107T164407Z
UID:19539-1769018400-1769029200@hillcrestrvresortfl.com
SUMMARY:Darts
DESCRIPTION:
URL:https://hillcrestrvresortfl.com/event/darts-28/
END:VEVENT
BEGIN:VEVENT
DTSTART;TZID=America/Chicago:20260122T080000
DTEND;TZID=America/Chicago:20260122T170000
DTSTAMP:20260423T154209
CREATED:20260102T204337Z
LAST-MODIFIED:20260102T204337Z
UID:19338-1769068800-1769101200@hillcrestrvresortfl.com
SUMMARY:Pickleball
DESCRIPTION:
URL:https://hillcrestrvresortfl.com/event/pickleball-301/
END:VEVENT
BEGIN:VEVENT
DTSTART;TZID=America/Chicago:20260122T083000
DTEND;TZID=America/Chicago:20260122T093000
DTSTAMP:20260423T154209
CREATED:20260102T170735Z
LAST-MODIFIED:20260102T170735Z
UID:19152-1769070600-1769074200@hillcrestrvresortfl.com
SUMMARY:Choir Practice
DESCRIPTION:
URL:https://hillcrestrvresortfl.com/event/choir-practice-32/
END:VEVENT
BEGIN:VEVENT
DTSTART;TZID=America/Chicago:20260122T090000
DTEND;TZID=America/Chicago:20260122T110000
DTSTAMP:20260423T154209
CREATED:20260107T131225Z
LAST-MODIFIED:20260107T131225Z
UID:19395-1769072400-1769079600@hillcrestrvresortfl.com
SUMMARY:Horseshoes
DESCRIPTION:
URL:https://hillcrestrvresortfl.com/event/horseshoes-247/
END:VEVENT
BEGIN:VEVENT
DTSTART;TZID=America/Chicago:20260122T090000
DTEND;TZID=America/Chicago:20260122T120000
DTSTAMP:20260423T154209
CREATED:20260102T134647Z
LAST-MODIFIED:20260102T134647Z
UID:19066-1769072400-1769083200@hillcrestrvresortfl.com
SUMMARY:Water Exercises
DESCRIPTION:
URL:https://hillcrestrvresortfl.com/event/water-exercises-19/
END:VEVENT
BEGIN:VEVENT
DTSTART;TZID=America/Chicago:20260122T093000
DTEND;TZID=America/Chicago:20260122T110000
DTSTAMP:20260423T154209
CREATED:20260102T133353Z
LAST-MODIFIED:20260102T133353Z
UID:19010-1769074200-1769079600@hillcrestrvresortfl.com
SUMMARY:Shuffleboard
DESCRIPTION:
URL:https://hillcrestrvresortfl.com/event/shuffleboard-251/
END:VEVENT
BEGIN:VEVENT
DTSTART;TZID=America/Chicago:20260122T100000
DTEND;TZID=America/Chicago:20260122T110000
DTSTAMP:20260423T154209
CREATED:20260107T165510Z
LAST-MODIFIED:20260107T165510Z
UID:19547-1769076000-1769079600@hillcrestrvresortfl.com
SUMMARY:Drumming Classes
DESCRIPTION:
URL:https://hillcrestrvresortfl.com/event/drumming-classes-3/
END:VEVENT
BEGIN:VEVENT
DTSTART;TZID=America/Chicago:20260122T100000
DTEND;TZID=America/Chicago:20260122T120000
DTSTAMP:20260423T154209
CREATED:20260102T142501Z
LAST-MODIFIED:20260102T142501Z
UID:19126-1769076000-1769083200@hillcrestrvresortfl.com
SUMMARY:Pentanque
DESCRIPTION:
URL:https://hillcrestrvresortfl.com/event/pentanque-191/
END:VEVENT
BEGIN:VEVENT
DTSTART;TZID=America/Chicago:20260122T130000
DTEND;TZID=America/Chicago:20260122T143000
DTSTAMP:20260423T154209
CREATED:20260107T133325Z
LAST-MODIFIED:20260107T133325Z
UID:19419-1769086800-1769092200@hillcrestrvresortfl.com
SUMMARY:Line Dancing W/Dena
DESCRIPTION:
URL:https://hillcrestrvresortfl.com/event/line-dancing-w-dena-12/
END:VEVENT
BEGIN:VEVENT
DTSTART;TZID=America/Chicago:20260122T150000
DTEND;TZID=America/Chicago:20260122T170000
DTSTAMP:20260423T154209
CREATED:20260107T133951Z
LAST-MODIFIED:20260107T133951Z
UID:19429-1769094000-1769101200@hillcrestrvresortfl.com
SUMMARY:Acoustic Jam
DESCRIPTION:
URL:https://hillcrestrvresortfl.com/event/acoustic-jam-42/
END:VEVENT
END:VCALENDAR