BEGIN:VCALENDAR
VERSION:2.0
PRODID:-//Hillcrest RV Resort - ECPv6.15.20//NONSGML v1.0//EN
CALSCALE:GREGORIAN
METHOD:PUBLISH
X-ORIGINAL-URL:https://hillcrestrvresortfl.com
X-WR-CALDESC:Events for Hillcrest RV Resort
REFRESH-INTERVAL;VALUE=DURATION:PT1H
X-Robots-Tag:noindex
X-PUBLISHED-TTL:PT1H
BEGIN:VTIMEZONE
TZID:America/Chicago
BEGIN:DAYLIGHT
TZOFFSETFROM:-0600
TZOFFSETTO:-0500
TZNAME:CDT
DTSTART:20240310T080000
END:DAYLIGHT
BEGIN:STANDARD
TZOFFSETFROM:-0500
TZOFFSETTO:-0600
TZNAME:CST
DTSTART:20241103T070000
END:STANDARD
BEGIN:DAYLIGHT
TZOFFSETFROM:-0600
TZOFFSETTO:-0500
TZNAME:CDT
DTSTART:20250309T080000
END:DAYLIGHT
BEGIN:STANDARD
TZOFFSETFROM:-0500
TZOFFSETTO:-0600
TZNAME:CST
DTSTART:20251102T070000
END:STANDARD
BEGIN:DAYLIGHT
TZOFFSETFROM:-0600
TZOFFSETTO:-0500
TZNAME:CDT
DTSTART:20260308T080000
END:DAYLIGHT
BEGIN:STANDARD
TZOFFSETFROM:-0500
TZOFFSETTO:-0600
TZNAME:CST
DTSTART:20261101T070000
END:STANDARD
END:VTIMEZONE
BEGIN:VEVENT
DTSTART;TZID=America/Chicago:20250211T080000
DTEND;TZID=America/Chicago:20250211T120000
DTSTAMP:20260425T220812
CREATED:20250115T192215Z
LAST-MODIFIED:20250115T192215Z
UID:17791-1739260800-1739275200@hillcrestrvresortfl.com
SUMMARY:Water Aerobics
DESCRIPTION:
URL:https://hillcrestrvresortfl.com/event/water-aerobics-175/
END:VEVENT
BEGIN:VEVENT
DTSTART;TZID=America/Chicago:20250211T080000
DTEND;TZID=America/Chicago:20250211T220000
DTSTAMP:20260425T220812
CREATED:20250114T170057Z
LAST-MODIFIED:20250114T170057Z
UID:17654-1739260800-1739311200@hillcrestrvresortfl.com
SUMMARY:Pickleball
DESCRIPTION:
URL:https://hillcrestrvresortfl.com/event/pickleball-201/
END:VEVENT
BEGIN:VEVENT
DTSTART;TZID=America/Chicago:20250211T090000
DTEND;TZID=America/Chicago:20250211T170000
DTSTAMP:20260425T220812
CREATED:20250114T175020Z
LAST-MODIFIED:20250114T175020Z
UID:17706-1739264400-1739293200@hillcrestrvresortfl.com
SUMMARY:Horseshoes
DESCRIPTION:
URL:https://hillcrestrvresortfl.com/event/horseshoes-181/
END:VEVENT
BEGIN:VEVENT
DTSTART;TZID=America/Chicago:20250211T090000
DTEND;TZID=America/Chicago:20250211T170000
DTSTAMP:20260425T220812
CREATED:20250115T191553Z
LAST-MODIFIED:20250115T191553Z
UID:17751-1739264400-1739293200@hillcrestrvresortfl.com
SUMMARY:Shuffleboard
DESCRIPTION:
URL:https://hillcrestrvresortfl.com/event/shuffleboard-174/
END:VEVENT
BEGIN:VEVENT
DTSTART;TZID=America/Chicago:20250211T093000
DTEND;TZID=America/Chicago:20250211T103000
DTSTAMP:20260425T220812
CREATED:20250114T142333Z
LAST-MODIFIED:20250114T142333Z
UID:17506-1739266200-1739269800@hillcrestrvresortfl.com
SUMMARY:One Stop Shopping (OSS)
DESCRIPTION:
URL:https://hillcrestrvresortfl.com/event/one-stop-shopping-oss-6/
END:VEVENT
BEGIN:VEVENT
DTSTART;TZID=America/Chicago:20250211T100000
DTEND;TZID=America/Chicago:20250211T123000
DTSTAMP:20260425T220812
CREATED:20250115T204236Z
LAST-MODIFIED:20250115T204236Z
UID:17985-1739268000-1739277000@hillcrestrvresortfl.com
SUMMARY:Missions
DESCRIPTION:
URL:https://hillcrestrvresortfl.com/event/missions-14/
END:VEVENT
BEGIN:VEVENT
DTSTART;TZID=America/Chicago:20250211T100000
DTEND;TZID=America/Chicago:20250211T170000
DTSTAMP:20260425T220812
CREATED:20250115T193106Z
LAST-MODIFIED:20250115T193106Z
UID:17839-1739268000-1739293200@hillcrestrvresortfl.com
SUMMARY:Pentanque
DESCRIPTION:
URL:https://hillcrestrvresortfl.com/event/pentanque-121/
END:VEVENT
BEGIN:VEVENT
DTSTART;TZID=America/Chicago:20250211T103000
DTEND;TZID=America/Chicago:20250211T123000
DTSTAMP:20260425T220812
CREATED:20250114T142534Z
LAST-MODIFIED:20250114T142534Z
UID:17514-1739269800-1739277000@hillcrestrvresortfl.com
SUMMARY:Advanced Line Dancing
DESCRIPTION:
URL:https://hillcrestrvresortfl.com/event/advanced-line-dancing-5/
END:VEVENT
BEGIN:VEVENT
DTSTART;TZID=America/Chicago:20250211T120000
DTEND;TZID=America/Chicago:20250211T153000
DTSTAMP:20260425T220812
CREATED:20250114T144712Z
LAST-MODIFIED:20250114T144712Z
UID:17536-1739275200-1739287800@hillcrestrvresortfl.com
SUMMARY:Potluck Nickel Bingo
DESCRIPTION:
URL:https://hillcrestrvresortfl.com/event/potluck-nickel-bingo-2/
END:VEVENT
BEGIN:VEVENT
DTSTART;TZID=America/Chicago:20250211T130000
DTEND;TZID=America/Chicago:20250211T150000
DTSTAMP:20260425T220812
CREATED:20250115T202337Z
LAST-MODIFIED:20250115T202337Z
UID:17941-1739278800-1739286000@hillcrestrvresortfl.com
SUMMARY:Men's Billiards
DESCRIPTION:
URL:https://hillcrestrvresortfl.com/event/mens-billiards-71/
END:VEVENT
BEGIN:VEVENT
DTSTART;TZID=America/Chicago:20250211T180000
DTEND;TZID=America/Chicago:20250211T210000
DTSTAMP:20260425T220812
CREATED:20250115T203645Z
LAST-MODIFIED:20250115T203645Z
UID:17965-1739296800-1739307600@hillcrestrvresortfl.com
SUMMARY:Bid Euchre
DESCRIPTION:
URL:https://hillcrestrvresortfl.com/event/bid-euchre-45/
END:VEVENT
BEGIN:VEVENT
DTSTART;TZID=America/Chicago:20250211T180000
DTEND;TZID=America/Chicago:20250211T210000
DTSTAMP:20260425T220812
CREATED:20250115T204105Z
LAST-MODIFIED:20250115T204105Z
UID:17981-1739296800-1739307600@hillcrestrvresortfl.com
SUMMARY:Texas Hold'Em
DESCRIPTION:
URL:https://hillcrestrvresortfl.com/event/texas-holdem-34/
END:VEVENT
BEGIN:VEVENT
DTSTART;TZID=America/Chicago:20250211T190000
DTEND;TZID=America/Chicago:20250211T213000
DTSTAMP:20260425T220812
CREATED:20250114T144541Z
LAST-MODIFIED:20250114T144541Z
UID:17530-1739300400-1739309400@hillcrestrvresortfl.com
SUMMARY:Karaoke
DESCRIPTION:
URL:https://hillcrestrvresortfl.com/event/karaoke-26/
END:VEVENT
BEGIN:VEVENT
DTSTART;TZID=America/Chicago:20250212T080000
DTEND;TZID=America/Chicago:20250212T120000
DTSTAMP:20260425T220812
CREATED:20250115T192234Z
LAST-MODIFIED:20250115T192234Z
UID:17793-1739347200-1739361600@hillcrestrvresortfl.com
SUMMARY:Water Aerobics
DESCRIPTION:
URL:https://hillcrestrvresortfl.com/event/water-aerobics-176/
END:VEVENT
BEGIN:VEVENT
DTSTART;TZID=America/Chicago:20250212T080000
DTEND;TZID=America/Chicago:20250212T220000
DTSTAMP:20260425T220812
CREATED:20250114T170115Z
LAST-MODIFIED:20250114T170115Z
UID:17656-1739347200-1739397600@hillcrestrvresortfl.com
SUMMARY:Pickleball
DESCRIPTION:
URL:https://hillcrestrvresortfl.com/event/pickleball-202/
END:VEVENT
BEGIN:VEVENT
DTSTART;TZID=America/Chicago:20250212T090000
DTEND;TZID=America/Chicago:20250212T103000
DTSTAMP:20260425T220812
CREATED:20250114T144859Z
LAST-MODIFIED:20250114T144859Z
UID:17542-1739350800-1739356200@hillcrestrvresortfl.com
SUMMARY:Bone Builder Exercises
DESCRIPTION:
URL:https://hillcrestrvresortfl.com/event/bone-builder-exercises-13/
END:VEVENT
BEGIN:VEVENT
DTSTART;TZID=America/Chicago:20250212T090000
DTEND;TZID=America/Chicago:20250212T170000
DTSTAMP:20260425T220812
CREATED:20250114T175039Z
LAST-MODIFIED:20250114T175039Z
UID:17708-1739350800-1739379600@hillcrestrvresortfl.com
SUMMARY:Horseshoes
DESCRIPTION:
URL:https://hillcrestrvresortfl.com/event/horseshoes-182/
END:VEVENT
BEGIN:VEVENT
DTSTART;TZID=America/Chicago:20250212T090000
DTEND;TZID=America/Chicago:20250212T170000
DTSTAMP:20260425T220812
CREATED:20250115T191610Z
LAST-MODIFIED:20250115T191610Z
UID:17753-1739350800-1739379600@hillcrestrvresortfl.com
SUMMARY:Shuffleboard
DESCRIPTION:
URL:https://hillcrestrvresortfl.com/event/shuffleboard-175/
END:VEVENT
BEGIN:VEVENT
DTSTART;TZID=America/Chicago:20250212T100000
DTEND;TZID=America/Chicago:20250212T120000
DTSTAMP:20260425T220812
CREATED:20250115T200915Z
LAST-MODIFIED:20250115T200915Z
UID:17891-1739354400-1739361600@hillcrestrvresortfl.com
SUMMARY:Womens' Billiards
DESCRIPTION:
URL:https://hillcrestrvresortfl.com/event/womens-billiards-47/
END:VEVENT
BEGIN:VEVENT
DTSTART;TZID=America/Chicago:20250212T100000
DTEND;TZID=America/Chicago:20250212T123000
DTSTAMP:20260425T220812
CREATED:20250115T204608Z
LAST-MODIFIED:20250115T204608Z
UID:17993-1739354400-1739363400@hillcrestrvresortfl.com
SUMMARY:Scrabble
DESCRIPTION:
URL:https://hillcrestrvresortfl.com/event/scrabble-29/
END:VEVENT
BEGIN:VEVENT
DTSTART;TZID=America/Chicago:20250212T100000
DTEND;TZID=America/Chicago:20250212T170000
DTSTAMP:20260425T220812
CREATED:20250115T193203Z
LAST-MODIFIED:20250115T193203Z
UID:17841-1739354400-1739379600@hillcrestrvresortfl.com
SUMMARY:Pentanque
DESCRIPTION:
URL:https://hillcrestrvresortfl.com/event/pentanque-122/
END:VEVENT
BEGIN:VEVENT
DTSTART;TZID=America/Chicago:20250212T103000
DTEND;TZID=America/Chicago:20250212T170000
DTSTAMP:20260425T220812
CREATED:20250116T170207Z
LAST-MODIFIED:20250116T170207Z
UID:18001-1739356200-1739379600@hillcrestrvresortfl.com
SUMMARY:Golf
DESCRIPTION:
URL:https://hillcrestrvresortfl.com/event/golf-15/
END:VEVENT
BEGIN:VEVENT
DTSTART;TZID=America/Chicago:20250212T110000
DTEND;TZID=America/Chicago:20250212T123000
DTSTAMP:20260425T220812
CREATED:20250114T145113Z
LAST-MODIFIED:20250114T145113Z
UID:17550-1739358000-1739363400@hillcrestrvresortfl.com
SUMMARY:Bible Study
DESCRIPTION:
URL:https://hillcrestrvresortfl.com/event/bible-study-15/
END:VEVENT
BEGIN:VEVENT
DTSTART;TZID=America/Chicago:20250212T130000
DTEND;TZID=America/Chicago:20250212T150000
DTSTAMP:20260425T220812
CREATED:20250114T152122Z
LAST-MODIFIED:20250114T152122Z
UID:17554-1739365200-1739372400@hillcrestrvresortfl.com
SUMMARY:Fiddler's Jam
DESCRIPTION:
URL:https://hillcrestrvresortfl.com/event/fiddlers-jam-25/
END:VEVENT
BEGIN:VEVENT
DTSTART;TZID=America/Chicago:20250212T180000
DTEND;TZID=America/Chicago:20250212T210000
DTSTAMP:20260425T220812
CREATED:20250114T152240Z
LAST-MODIFIED:20250114T152240Z
UID:17560-1739383200-1739394000@hillcrestrvresortfl.com
SUMMARY:Darts
DESCRIPTION:
URL:https://hillcrestrvresortfl.com/event/darts-22/
END:VEVENT
BEGIN:VEVENT
DTSTART;TZID=America/Chicago:20250212T180000
DTEND;TZID=America/Chicago:20250212T210000
DTSTAMP:20260425T220812
CREATED:20250115T201654Z
LAST-MODIFIED:20250115T201654Z
UID:17925-1739383200-1739394000@hillcrestrvresortfl.com
SUMMARY:Game Night
DESCRIPTION:
URL:https://hillcrestrvresortfl.com/event/game-night-60/
END:VEVENT
BEGIN:VEVENT
DTSTART;TZID=America/Chicago:20250213T080000
DTEND;TZID=America/Chicago:20250213T120000
DTSTAMP:20260425T220812
CREATED:20250115T192256Z
LAST-MODIFIED:20250115T192256Z
UID:17795-1739433600-1739448000@hillcrestrvresortfl.com
SUMMARY:Water Aerobics
DESCRIPTION:
URL:https://hillcrestrvresortfl.com/event/water-aerobics-177/
END:VEVENT
BEGIN:VEVENT
DTSTART;TZID=America/Chicago:20250213T080000
DTEND;TZID=America/Chicago:20250213T220000
DTSTAMP:20260425T220812
CREATED:20250114T170133Z
LAST-MODIFIED:20250114T170133Z
UID:17658-1739433600-1739484000@hillcrestrvresortfl.com
SUMMARY:Pickleball
DESCRIPTION:
URL:https://hillcrestrvresortfl.com/event/pickleball-203/
END:VEVENT
BEGIN:VEVENT
DTSTART;TZID=America/Chicago:20250213T090000
DTEND;TZID=America/Chicago:20250213T103000
DTSTAMP:20260425T220812
CREATED:20250116T170350Z
LAST-MODIFIED:20250116T170350Z
UID:18009-1739437200-1739442600@hillcrestrvresortfl.com
SUMMARY:Choir Practice
DESCRIPTION:
URL:https://hillcrestrvresortfl.com/event/choir-practice-15/
END:VEVENT
BEGIN:VEVENT
DTSTART;TZID=America/Chicago:20250213T090000
DTEND;TZID=America/Chicago:20250213T170000
DTSTAMP:20260425T220812
CREATED:20250114T175058Z
LAST-MODIFIED:20250114T175058Z
UID:17710-1739437200-1739466000@hillcrestrvresortfl.com
SUMMARY:Horseshoes
DESCRIPTION:
URL:https://hillcrestrvresortfl.com/event/horseshoes-183/
END:VEVENT
END:VCALENDAR