BEGIN:VCALENDAR
VERSION:2.0
PRODID:-//Hillcrest RV Resort - ECPv6.15.20//NONSGML v1.0//EN
CALSCALE:GREGORIAN
METHOD:PUBLISH
X-ORIGINAL-URL:https://hillcrestrvresortfl.com
X-WR-CALDESC:Events for Hillcrest RV Resort
REFRESH-INTERVAL;VALUE=DURATION:PT1H
X-Robots-Tag:noindex
X-PUBLISHED-TTL:PT1H
BEGIN:VTIMEZONE
TZID:America/Chicago
BEGIN:DAYLIGHT
TZOFFSETFROM:-0600
TZOFFSETTO:-0500
TZNAME:CDT
DTSTART:20240310T080000
END:DAYLIGHT
BEGIN:STANDARD
TZOFFSETFROM:-0500
TZOFFSETTO:-0600
TZNAME:CST
DTSTART:20241103T070000
END:STANDARD
BEGIN:DAYLIGHT
TZOFFSETFROM:-0600
TZOFFSETTO:-0500
TZNAME:CDT
DTSTART:20250309T080000
END:DAYLIGHT
BEGIN:STANDARD
TZOFFSETFROM:-0500
TZOFFSETTO:-0600
TZNAME:CST
DTSTART:20251102T070000
END:STANDARD
BEGIN:DAYLIGHT
TZOFFSETFROM:-0600
TZOFFSETTO:-0500
TZNAME:CDT
DTSTART:20260308T080000
END:DAYLIGHT
BEGIN:STANDARD
TZOFFSETFROM:-0500
TZOFFSETTO:-0600
TZNAME:CST
DTSTART:20261101T070000
END:STANDARD
END:VTIMEZONE
BEGIN:VEVENT
DTSTART;TZID=America/Chicago:20250124T080000
DTEND;TZID=America/Chicago:20250124T170000
DTSTAMP:20260425T232851
CREATED:20250113T195759Z
LAST-MODIFIED:20250113T195759Z
UID:17154-1737705600-1737738000@hillcrestrvresortfl.com
SUMMARY:shuffleboard
DESCRIPTION:
URL:https://hillcrestrvresortfl.com/event/shuffleboard-161/
END:VEVENT
BEGIN:VEVENT
DTSTART;TZID=America/Chicago:20250124T080000
DTEND;TZID=America/Chicago:20250124T170000
DTSTAMP:20260425T232851
CREATED:20250113T204757Z
LAST-MODIFIED:20250113T204757Z
UID:17200-1737705600-1737738000@hillcrestrvresortfl.com
SUMMARY:Water Aerobics
DESCRIPTION:
URL:https://hillcrestrvresortfl.com/event/water-aerobics-163/
END:VEVENT
BEGIN:VEVENT
DTSTART;TZID=America/Chicago:20250124T080000
DTEND;TZID=America/Chicago:20250124T170000
DTSTAMP:20260425T232851
CREATED:20250114T124352Z
LAST-MODIFIED:20250114T124352Z
UID:17259-1737705600-1737738000@hillcrestrvresortfl.com
SUMMARY:Pentanque
DESCRIPTION:
URL:https://hillcrestrvresortfl.com/event/pentanque-103/
END:VEVENT
BEGIN:VEVENT
DTSTART;TZID=America/Chicago:20250124T080000
DTEND;TZID=America/Chicago:20250124T220000
DTSTAMP:20260425T232851
CREATED:20250113T184053Z
LAST-MODIFIED:20250113T184053Z
UID:17040-1737705600-1737756000@hillcrestrvresortfl.com
SUMMARY:Pickleball
DESCRIPTION:
URL:https://hillcrestrvresortfl.com/event/pickleball-183/
END:VEVENT
BEGIN:VEVENT
DTSTART;TZID=America/Chicago:20250124T090000
DTEND;TZID=America/Chicago:20250124T103000
DTSTAMP:20260425T232851
CREATED:20250113T132622Z
LAST-MODIFIED:20250113T132622Z
UID:16827-1737709200-1737714600@hillcrestrvresortfl.com
SUMMARY:Bone Builder Exercises
DESCRIPTION:
URL:https://hillcrestrvresortfl.com/event/bone-builder-exercises-9/
END:VEVENT
BEGIN:VEVENT
DTSTART;TZID=America/Chicago:20250124T090000
DTEND;TZID=America/Chicago:20250124T210000
DTSTAMP:20260425T232851
CREATED:20250113T184805Z
LAST-MODIFIED:20250113T184805Z
UID:17070-1737709200-1737752400@hillcrestrvresortfl.com
SUMMARY:Horseshoes
DESCRIPTION:
URL:https://hillcrestrvresortfl.com/event/horseshoes-147/
END:VEVENT
BEGIN:VEVENT
DTSTART;TZID=America/Chicago:20250124T100000
DTEND;TZID=America/Chicago:20250124T130000
DTSTAMP:20260425T232851
CREATED:20250114T125912Z
LAST-MODIFIED:20250114T125912Z
UID:17296-1737712800-1737723600@hillcrestrvresortfl.com
SUMMARY:Women's Billiards
DESCRIPTION:
URL:https://hillcrestrvresortfl.com/event/womens-billiards-39/
END:VEVENT
BEGIN:VEVENT
DTSTART;TZID=America/Chicago:20250124T110000
DTEND;TZID=America/Chicago:20250124T123000
DTSTAMP:20260425T232851
CREATED:20250113T175105Z
LAST-MODIFIED:20250113T175105Z
UID:16936-1737716400-1737721800@hillcrestrvresortfl.com
SUMMARY:Rock Painting
DESCRIPTION:
URL:https://hillcrestrvresortfl.com/event/rock-painting-24/
END:VEVENT
BEGIN:VEVENT
DTSTART;TZID=America/Chicago:20250124T130000
DTEND;TZID=America/Chicago:20250124T150000
DTSTAMP:20260425T232851
CREATED:20250114T133134Z
LAST-MODIFIED:20250114T133134Z
UID:17390-1737723600-1737730800@hillcrestrvresortfl.com
SUMMARY:Men's Billiards
DESCRIPTION:
URL:https://hillcrestrvresortfl.com/event/mens-billiards-66/
END:VEVENT
BEGIN:VEVENT
DTSTART;TZID=America/Chicago:20250124T130000
DTEND;TZID=America/Chicago:20250124T170000
DTSTAMP:20260425T232851
CREATED:20250114T133436Z
LAST-MODIFIED:20250114T133436Z
UID:17404-1737723600-1737738000@hillcrestrvresortfl.com
SUMMARY:Bowling
DESCRIPTION:
URL:https://hillcrestrvresortfl.com/event/bowling-31/
END:VEVENT
BEGIN:VEVENT
DTSTART;TZID=America/Chicago:20250124T150000
DTEND;TZID=America/Chicago:20250124T170000
DTSTAMP:20260425T232851
CREATED:20250113T175131Z
LAST-MODIFIED:20250113T175131Z
UID:16938-1737730800-1737738000@hillcrestrvresortfl.com
SUMMARY:Card Bingo
DESCRIPTION:
URL:https://hillcrestrvresortfl.com/event/card-bingo-3/
END:VEVENT
BEGIN:VEVENT
DTSTART;TZID=America/Chicago:20250124T183000
DTEND;TZID=America/Chicago:20250124T213000
DTSTAMP:20260425T232851
CREATED:20250113T175205Z
LAST-MODIFIED:20250113T175205Z
UID:16940-1737743400-1737754200@hillcrestrvresortfl.com
SUMMARY:Friday Night Jam
DESCRIPTION:
URL:https://hillcrestrvresortfl.com/event/friday-night-jam-5/
END:VEVENT
BEGIN:VEVENT
DTSTART;TZID=America/Chicago:20250125T080000
DTEND;TZID=America/Chicago:20250125T170000
DTSTAMP:20260425T232851
CREATED:20250114T124409Z
LAST-MODIFIED:20250114T124409Z
UID:17261-1737792000-1737824400@hillcrestrvresortfl.com
SUMMARY:Pentanque
DESCRIPTION:
URL:https://hillcrestrvresortfl.com/event/pentanque-104/
END:VEVENT
BEGIN:VEVENT
DTSTART;TZID=America/Chicago:20250125T080000
DTEND;TZID=America/Chicago:20250125T220000
DTSTAMP:20260425T232851
CREATED:20250113T184115Z
LAST-MODIFIED:20250113T184115Z
UID:17042-1737792000-1737842400@hillcrestrvresortfl.com
SUMMARY:Pickleball
DESCRIPTION:
URL:https://hillcrestrvresortfl.com/event/pickleball-184/
END:VEVENT
BEGIN:VEVENT
DTSTART;TZID=America/Chicago:20250125T090000
DTEND;TZID=America/Chicago:20250125T210000
DTSTAMP:20260425T232851
CREATED:20250113T184742Z
LAST-MODIFIED:20250113T184742Z
UID:17068-1737795600-1737838800@hillcrestrvresortfl.com
SUMMARY:Horseshoes
DESCRIPTION:
URL:https://hillcrestrvresortfl.com/event/horseshoes-146/
END:VEVENT
BEGIN:VEVENT
DTSTART;TZID=America/Chicago:20250125T103000
DTEND;TZID=America/Chicago:20250125T123000
DTSTAMP:20260425T232851
CREATED:20250113T175241Z
LAST-MODIFIED:20250113T175241Z
UID:16942-1737801000-1737808200@hillcrestrvresortfl.com
SUMMARY:Couples Line Dancing
DESCRIPTION:
URL:https://hillcrestrvresortfl.com/event/couples-line-dancing-4/
END:VEVENT
BEGIN:VEVENT
DTSTART;TZID=America/Chicago:20250125T193000
DTEND;TZID=America/Chicago:20250125T213000
DTSTAMP:20260425T232851
CREATED:20250113T175316Z
LAST-MODIFIED:20250113T175316Z
UID:16944-1737833400-1737840600@hillcrestrvresortfl.com
SUMMARY:Bill D Williams Dance
DESCRIPTION:
URL:https://hillcrestrvresortfl.com/event/bill-d-williams-dance/
END:VEVENT
BEGIN:VEVENT
DTSTART;TZID=America/Chicago:20250126T080000
DTEND;TZID=America/Chicago:20250126T170000
DTSTAMP:20260425T232851
CREATED:20250114T124426Z
LAST-MODIFIED:20250114T124426Z
UID:17263-1737878400-1737910800@hillcrestrvresortfl.com
SUMMARY:Pentanque
DESCRIPTION:
URL:https://hillcrestrvresortfl.com/event/pentanque-105/
END:VEVENT
BEGIN:VEVENT
DTSTART;TZID=America/Chicago:20250126T080000
DTEND;TZID=America/Chicago:20250126T220000
DTSTAMP:20260425T232851
CREATED:20250113T184206Z
LAST-MODIFIED:20250113T184206Z
UID:17044-1737878400-1737928800@hillcrestrvresortfl.com
SUMMARY:Pickleball
DESCRIPTION:
URL:https://hillcrestrvresortfl.com/event/pickleball-185/
END:VEVENT
BEGIN:VEVENT
DTSTART;TZID=America/Chicago:20250126T090000
DTEND;TZID=America/Chicago:20250126T210000
DTSTAMP:20260425T232851
CREATED:20250113T184707Z
LAST-MODIFIED:20250113T184707Z
UID:17066-1737882000-1737925200@hillcrestrvresortfl.com
SUMMARY:Horseshoes
DESCRIPTION:
URL:https://hillcrestrvresortfl.com/event/horseshoes-145/
END:VEVENT
BEGIN:VEVENT
DTSTART;TZID=America/Chicago:20250126T100000
DTEND;TZID=America/Chicago:20250126T120000
DTSTAMP:20260425T232851
CREATED:20250114T133642Z
LAST-MODIFIED:20250114T133642Z
UID:17414-1737885600-1737892800@hillcrestrvresortfl.com
SUMMARY:Church
DESCRIPTION:
URL:https://hillcrestrvresortfl.com/event/church-31/
END:VEVENT
BEGIN:VEVENT
DTSTART;TZID=America/Chicago:20250126T180000
DTEND;TZID=America/Chicago:20250126T190000
DTSTAMP:20260425T232851
CREATED:20250113T175429Z
LAST-MODIFIED:20250113T175429Z
UID:16946-1737914400-1737918000@hillcrestrvresortfl.com
SUMMARY:Ice Cream Social
DESCRIPTION:
URL:https://hillcrestrvresortfl.com/event/ice-cream-social-18/
END:VEVENT
BEGIN:VEVENT
DTSTART;TZID=America/Chicago:20250126T190000
DTEND;TZID=America/Chicago:20250126T213000
DTSTAMP:20260425T232851
CREATED:20250113T175501Z
LAST-MODIFIED:20250113T175501Z
UID:16948-1737918000-1737927000@hillcrestrvresortfl.com
SUMMARY:DJ Tammy Groulx
DESCRIPTION:
URL:https://hillcrestrvresortfl.com/event/dj-tammy-groulx/
END:VEVENT
BEGIN:VEVENT
DTSTART;TZID=America/Chicago:20250127T073000
DTEND;TZID=America/Chicago:20250127T090000
DTSTAMP:20260425T232851
CREATED:20250113T175533Z
LAST-MODIFIED:20250113T175533Z
UID:16950-1737963000-1737968400@hillcrestrvresortfl.com
SUMMARY:Breakfast
DESCRIPTION:
URL:https://hillcrestrvresortfl.com/event/breakfast-22/
END:VEVENT
BEGIN:VEVENT
DTSTART;TZID=America/Chicago:20250127T080000
DTEND;TZID=America/Chicago:20250127T170000
DTSTAMP:20260425T232851
CREATED:20250113T195816Z
LAST-MODIFIED:20250113T195816Z
UID:17156-1737964800-1737997200@hillcrestrvresortfl.com
SUMMARY:shuffleboard
DESCRIPTION:
URL:https://hillcrestrvresortfl.com/event/shuffleboard-162/
END:VEVENT
BEGIN:VEVENT
DTSTART;TZID=America/Chicago:20250127T080000
DTEND;TZID=America/Chicago:20250127T170000
DTSTAMP:20260425T232851
CREATED:20250113T204812Z
LAST-MODIFIED:20250113T204812Z
UID:17202-1737964800-1737997200@hillcrestrvresortfl.com
SUMMARY:Water Aerobics
DESCRIPTION:
URL:https://hillcrestrvresortfl.com/event/water-aerobics-164/
END:VEVENT
BEGIN:VEVENT
DTSTART;TZID=America/Chicago:20250127T080000
DTEND;TZID=America/Chicago:20250127T170000
DTSTAMP:20260425T232851
CREATED:20250114T124441Z
LAST-MODIFIED:20250114T124441Z
UID:17265-1737964800-1737997200@hillcrestrvresortfl.com
SUMMARY:Pentanque
DESCRIPTION:
URL:https://hillcrestrvresortfl.com/event/pentanque-106/
END:VEVENT
BEGIN:VEVENT
DTSTART;TZID=America/Chicago:20250127T080000
DTEND;TZID=America/Chicago:20250127T220000
DTSTAMP:20260425T232851
CREATED:20250113T184227Z
LAST-MODIFIED:20250113T184227Z
UID:17046-1737964800-1738015200@hillcrestrvresortfl.com
SUMMARY:Pickleball
DESCRIPTION:
URL:https://hillcrestrvresortfl.com/event/pickleball-186/
END:VEVENT
BEGIN:VEVENT
DTSTART;TZID=America/Chicago:20250127T090000
DTEND;TZID=America/Chicago:20250127T210000
DTSTAMP:20260425T232851
CREATED:20250113T184625Z
LAST-MODIFIED:20250113T184625Z
UID:17064-1737968400-1738011600@hillcrestrvresortfl.com
SUMMARY:Horseshoes
DESCRIPTION:
URL:https://hillcrestrvresortfl.com/event/horseshoes-144/
END:VEVENT
BEGIN:VEVENT
DTSTART;TZID=America/Chicago:20250127T100000
DTEND;TZID=America/Chicago:20250127T120000
DTSTAMP:20260425T232851
CREATED:20250113T175606Z
LAST-MODIFIED:20250113T175606Z
UID:16952-1737972000-1737979200@hillcrestrvresortfl.com
SUMMARY:Dancersize
DESCRIPTION:
URL:https://hillcrestrvresortfl.com/event/dancersize-11/
END:VEVENT
END:VCALENDAR