BEGIN:VCALENDAR
VERSION:2.0
PRODID:-//Hillcrest RV Resort - ECPv6.15.20//NONSGML v1.0//EN
CALSCALE:GREGORIAN
METHOD:PUBLISH
X-WR-CALNAME:Hillcrest RV Resort
X-ORIGINAL-URL:https://hillcrestrvresortfl.com
X-WR-CALDESC:Events for Hillcrest RV Resort
REFRESH-INTERVAL;VALUE=DURATION:PT1H
X-Robots-Tag:noindex
X-PUBLISHED-TTL:PT1H
BEGIN:VTIMEZONE
TZID:America/Chicago
BEGIN:DAYLIGHT
TZOFFSETFROM:-0600
TZOFFSETTO:-0500
TZNAME:CDT
DTSTART:20250309T080000
END:DAYLIGHT
BEGIN:STANDARD
TZOFFSETFROM:-0500
TZOFFSETTO:-0600
TZNAME:CST
DTSTART:20251102T070000
END:STANDARD
BEGIN:DAYLIGHT
TZOFFSETFROM:-0600
TZOFFSETTO:-0500
TZNAME:CDT
DTSTART:20260308T080000
END:DAYLIGHT
BEGIN:STANDARD
TZOFFSETFROM:-0500
TZOFFSETTO:-0600
TZNAME:CST
DTSTART:20261101T070000
END:STANDARD
BEGIN:DAYLIGHT
TZOFFSETFROM:-0600
TZOFFSETTO:-0500
TZNAME:CDT
DTSTART:20270314T080000
END:DAYLIGHT
BEGIN:STANDARD
TZOFFSETFROM:-0500
TZOFFSETTO:-0600
TZNAME:CST
DTSTART:20271107T070000
END:STANDARD
END:VTIMEZONE
BEGIN:VEVENT
DTSTART;TZID=America/Chicago:20260112T073000
DTEND;TZID=America/Chicago:20260112T083000
DTSTAMP:20260423T165827
CREATED:20260107T154654Z
LAST-MODIFIED:20260107T154654Z
UID:19487-1768203000-1768206600@hillcrestrvresortfl.com
SUMMARY:Orange Blossom Breakfast
DESCRIPTION:
URL:https://hillcrestrvresortfl.com/event/orange-blossom-breakfast-2/
END:VEVENT
BEGIN:VEVENT
DTSTART;TZID=America/Chicago:20260112T080000
DTEND;TZID=America/Chicago:20260112T170000
DTSTAMP:20260423T165827
CREATED:20260102T204135Z
LAST-MODIFIED:20260102T204135Z
UID:19318-1768204800-1768237200@hillcrestrvresortfl.com
SUMMARY:Pickleball
DESCRIPTION:
URL:https://hillcrestrvresortfl.com/event/pickleball-291/
END:VEVENT
BEGIN:VEVENT
DTSTART;TZID=America/Chicago:20260112T090000
DTEND;TZID=America/Chicago:20260112T110000
DTSTAMP:20260423T165827
CREATED:20260107T130903Z
LAST-MODIFIED:20260107T130903Z
UID:19377-1768208400-1768215600@hillcrestrvresortfl.com
SUMMARY:Horseshoes
DESCRIPTION:
URL:https://hillcrestrvresortfl.com/event/horseshoes-238/
END:VEVENT
BEGIN:VEVENT
DTSTART;TZID=America/Chicago:20260112T090000
DTEND;TZID=America/Chicago:20260112T120000
DTSTAMP:20260423T165827
CREATED:20260102T134152Z
LAST-MODIFIED:20260102T134152Z
UID:19046-1768208400-1768219200@hillcrestrvresortfl.com
SUMMARY:Water Exercises
DESCRIPTION:
URL:https://hillcrestrvresortfl.com/event/water-exercises-10/
END:VEVENT
BEGIN:VEVENT
DTSTART;TZID=America/Chicago:20260112T093000
DTEND;TZID=America/Chicago:20260112T113000
DTSTAMP:20260423T165827
CREATED:20251230T150139Z
LAST-MODIFIED:20251230T150139Z
UID:18992-1768210200-1768217400@hillcrestrvresortfl.com
SUMMARY:Shuffleboard
DESCRIPTION:
URL:https://hillcrestrvresortfl.com/event/shuffleboard-242/
END:VEVENT
BEGIN:VEVENT
DTSTART;TZID=America/Chicago:20260112T100000
DTEND;TZID=America/Chicago:20260112T110000
DTSTAMP:20260423T165827
CREATED:20260102T171746Z
LAST-MODIFIED:20260102T171746Z
UID:19182-1768212000-1768215600@hillcrestrvresortfl.com
SUMMARY:Women's Billiards
DESCRIPTION:
URL:https://hillcrestrvresortfl.com/event/womens-billiards-71/
END:VEVENT
BEGIN:VEVENT
DTSTART;TZID=America/Chicago:20260112T100000
DTEND;TZID=America/Chicago:20260112T110000
DTSTAMP:20260423T165827
CREATED:20260107T181509Z
LAST-MODIFIED:20260107T181509Z
UID:19573-1768212000-1768215600@hillcrestrvresortfl.com
SUMMARY:Dancercize
DESCRIPTION:
URL:https://hillcrestrvresortfl.com/event/dancercize-5/
END:VEVENT
BEGIN:VEVENT
DTSTART;TZID=America/Chicago:20260112T100000
DTEND;TZID=America/Chicago:20260112T120000
DTSTAMP:20260423T165827
CREATED:20260102T142130Z
LAST-MODIFIED:20260102T142130Z
UID:19106-1768212000-1768219200@hillcrestrvresortfl.com
SUMMARY:Pentanque
DESCRIPTION:
URL:https://hillcrestrvresortfl.com/event/pentanque-181/
END:VEVENT
BEGIN:VEVENT
DTSTART;TZID=America/Chicago:20260112T130000
DTEND;TZID=America/Chicago:20260112T150000
DTSTAMP:20260423T165827
CREATED:20260102T192647Z
LAST-MODIFIED:20260102T192647Z
UID:19230-1768222800-1768230000@hillcrestrvresortfl.com
SUMMARY:Cribbage
DESCRIPTION:
URL:https://hillcrestrvresortfl.com/event/cribbage-36/
END:VEVENT
BEGIN:VEVENT
DTSTART;TZID=America/Chicago:20260112T130000
DTEND;TZID=America/Chicago:20260112T160000
DTSTAMP:20260423T165827
CREATED:20260107T155239Z
LAST-MODIFIED:20260107T155239Z
UID:19497-1768222800-1768233600@hillcrestrvresortfl.com
SUMMARY:Quilting/Sewing/Knitting/Crocheting
DESCRIPTION:
URL:https://hillcrestrvresortfl.com/event/quilting-sewing-knitting-crocheting-21/
END:VEVENT
BEGIN:VEVENT
DTSTART;TZID=America/Chicago:20260112T130000
DTEND;TZID=America/Chicago:20260112T160000
DTSTAMP:20260423T165827
CREATED:20260107T155547Z
LAST-MODIFIED:20260107T155547Z
UID:19505-1768222800-1768233600@hillcrestrvresortfl.com
SUMMARY:Watercolor
DESCRIPTION:
URL:https://hillcrestrvresortfl.com/event/watercolor-10/
END:VEVENT
BEGIN:VEVENT
DTSTART;TZID=America/Chicago:20260112T180000
DTEND;TZID=America/Chicago:20260112T210000
DTSTAMP:20260423T165827
CREATED:20260102T193724Z
LAST-MODIFIED:20260102T193724Z
UID:19240-1768240800-1768251600@hillcrestrvresortfl.com
SUMMARY:Game Night
DESCRIPTION:
URL:https://hillcrestrvresortfl.com/event/game-night-89/
END:VEVENT
BEGIN:VEVENT
DTSTART;TZID=America/Chicago:20260112T180000
DTEND;TZID=America/Chicago:20260112T210000
DTSTAMP:20260423T165827
CREATED:20260102T201657Z
LAST-MODIFIED:20260102T201657Z
UID:19254-1768240800-1768251600@hillcrestrvresortfl.com
SUMMARY:Pinochle
DESCRIPTION:
URL:https://hillcrestrvresortfl.com/event/pinochle-6/
END:VEVENT
BEGIN:VEVENT
DTSTART;TZID=America/Chicago:20260112T183000
DTEND;TZID=America/Chicago:20260112T210000
DTSTAMP:20260423T165827
CREATED:20260107T174736Z
LAST-MODIFIED:20260107T174736Z
UID:19559-1768242600-1768251600@hillcrestrvresortfl.com
SUMMARY:Bingo
DESCRIPTION:
URL:https://hillcrestrvresortfl.com/event/bingo-76/
END:VEVENT
BEGIN:VEVENT
DTSTART;TZID=America/Chicago:20260113T080000
DTEND;TZID=America/Chicago:20260113T170000
DTSTAMP:20260423T165827
CREATED:20260102T204147Z
LAST-MODIFIED:20260102T204147Z
UID:19320-1768291200-1768323600@hillcrestrvresortfl.com
SUMMARY:Pickleball
DESCRIPTION:
URL:https://hillcrestrvresortfl.com/event/pickleball-292/
END:VEVENT
BEGIN:VEVENT
DTSTART;TZID=America/Chicago:20260113T090000
DTEND;TZID=America/Chicago:20260113T110000
DTSTAMP:20260423T165827
CREATED:20260107T130925Z
LAST-MODIFIED:20260107T130925Z
UID:19379-1768294800-1768302000@hillcrestrvresortfl.com
SUMMARY:Horseshoes
DESCRIPTION:
URL:https://hillcrestrvresortfl.com/event/horseshoes-239/
END:VEVENT
BEGIN:VEVENT
DTSTART;TZID=America/Chicago:20260113T090000
DTEND;TZID=America/Chicago:20260113T120000
DTSTAMP:20260423T165827
CREATED:20260102T134212Z
LAST-MODIFIED:20260102T134212Z
UID:19048-1768294800-1768305600@hillcrestrvresortfl.com
SUMMARY:Water Exercises
DESCRIPTION:
URL:https://hillcrestrvresortfl.com/event/water-exercises-11/
END:VEVENT
BEGIN:VEVENT
DTSTART;TZID=America/Chicago:20260113T093000
DTEND;TZID=America/Chicago:20260113T103000
DTSTAMP:20260423T165827
CREATED:20260107T161439Z
LAST-MODIFIED:20260107T161439Z
UID:19513-1768296600-1768300200@hillcrestrvresortfl.com
SUMMARY:One Stop Shop (OSS)
DESCRIPTION:
URL:https://hillcrestrvresortfl.com/event/one-stop-shop-oss-11/
END:VEVENT
BEGIN:VEVENT
DTSTART;TZID=America/Chicago:20260113T093000
DTEND;TZID=America/Chicago:20260113T113000
DTSTAMP:20260423T165827
CREATED:20251230T150200Z
LAST-MODIFIED:20251230T150200Z
UID:18994-1768296600-1768303800@hillcrestrvresortfl.com
SUMMARY:Shuffleboard
DESCRIPTION:
URL:https://hillcrestrvresortfl.com/event/shuffleboard-243/
END:VEVENT
BEGIN:VEVENT
DTSTART;TZID=America/Chicago:20260113T100000
DTEND;TZID=America/Chicago:20260113T120000
DTSTAMP:20260423T165827
CREATED:20260102T142150Z
LAST-MODIFIED:20260102T142150Z
UID:19108-1768298400-1768305600@hillcrestrvresortfl.com
SUMMARY:Pentanque
DESCRIPTION:
URL:https://hillcrestrvresortfl.com/event/pentanque-182/
END:VEVENT
BEGIN:VEVENT
DTSTART;TZID=America/Chicago:20260113T110000
DTEND;TZID=America/Chicago:20260113T120000
DTSTAMP:20260423T165827
CREATED:20260102T201854Z
LAST-MODIFIED:20260102T201854Z
UID:19262-1768302000-1768305600@hillcrestrvresortfl.com
SUMMARY:Missions Meeting
DESCRIPTION:
URL:https://hillcrestrvresortfl.com/event/missions-meeting-7/
END:VEVENT
BEGIN:VEVENT
DTSTART;TZID=America/Chicago:20260113T110000
DTEND;TZID=America/Chicago:20260113T130000
DTSTAMP:20260423T165827
CREATED:20260107T181755Z
LAST-MODIFIED:20260107T181755Z
UID:19579-1768302000-1768309200@hillcrestrvresortfl.com
SUMMARY:Red Hat Luncheon
DESCRIPTION:
URL:https://hillcrestrvresortfl.com/event/red-hat-luncheon-5/
END:VEVENT
BEGIN:VEVENT
DTSTART;TZID=America/Chicago:20260113T130000
DTEND;TZID=America/Chicago:20260113T160000
DTSTAMP:20260423T165827
CREATED:20260102T202200Z
LAST-MODIFIED:20260102T202200Z
UID:19270-1768309200-1768320000@hillcrestrvresortfl.com
SUMMARY:Jewelry Making
DESCRIPTION:
URL:https://hillcrestrvresortfl.com/event/jewelry-making-2/
END:VEVENT
BEGIN:VEVENT
DTSTART;TZID=America/Chicago:20260113T180000
DTEND;TZID=America/Chicago:20260113T210000
DTSTAMP:20260423T165827
CREATED:20260102T171306Z
LAST-MODIFIED:20260102T171306Z
UID:19162-1768327200-1768338000@hillcrestrvresortfl.com
SUMMARY:Bid Euchre
DESCRIPTION:
URL:https://hillcrestrvresortfl.com/event/bid-euchre-71/
END:VEVENT
BEGIN:VEVENT
DTSTART;TZID=America/Chicago:20260113T190000
DTEND;TZID=America/Chicago:20260113T210000
DTSTAMP:20260423T165827
CREATED:20260107T181904Z
LAST-MODIFIED:20260107T181904Z
UID:19581-1768330800-1768338000@hillcrestrvresortfl.com
SUMMARY:Special Entertainment Beach Bumz/Jimmy Buffet Tribute
DESCRIPTION:
URL:https://hillcrestrvresortfl.com/event/special-entertainment-beach-bumz-jimmy-buffet-tribute/
END:VEVENT
BEGIN:VEVENT
DTSTART;TZID=America/Chicago:20260114T080000
DTEND;TZID=America/Chicago:20260114T170000
DTSTAMP:20260423T165827
CREATED:20260102T204200Z
LAST-MODIFIED:20260102T204200Z
UID:19322-1768377600-1768410000@hillcrestrvresortfl.com
SUMMARY:Pickleball
DESCRIPTION:
URL:https://hillcrestrvresortfl.com/event/pickleball-293/
END:VEVENT
BEGIN:VEVENT
DTSTART;TZID=America/Chicago:20260114T090000
DTEND;TZID=America/Chicago:20260114T100000
DTSTAMP:20260423T165827
CREATED:20260107T135104Z
LAST-MODIFIED:20260107T135104Z
UID:19439-1768381200-1768384800@hillcrestrvresortfl.com
SUMMARY:Bone Builder Exercises
DESCRIPTION:
URL:https://hillcrestrvresortfl.com/event/bone-builder-exercises-20/
END:VEVENT
BEGIN:VEVENT
DTSTART;TZID=America/Chicago:20260114T090000
DTEND;TZID=America/Chicago:20260114T110000
DTSTAMP:20260423T165827
CREATED:20260107T130944Z
LAST-MODIFIED:20260107T130944Z
UID:19381-1768381200-1768388400@hillcrestrvresortfl.com
SUMMARY:Horseshoes
DESCRIPTION:
URL:https://hillcrestrvresortfl.com/event/horseshoes-240/
END:VEVENT
BEGIN:VEVENT
DTSTART;TZID=America/Chicago:20260114T090000
DTEND;TZID=America/Chicago:20260114T120000
DTSTAMP:20260423T165827
CREATED:20260102T134233Z
LAST-MODIFIED:20260102T134233Z
UID:19050-1768381200-1768392000@hillcrestrvresortfl.com
SUMMARY:Water Exercises
DESCRIPTION:
URL:https://hillcrestrvresortfl.com/event/water-exercises-12/
END:VEVENT
BEGIN:VEVENT
DTSTART;TZID=America/Chicago:20260114T093000
DTEND;TZID=America/Chicago:20260114T113000
DTSTAMP:20260423T165827
CREATED:20251230T150221Z
LAST-MODIFIED:20251230T150221Z
UID:18996-1768383000-1768390200@hillcrestrvresortfl.com
SUMMARY:Shuffleboard
DESCRIPTION:
URL:https://hillcrestrvresortfl.com/event/shuffleboard-244/
END:VEVENT
END:VCALENDAR