BEGIN:VCALENDAR
VERSION:2.0
PRODID:-//Hillcrest RV Resort - ECPv6.15.20//NONSGML v1.0//EN
CALSCALE:GREGORIAN
METHOD:PUBLISH
X-WR-CALNAME:Hillcrest RV Resort
X-ORIGINAL-URL:https://hillcrestrvresortfl.com
X-WR-CALDESC:Events for Hillcrest RV Resort
REFRESH-INTERVAL;VALUE=DURATION:PT1H
X-Robots-Tag:noindex
X-PUBLISHED-TTL:PT1H
BEGIN:VTIMEZONE
TZID:America/Chicago
BEGIN:DAYLIGHT
TZOFFSETFROM:-0600
TZOFFSETTO:-0500
TZNAME:CDT
DTSTART:20240310T080000
END:DAYLIGHT
BEGIN:STANDARD
TZOFFSETFROM:-0500
TZOFFSETTO:-0600
TZNAME:CST
DTSTART:20241103T070000
END:STANDARD
BEGIN:DAYLIGHT
TZOFFSETFROM:-0600
TZOFFSETTO:-0500
TZNAME:CDT
DTSTART:20250309T080000
END:DAYLIGHT
BEGIN:STANDARD
TZOFFSETFROM:-0500
TZOFFSETTO:-0600
TZNAME:CST
DTSTART:20251102T070000
END:STANDARD
BEGIN:DAYLIGHT
TZOFFSETFROM:-0600
TZOFFSETTO:-0500
TZNAME:CDT
DTSTART:20260308T080000
END:DAYLIGHT
BEGIN:STANDARD
TZOFFSETFROM:-0500
TZOFFSETTO:-0600
TZNAME:CST
DTSTART:20261101T070000
END:STANDARD
END:VTIMEZONE
BEGIN:VEVENT
DTSTART;TZID=America/Chicago:20251210T080000
DTEND;TZID=America/Chicago:20251210T120000
DTSTAMP:20260423T165825
CREATED:20251128T161752Z
LAST-MODIFIED:20251128T161752Z
UID:18631-1765353600-1765368000@hillcrestrvresortfl.com
SUMMARY:Pickleball
DESCRIPTION:
URL:https://hillcrestrvresortfl.com/event/pickleball-258/
END:VEVENT
BEGIN:VEVENT
DTSTART;TZID=America/Chicago:20251210T090000
DTEND;TZID=America/Chicago:20251210T120000
DTSTAMP:20260423T165825
CREATED:20251128T165027Z
LAST-MODIFIED:20251128T165027Z
UID:18689-1765357200-1765368000@hillcrestrvresortfl.com
SUMMARY:Horseshoes
DESCRIPTION:
URL:https://hillcrestrvresortfl.com/event/horseshoes-214/
END:VEVENT
BEGIN:VEVENT
DTSTART;TZID=America/Chicago:20251210T103000
DTEND;TZID=America/Chicago:20251210T133000
DTSTAMP:20260423T165825
CREATED:20251128T203736Z
LAST-MODIFIED:20251128T203736Z
UID:18883-1765362600-1765373400@hillcrestrvresortfl.com
SUMMARY:Golf
DESCRIPTION:
URL:https://hillcrestrvresortfl.com/event/golf-26/
END:VEVENT
BEGIN:VEVENT
DTSTART;TZID=America/Chicago:20251210T130000
DTEND;TZID=America/Chicago:20251210T150000
DTSTAMP:20260423T165825
CREATED:20251128T173109Z
LAST-MODIFIED:20251128T173109Z
UID:18741-1765371600-1765378800@hillcrestrvresortfl.com
SUMMARY:Fiddler's Jam
DESCRIPTION:
URL:https://hillcrestrvresortfl.com/event/fiddlers-jam-28/
END:VEVENT
BEGIN:VEVENT
DTSTART;TZID=America/Chicago:20251210T180000
DTEND;TZID=America/Chicago:20251210T210000
DTSTAMP:20260423T165825
CREATED:20251128T173416Z
LAST-MODIFIED:20251128T173416Z
UID:18749-1765389600-1765400400@hillcrestrvresortfl.com
SUMMARY:Darts
DESCRIPTION:
URL:https://hillcrestrvresortfl.com/event/darts-24/
END:VEVENT
BEGIN:VEVENT
DTSTART;TZID=America/Chicago:20251210T180000
DTEND;TZID=America/Chicago:20251210T210000
DTSTAMP:20260423T165825
CREATED:20251128T204022Z
LAST-MODIFIED:20251128T204022Z
UID:18895-1765389600-1765400400@hillcrestrvresortfl.com
SUMMARY:Game Night
DESCRIPTION:
URL:https://hillcrestrvresortfl.com/event/game-night-81/
END:VEVENT
BEGIN:VEVENT
DTSTART;TZID=America/Chicago:20251211T080000
DTEND;TZID=America/Chicago:20251211T120000
DTSTAMP:20260423T165825
CREATED:20251128T161816Z
LAST-MODIFIED:20251128T161816Z
UID:18633-1765440000-1765454400@hillcrestrvresortfl.com
SUMMARY:Pickleball
DESCRIPTION:
URL:https://hillcrestrvresortfl.com/event/pickleball-259/
END:VEVENT
BEGIN:VEVENT
DTSTART;TZID=America/Chicago:20251211T083000
DTEND;TZID=America/Chicago:20251211T100000
DTSTAMP:20260423T165825
CREATED:20251128T204500Z
LAST-MODIFIED:20251128T204500Z
UID:18909-1765441800-1765447200@hillcrestrvresortfl.com
SUMMARY:Choir Practice
DESCRIPTION:
URL:https://hillcrestrvresortfl.com/event/choir-practice-27/
END:VEVENT
BEGIN:VEVENT
DTSTART;TZID=America/Chicago:20251211T090000
DTEND;TZID=America/Chicago:20251211T120000
DTSTAMP:20260423T165825
CREATED:20251128T165050Z
LAST-MODIFIED:20251128T165050Z
UID:18691-1765443600-1765454400@hillcrestrvresortfl.com
SUMMARY:Horseshoes
DESCRIPTION:
URL:https://hillcrestrvresortfl.com/event/horseshoes-215/
END:VEVENT
BEGIN:VEVENT
DTSTART;TZID=America/Chicago:20251211T130000
DTEND;TZID=America/Chicago:20251211T143000
DTSTAMP:20260423T165825
CREATED:20251128T173657Z
LAST-MODIFIED:20251128T173657Z
UID:18755-1765458000-1765463400@hillcrestrvresortfl.com
SUMMARY:Line Dancing W/Dena
DESCRIPTION:
URL:https://hillcrestrvresortfl.com/event/line-dancing-w-dena-6/
END:VEVENT
BEGIN:VEVENT
DTSTART;TZID=America/Chicago:20251211T150000
DTEND;TZID=America/Chicago:20251211T170000
DTSTAMP:20260423T165825
CREATED:20251128T174013Z
LAST-MODIFIED:20251128T174013Z
UID:18763-1765465200-1765472400@hillcrestrvresortfl.com
SUMMARY:Acoustic Jam
DESCRIPTION:
URL:https://hillcrestrvresortfl.com/event/acoustic-jam-37/
END:VEVENT
BEGIN:VEVENT
DTSTART;TZID=America/Chicago:20251211T180000
DTEND;TZID=America/Chicago:20251211T210000
DTSTAMP:20260423T165825
CREATED:20251128T151909Z
LAST-MODIFIED:20251128T151909Z
UID:18603-1765476000-1765486800@hillcrestrvresortfl.com
SUMMARY:Bingo
DESCRIPTION:
URL:https://hillcrestrvresortfl.com/event/bingo-67/
END:VEVENT
BEGIN:VEVENT
DTSTART;TZID=America/Chicago:20251211T180000
DTEND;TZID=America/Chicago:20251211T210000
DTSTAMP:20260423T165825
CREATED:20251128T203406Z
LAST-MODIFIED:20251128T203406Z
UID:18871-1765476000-1765486800@hillcrestrvresortfl.com
SUMMARY:Bid Euchre
DESCRIPTION:
URL:https://hillcrestrvresortfl.com/event/bid-euchre-63/
END:VEVENT
BEGIN:VEVENT
DTSTART;TZID=America/Chicago:20251211T180000
DTEND;TZID=America/Chicago:20251211T210000
DTSTAMP:20260423T165825
CREATED:20251128T204846Z
LAST-MODIFIED:20251128T204846Z
UID:18923-1765476000-1765486800@hillcrestrvresortfl.com
SUMMARY:Texas Hold'Em
DESCRIPTION:
URL:https://hillcrestrvresortfl.com/event/texas-holdem-46/
END:VEVENT
BEGIN:VEVENT
DTSTART;TZID=America/Chicago:20251211T183000
DTEND;TZID=America/Chicago:20251211T200000
DTSTAMP:20260423T165825
CREATED:20251128T201031Z
LAST-MODIFIED:20251128T201031Z
UID:18849-1765477800-1765483200@hillcrestrvresortfl.com
SUMMARY:Men's Billiards
DESCRIPTION:
URL:https://hillcrestrvresortfl.com/event/mens-billiards-98/
END:VEVENT
BEGIN:VEVENT
DTSTART;TZID=America/Chicago:20251212T080000
DTEND;TZID=America/Chicago:20251212T120000
DTSTAMP:20260423T165825
CREATED:20251128T161840Z
LAST-MODIFIED:20251128T161840Z
UID:18635-1765526400-1765540800@hillcrestrvresortfl.com
SUMMARY:Pickleball
DESCRIPTION:
URL:https://hillcrestrvresortfl.com/event/pickleball-260/
END:VEVENT
BEGIN:VEVENT
DTSTART;TZID=America/Chicago:20251212T090000
DTEND;TZID=America/Chicago:20251212T120000
DTSTAMP:20260423T165825
CREATED:20251128T165115Z
LAST-MODIFIED:20251128T165115Z
UID:18693-1765530000-1765540800@hillcrestrvresortfl.com
SUMMARY:Horseshoes
DESCRIPTION:
URL:https://hillcrestrvresortfl.com/event/horseshoes-216/
END:VEVENT
BEGIN:VEVENT
DTSTART;TZID=America/Chicago:20251212T110000
DTEND;TZID=America/Chicago:20251212T130000
DTSTAMP:20260423T165825
CREATED:20251128T193701Z
LAST-MODIFIED:20251128T193701Z
UID:18827-1765537200-1765544400@hillcrestrvresortfl.com
SUMMARY:Rock Painting
DESCRIPTION:
URL:https://hillcrestrvresortfl.com/event/rock-painting-28/
END:VEVENT
BEGIN:VEVENT
DTSTART;TZID=America/Chicago:20251212T123000
DTEND;TZID=America/Chicago:20251212T150000
DTSTAMP:20260423T165825
CREATED:20251128T204639Z
LAST-MODIFIED:20251128T204639Z
UID:18915-1765542600-1765551600@hillcrestrvresortfl.com
SUMMARY:Bowling
DESCRIPTION:
URL:https://hillcrestrvresortfl.com/event/bowling-46/
END:VEVENT
BEGIN:VEVENT
DTSTART;TZID=America/Chicago:20251212T130000
DTEND;TZID=America/Chicago:20251212T150000
DTSTAMP:20260423T165825
CREATED:20251128T201057Z
LAST-MODIFIED:20251128T201057Z
UID:18851-1765544400-1765551600@hillcrestrvresortfl.com
SUMMARY:Men's Billiards
DESCRIPTION:
URL:https://hillcrestrvresortfl.com/event/mens-billiards-99/
END:VEVENT
BEGIN:VEVENT
DTSTART;TZID=America/Chicago:20251212T180000
DTEND;TZID=America/Chicago:20251212T210000
DTSTAMP:20260423T165825
CREATED:20251128T200139Z
LAST-MODIFIED:20251128T200139Z
UID:18833-1765562400-1765573200@hillcrestrvresortfl.com
SUMMARY:Friday Night Jam
DESCRIPTION:
URL:https://hillcrestrvresortfl.com/event/friday-night-jam-9/
END:VEVENT
BEGIN:VEVENT
DTSTART;TZID=America/Chicago:20251213T080000
DTEND;TZID=America/Chicago:20251213T120000
DTSTAMP:20260423T165825
CREATED:20251128T163759Z
LAST-MODIFIED:20251128T163759Z
UID:18637-1765612800-1765627200@hillcrestrvresortfl.com
SUMMARY:Pickleball
DESCRIPTION:
URL:https://hillcrestrvresortfl.com/event/pickleball-261/
END:VEVENT
BEGIN:VEVENT
DTSTART;TZID=America/Chicago:20251214T080000
DTEND;TZID=America/Chicago:20251214T120000
DTSTAMP:20260423T165825
CREATED:20251128T163836Z
LAST-MODIFIED:20251128T163836Z
UID:18639-1765699200-1765713600@hillcrestrvresortfl.com
SUMMARY:Pickleball
DESCRIPTION:
URL:https://hillcrestrvresortfl.com/event/pickleball-262/
END:VEVENT
BEGIN:VEVENT
DTSTART;TZID=America/Chicago:20251214T100000
DTEND;TZID=America/Chicago:20251214T113000
DTSTAMP:20260423T165825
CREATED:20251129T153754Z
LAST-MODIFIED:20251129T153754Z
UID:18957-1765706400-1765711800@hillcrestrvresortfl.com
SUMMARY:Church
DESCRIPTION:
URL:https://hillcrestrvresortfl.com/event/church-45/
END:VEVENT
BEGIN:VEVENT
DTSTART;TZID=America/Chicago:20251214T180000
DTEND;TZID=America/Chicago:20251214T190000
DTSTAMP:20260423T165825
CREATED:20251128T185019Z
LAST-MODIFIED:20251128T185019Z
UID:18777-1765735200-1765738800@hillcrestrvresortfl.com
SUMMARY:Ice Cream Social
DESCRIPTION:
URL:https://hillcrestrvresortfl.com/event/ice-cream-social-24/
END:VEVENT
BEGIN:VEVENT
DTSTART;TZID=America/Chicago:20251214T190000
DTEND;TZID=America/Chicago:20251214T200000
DTSTAMP:20260423T165825
CREATED:20251128T185228Z
LAST-MODIFIED:20251128T185228Z
UID:18783-1765738800-1765742400@hillcrestrvresortfl.com
SUMMARY:Music By "Karl Sapp"
DESCRIPTION:
URL:https://hillcrestrvresortfl.com/event/music-by-karl-sapp/
END:VEVENT
BEGIN:VEVENT
DTSTART;TZID=America/Chicago:20251215T073000
DTEND;TZID=America/Chicago:20251215T090000
DTSTAMP:20260423T165825
CREATED:20251128T185514Z
LAST-MODIFIED:20251128T185514Z
UID:18789-1765783800-1765789200@hillcrestrvresortfl.com
SUMMARY:Breakfast
DESCRIPTION:
URL:https://hillcrestrvresortfl.com/event/breakfast-28/
END:VEVENT
BEGIN:VEVENT
DTSTART;TZID=America/Chicago:20251215T080000
DTEND;TZID=America/Chicago:20251215T120000
DTSTAMP:20260423T165825
CREATED:20251128T163857Z
LAST-MODIFIED:20251128T163857Z
UID:18641-1765785600-1765800000@hillcrestrvresortfl.com
SUMMARY:Pickleball
DESCRIPTION:
URL:https://hillcrestrvresortfl.com/event/pickleball-263/
END:VEVENT
BEGIN:VEVENT
DTSTART;TZID=America/Chicago:20251215T100000
DTEND;TZID=America/Chicago:20251215T110000
DTSTAMP:20260423T165825
CREATED:20251128T185758Z
LAST-MODIFIED:20251128T185758Z
UID:18797-1765792800-1765796400@hillcrestrvresortfl.com
SUMMARY:Dancercize
DESCRIPTION:
URL:https://hillcrestrvresortfl.com/event/dancercize-2/
END:VEVENT
BEGIN:VEVENT
DTSTART;TZID=America/Chicago:20251215T130000
DTEND;TZID=America/Chicago:20251215T150000
DTSTAMP:20260423T165825
CREATED:20251129T152303Z
LAST-MODIFIED:20251129T152303Z
UID:18931-1765803600-1765810800@hillcrestrvresortfl.com
SUMMARY:Cribbage
DESCRIPTION:
URL:https://hillcrestrvresortfl.com/event/cribbage-32/
END:VEVENT
END:VCALENDAR