BEGIN:VCALENDAR
VERSION:2.0
PRODID:-//Hillcrest RV Resort - ECPv6.15.20//NONSGML v1.0//EN
CALSCALE:GREGORIAN
METHOD:PUBLISH
X-WR-CALNAME:Hillcrest RV Resort
X-ORIGINAL-URL:https://hillcrestrvresortfl.com
X-WR-CALDESC:Events for Hillcrest RV Resort
REFRESH-INTERVAL;VALUE=DURATION:PT1H
X-Robots-Tag:noindex
X-PUBLISHED-TTL:PT1H
BEGIN:VTIMEZONE
TZID:America/Chicago
BEGIN:DAYLIGHT
TZOFFSETFROM:-0600
TZOFFSETTO:-0500
TZNAME:CDT
DTSTART:20240310T080000
END:DAYLIGHT
BEGIN:STANDARD
TZOFFSETFROM:-0500
TZOFFSETTO:-0600
TZNAME:CST
DTSTART:20241103T070000
END:STANDARD
BEGIN:DAYLIGHT
TZOFFSETFROM:-0600
TZOFFSETTO:-0500
TZNAME:CDT
DTSTART:20250309T080000
END:DAYLIGHT
BEGIN:STANDARD
TZOFFSETFROM:-0500
TZOFFSETTO:-0600
TZNAME:CST
DTSTART:20251102T070000
END:STANDARD
BEGIN:DAYLIGHT
TZOFFSETFROM:-0600
TZOFFSETTO:-0500
TZNAME:CDT
DTSTART:20260308T080000
END:DAYLIGHT
BEGIN:STANDARD
TZOFFSETFROM:-0500
TZOFFSETTO:-0600
TZNAME:CST
DTSTART:20261101T070000
END:STANDARD
END:VTIMEZONE
BEGIN:VEVENT
DTSTART;TZID=America/Chicago:20250117T080000
DTEND;TZID=America/Chicago:20250117T170000
DTSTAMP:20260425T232744
CREATED:20250113T195636Z
LAST-MODIFIED:20250113T195636Z
UID:17144-1737100800-1737133200@hillcrestrvresortfl.com
SUMMARY:shuffleboard
DESCRIPTION:
URL:https://hillcrestrvresortfl.com/event/shuffleboard-156/
END:VEVENT
BEGIN:VEVENT
DTSTART;TZID=America/Chicago:20250117T080000
DTEND;TZID=America/Chicago:20250117T170000
DTSTAMP:20260425T232744
CREATED:20250113T204400Z
LAST-MODIFIED:20250113T204400Z
UID:17190-1737100800-1737133200@hillcrestrvresortfl.com
SUMMARY:Water Aerobics
DESCRIPTION:
URL:https://hillcrestrvresortfl.com/event/water-aerobics-158/
END:VEVENT
BEGIN:VEVENT
DTSTART;TZID=America/Chicago:20250117T080000
DTEND;TZID=America/Chicago:20250117T170000
DTSTAMP:20260425T232744
CREATED:20250114T124155Z
LAST-MODIFIED:20250114T124155Z
UID:17245-1737100800-1737133200@hillcrestrvresortfl.com
SUMMARY:Pentanque
DESCRIPTION:
URL:https://hillcrestrvresortfl.com/event/pentanque-96/
END:VEVENT
BEGIN:VEVENT
DTSTART;TZID=America/Chicago:20250117T080000
DTEND;TZID=America/Chicago:20250117T220000
DTSTAMP:20260425T232744
CREATED:20250113T183821Z
LAST-MODIFIED:20250113T183821Z
UID:17026-1737100800-1737151200@hillcrestrvresortfl.com
SUMMARY:Pickleball
DESCRIPTION:
URL:https://hillcrestrvresortfl.com/event/pickleball-176/
END:VEVENT
BEGIN:VEVENT
DTSTART;TZID=America/Chicago:20250117T090000
DTEND;TZID=America/Chicago:20250117T103000
DTSTAMP:20260425T232744
CREATED:20250113T132557Z
LAST-MODIFIED:20250113T132557Z
UID:16825-1737104400-1737109800@hillcrestrvresortfl.com
SUMMARY:Bone Builder Exercises
DESCRIPTION:
URL:https://hillcrestrvresortfl.com/event/bone-builder-exercises-8/
END:VEVENT
BEGIN:VEVENT
DTSTART;TZID=America/Chicago:20250117T090000
DTEND;TZID=America/Chicago:20250117T210000
DTSTAMP:20260425T232744
CREATED:20250113T185054Z
LAST-MODIFIED:20250113T185054Z
UID:17084-1737104400-1737147600@hillcrestrvresortfl.com
SUMMARY:Horseshoes
DESCRIPTION:
URL:https://hillcrestrvresortfl.com/event/horseshoes-154/
END:VEVENT
BEGIN:VEVENT
DTSTART;TZID=America/Chicago:20250117T100000
DTEND;TZID=America/Chicago:20250117T130000
DTSTAMP:20260425T232744
CREATED:20250114T124923Z
LAST-MODIFIED:20250114T124923Z
UID:17289-1737108000-1737118800@hillcrestrvresortfl.com
SUMMARY:Women's Billiards
DESCRIPTION:
URL:https://hillcrestrvresortfl.com/event/womens-billiards-36/
END:VEVENT
BEGIN:VEVENT
DTSTART;TZID=America/Chicago:20250117T110000
DTEND;TZID=America/Chicago:20250117T123000
DTSTAMP:20260425T232744
CREATED:20250113T173755Z
LAST-MODIFIED:20250113T173755Z
UID:16906-1737111600-1737117000@hillcrestrvresortfl.com
SUMMARY:Rock Painting
DESCRIPTION:
URL:https://hillcrestrvresortfl.com/event/rock-painting-23/
END:VEVENT
BEGIN:VEVENT
DTSTART;TZID=America/Chicago:20250117T130000
DTEND;TZID=America/Chicago:20250117T150000
DTSTAMP:20260425T232744
CREATED:20250114T133022Z
LAST-MODIFIED:20250114T133022Z
UID:17384-1737118800-1737126000@hillcrestrvresortfl.com
SUMMARY:Men's Billiards
DESCRIPTION:
URL:https://hillcrestrvresortfl.com/event/mens-billiards-63/
END:VEVENT
BEGIN:VEVENT
DTSTART;TZID=America/Chicago:20250117T130000
DTEND;TZID=America/Chicago:20250117T170000
DTSTAMP:20260425T232744
CREATED:20250114T133414Z
LAST-MODIFIED:20250114T133414Z
UID:17402-1737118800-1737133200@hillcrestrvresortfl.com
SUMMARY:Bowling
DESCRIPTION:
URL:https://hillcrestrvresortfl.com/event/bowling-30/
END:VEVENT
BEGIN:VEVENT
DTSTART;TZID=America/Chicago:20250117T150000
DTEND;TZID=America/Chicago:20250117T170000
DTSTAMP:20260425T232744
CREATED:20250113T173837Z
LAST-MODIFIED:20250113T173837Z
UID:16908-1737126000-1737133200@hillcrestrvresortfl.com
SUMMARY:Card Bingo
DESCRIPTION:
URL:https://hillcrestrvresortfl.com/event/card-bingo-2/
END:VEVENT
BEGIN:VEVENT
DTSTART;TZID=America/Chicago:20250117T183000
DTEND;TZID=America/Chicago:20250117T213000
DTSTAMP:20260425T232744
CREATED:20250113T173911Z
LAST-MODIFIED:20250113T173911Z
UID:16910-1737138600-1737149400@hillcrestrvresortfl.com
SUMMARY:Frida Night Jam
DESCRIPTION:
URL:https://hillcrestrvresortfl.com/event/frida-night-jam/
END:VEVENT
BEGIN:VEVENT
DTSTART;TZID=America/Chicago:20250118T080000
DTEND;TZID=America/Chicago:20250118T170000
DTSTAMP:20260425T232744
CREATED:20250114T124211Z
LAST-MODIFIED:20250114T124211Z
UID:17247-1737187200-1737219600@hillcrestrvresortfl.com
SUMMARY:Pentanque
DESCRIPTION:
URL:https://hillcrestrvresortfl.com/event/pentanque-97/
END:VEVENT
BEGIN:VEVENT
DTSTART;TZID=America/Chicago:20250118T080000
DTEND;TZID=America/Chicago:20250118T220000
DTSTAMP:20260425T232744
CREATED:20250113T183840Z
LAST-MODIFIED:20250113T183840Z
UID:17028-1737187200-1737237600@hillcrestrvresortfl.com
SUMMARY:Pickleball
DESCRIPTION:
URL:https://hillcrestrvresortfl.com/event/pickleball-177/
END:VEVENT
BEGIN:VEVENT
DTSTART;TZID=America/Chicago:20250118T090000
DTEND;TZID=America/Chicago:20250118T210000
DTSTAMP:20260425T232744
CREATED:20250113T185032Z
LAST-MODIFIED:20250113T185032Z
UID:17082-1737190800-1737234000@hillcrestrvresortfl.com
SUMMARY:Horseshoes
DESCRIPTION:
URL:https://hillcrestrvresortfl.com/event/horseshoes-153/
END:VEVENT
BEGIN:VEVENT
DTSTART;TZID=America/Chicago:20250118T103000
DTEND;TZID=America/Chicago:20250118T123000
DTSTAMP:20260425T232744
CREATED:20250113T173949Z
LAST-MODIFIED:20250113T173949Z
UID:16912-1737196200-1737203400@hillcrestrvresortfl.com
SUMMARY:Couples Line Dancing
DESCRIPTION:
URL:https://hillcrestrvresortfl.com/event/couples-line-dancing-3/
END:VEVENT
BEGIN:VEVENT
DTSTART;TZID=America/Chicago:20250118T193000
DTEND;TZID=America/Chicago:20250118T213000
DTSTAMP:20260425T232744
CREATED:20250113T174128Z
LAST-MODIFIED:20250113T174149Z
UID:16914-1737228600-1737235800@hillcrestrvresortfl.com
SUMMARY:Hippie Dance  (Just Friends)
DESCRIPTION:
URL:https://hillcrestrvresortfl.com/event/hippie-dance/
END:VEVENT
BEGIN:VEVENT
DTSTART;TZID=America/Chicago:20250119T080000
DTEND;TZID=America/Chicago:20250119T170000
DTSTAMP:20260425T232744
CREATED:20250114T124229Z
LAST-MODIFIED:20250114T124229Z
UID:17249-1737273600-1737306000@hillcrestrvresortfl.com
SUMMARY:Pentanque
DESCRIPTION:
URL:https://hillcrestrvresortfl.com/event/pentanque-98/
END:VEVENT
BEGIN:VEVENT
DTSTART;TZID=America/Chicago:20250119T080000
DTEND;TZID=America/Chicago:20250119T220000
DTSTAMP:20260425T232744
CREATED:20250113T183902Z
LAST-MODIFIED:20250113T183902Z
UID:17030-1737273600-1737324000@hillcrestrvresortfl.com
SUMMARY:Pickleball
DESCRIPTION:
URL:https://hillcrestrvresortfl.com/event/pickleball-178/
END:VEVENT
BEGIN:VEVENT
DTSTART;TZID=America/Chicago:20250119T090000
DTEND;TZID=America/Chicago:20250119T210000
DTSTAMP:20260425T232744
CREATED:20250113T185009Z
LAST-MODIFIED:20250113T185009Z
UID:17080-1737277200-1737320400@hillcrestrvresortfl.com
SUMMARY:Horseshoes
DESCRIPTION:
URL:https://hillcrestrvresortfl.com/event/horseshoes-152/
END:VEVENT
BEGIN:VEVENT
DTSTART;TZID=America/Chicago:20250119T100000
DTEND;TZID=America/Chicago:20250119T120000
DTSTAMP:20260425T232744
CREATED:20250114T133618Z
LAST-MODIFIED:20250114T133618Z
UID:17412-1737280800-1737288000@hillcrestrvresortfl.com
SUMMARY:Church
DESCRIPTION:
URL:https://hillcrestrvresortfl.com/event/church-30/
END:VEVENT
BEGIN:VEVENT
DTSTART;TZID=America/Chicago:20250119T180000
DTEND;TZID=America/Chicago:20250119T190000
DTSTAMP:20260425T232744
CREATED:20250113T174332Z
LAST-MODIFIED:20250113T174332Z
UID:16918-1737309600-1737313200@hillcrestrvresortfl.com
SUMMARY:Ice Cream Social
DESCRIPTION:
URL:https://hillcrestrvresortfl.com/event/ice-cream-social-17/
END:VEVENT
BEGIN:VEVENT
DTSTART;TZID=America/Chicago:20250119T190000
DTEND;TZID=America/Chicago:20250119T213000
DTSTAMP:20260425T232744
CREATED:20250113T174422Z
LAST-MODIFIED:20250113T174422Z
UID:16920-1737313200-1737322200@hillcrestrvresortfl.com
SUMMARY:DJ Bob & Lisa
DESCRIPTION:
URL:https://hillcrestrvresortfl.com/event/dj-bob-lisa-2/
END:VEVENT
BEGIN:VEVENT
DTSTART;TZID=America/Chicago:20250120T073000
DTEND;TZID=America/Chicago:20250120T090000
DTSTAMP:20260425T232744
CREATED:20250113T174507Z
LAST-MODIFIED:20250113T174507Z
UID:16922-1737358200-1737363600@hillcrestrvresortfl.com
SUMMARY:Breakfast
DESCRIPTION:
URL:https://hillcrestrvresortfl.com/event/breakfast-21/
END:VEVENT
BEGIN:VEVENT
DTSTART;TZID=America/Chicago:20250120T080000
DTEND;TZID=America/Chicago:20250120T170000
DTSTAMP:20260425T232744
CREATED:20250113T195655Z
LAST-MODIFIED:20250113T195655Z
UID:17146-1737360000-1737392400@hillcrestrvresortfl.com
SUMMARY:shuffleboard
DESCRIPTION:
URL:https://hillcrestrvresortfl.com/event/shuffleboard-157/
END:VEVENT
BEGIN:VEVENT
DTSTART;TZID=America/Chicago:20250120T080000
DTEND;TZID=America/Chicago:20250120T170000
DTSTAMP:20260425T232744
CREATED:20250113T204653Z
LAST-MODIFIED:20250113T204653Z
UID:17192-1737360000-1737392400@hillcrestrvresortfl.com
SUMMARY:Water Aerobics
DESCRIPTION:
URL:https://hillcrestrvresortfl.com/event/water-aerobics-159/
END:VEVENT
BEGIN:VEVENT
DTSTART;TZID=America/Chicago:20250120T080000
DTEND;TZID=America/Chicago:20250120T170000
DTSTAMP:20260425T232744
CREATED:20250114T124245Z
LAST-MODIFIED:20250114T124245Z
UID:17251-1737360000-1737392400@hillcrestrvresortfl.com
SUMMARY:Pentanque
DESCRIPTION:
URL:https://hillcrestrvresortfl.com/event/pentanque-99/
END:VEVENT
BEGIN:VEVENT
DTSTART;TZID=America/Chicago:20250120T080000
DTEND;TZID=America/Chicago:20250120T220000
DTSTAMP:20260425T232744
CREATED:20250113T183926Z
LAST-MODIFIED:20250113T183926Z
UID:17032-1737360000-1737410400@hillcrestrvresortfl.com
SUMMARY:Pickleball
DESCRIPTION:
URL:https://hillcrestrvresortfl.com/event/pickleball-179/
END:VEVENT
BEGIN:VEVENT
DTSTART;TZID=America/Chicago:20250120T090000
DTEND;TZID=America/Chicago:20250120T210000
DTSTAMP:20260425T232744
CREATED:20250113T184943Z
LAST-MODIFIED:20250113T184943Z
UID:17078-1737363600-1737406800@hillcrestrvresortfl.com
SUMMARY:Horseshoes
DESCRIPTION:
URL:https://hillcrestrvresortfl.com/event/horseshoes-151/
END:VEVENT
BEGIN:VEVENT
DTSTART;TZID=America/Chicago:20250120T100000
DTEND;TZID=America/Chicago:20250120T110000
DTSTAMP:20260425T232744
CREATED:20250113T145453Z
LAST-MODIFIED:20250113T145453Z
UID:16881-1737367200-1737370800@hillcrestrvresortfl.com
SUMMARY:Dancersize
DESCRIPTION:
URL:https://hillcrestrvresortfl.com/event/dancersize-10/
END:VEVENT
END:VCALENDAR