BEGIN:VCALENDAR
VERSION:2.0
PRODID:-//Hillcrest RV Resort - ECPv6.15.20//NONSGML v1.0//EN
CALSCALE:GREGORIAN
METHOD:PUBLISH
X-WR-CALNAME:Hillcrest RV Resort
X-ORIGINAL-URL:https://hillcrestrvresortfl.com
X-WR-CALDESC:Events for Hillcrest RV Resort
REFRESH-INTERVAL;VALUE=DURATION:PT1H
X-Robots-Tag:noindex
X-PUBLISHED-TTL:PT1H
BEGIN:VTIMEZONE
TZID:America/Chicago
BEGIN:DAYLIGHT
TZOFFSETFROM:-0600
TZOFFSETTO:-0500
TZNAME:CDT
DTSTART:20240310T080000
END:DAYLIGHT
BEGIN:STANDARD
TZOFFSETFROM:-0500
TZOFFSETTO:-0600
TZNAME:CST
DTSTART:20241103T070000
END:STANDARD
BEGIN:DAYLIGHT
TZOFFSETFROM:-0600
TZOFFSETTO:-0500
TZNAME:CDT
DTSTART:20250309T080000
END:DAYLIGHT
BEGIN:STANDARD
TZOFFSETFROM:-0500
TZOFFSETTO:-0600
TZNAME:CST
DTSTART:20251102T070000
END:STANDARD
BEGIN:DAYLIGHT
TZOFFSETFROM:-0600
TZOFFSETTO:-0500
TZNAME:CDT
DTSTART:20260308T080000
END:DAYLIGHT
BEGIN:STANDARD
TZOFFSETFROM:-0500
TZOFFSETTO:-0600
TZNAME:CST
DTSTART:20261101T070000
END:STANDARD
END:VTIMEZONE
BEGIN:VEVENT
DTSTART;TZID=America/Chicago:20250114T080000
DTEND;TZID=America/Chicago:20250114T170000
DTSTAMP:20260425T232744
CREATED:20250113T195543Z
LAST-MODIFIED:20250113T195543Z
UID:17138-1736841600-1736874000@hillcrestrvresortfl.com
SUMMARY:shuffleboard
DESCRIPTION:
URL:https://hillcrestrvresortfl.com/event/shuffleboard-153/
END:VEVENT
BEGIN:VEVENT
DTSTART;TZID=America/Chicago:20250114T080000
DTEND;TZID=America/Chicago:20250114T170000
DTSTAMP:20260425T232744
CREATED:20250113T204254Z
LAST-MODIFIED:20250113T204254Z
UID:17184-1736841600-1736874000@hillcrestrvresortfl.com
SUMMARY:Water Aerobics
DESCRIPTION:
URL:https://hillcrestrvresortfl.com/event/water-aerobics-155/
END:VEVENT
BEGIN:VEVENT
DTSTART;TZID=America/Chicago:20250114T080000
DTEND;TZID=America/Chicago:20250114T220000
DTSTAMP:20260425T232744
CREATED:20250113T183721Z
LAST-MODIFIED:20250113T183721Z
UID:17020-1736841600-1736892000@hillcrestrvresortfl.com
SUMMARY:Pickleball
DESCRIPTION:
URL:https://hillcrestrvresortfl.com/event/pickleball-173/
END:VEVENT
BEGIN:VEVENT
DTSTART;TZID=America/Chicago:20250114T090000
DTEND;TZID=America/Chicago:20250114T210000
DTSTAMP:20260425T232744
CREATED:20250113T185207Z
LAST-MODIFIED:20250113T185207Z
UID:17090-1736845200-1736888400@hillcrestrvresortfl.com
SUMMARY:Horseshoes
DESCRIPTION:
URL:https://hillcrestrvresortfl.com/event/horseshoes-157/
END:VEVENT
BEGIN:VEVENT
DTSTART;TZID=America/Chicago:20250114T093000
DTEND;TZID=America/Chicago:20250114T103000
DTSTAMP:20260425T232744
CREATED:20250113T150451Z
LAST-MODIFIED:20250113T150451Z
UID:16893-1736847000-1736850600@hillcrestrvresortfl.com
SUMMARY:One Stop Shopping (OSS)
DESCRIPTION:
URL:https://hillcrestrvresortfl.com/event/one-stop-shopping-oss-2/
END:VEVENT
BEGIN:VEVENT
DTSTART;TZID=America/Chicago:20250114T100000
DTEND;TZID=America/Chicago:20250114T120000
DTSTAMP:20260425T232744
CREATED:20250114T134350Z
LAST-MODIFIED:20250114T134350Z
UID:17442-1736848800-1736856000@hillcrestrvresortfl.com
SUMMARY:Missions
DESCRIPTION:
URL:https://hillcrestrvresortfl.com/event/missions-12/
END:VEVENT
BEGIN:VEVENT
DTSTART;TZID=America/Chicago:20250114T100000
DTEND;TZID=America/Chicago:20250114T170000
DTSTAMP:20260425T232744
CREATED:20250113T205405Z
LAST-MODIFIED:20250113T205405Z
UID:17238-1736848800-1736874000@hillcrestrvresortfl.com
SUMMARY:Pentanque
DESCRIPTION:
URL:https://hillcrestrvresortfl.com/event/pentanque-92/
END:VEVENT
BEGIN:VEVENT
DTSTART;TZID=America/Chicago:20250114T103000
DTEND;TZID=America/Chicago:20250114T120000
DTSTAMP:20260425T232744
CREATED:20250113T151051Z
LAST-MODIFIED:20250113T151051Z
UID:16897-1736850600-1736856000@hillcrestrvresortfl.com
SUMMARY:Advanced Line Dancing
DESCRIPTION:
URL:https://hillcrestrvresortfl.com/event/advanced-line-dancing-2/
END:VEVENT
BEGIN:VEVENT
DTSTART;TZID=America/Chicago:20250114T130000
DTEND;TZID=America/Chicago:20250114T150000
DTSTAMP:20260425T232744
CREATED:20250114T132936Z
LAST-MODIFIED:20250114T132936Z
UID:17380-1736859600-1736866800@hillcrestrvresortfl.com
SUMMARY:Men's Billiards
DESCRIPTION:
URL:https://hillcrestrvresortfl.com/event/mens-billiards-61/
END:VEVENT
BEGIN:VEVENT
DTSTART;TZID=America/Chicago:20250114T180000
DTEND;TZID=America/Chicago:20250114T210000
DTSTAMP:20260425T232744
CREATED:20250114T132426Z
LAST-MODIFIED:20250114T132426Z
UID:17358-1736877600-1736888400@hillcrestrvresortfl.com
SUMMARY:Bid Euchre
DESCRIPTION:
URL:https://hillcrestrvresortfl.com/event/bid-euchre-38/
END:VEVENT
BEGIN:VEVENT
DTSTART;TZID=America/Chicago:20250114T180000
DTEND;TZID=America/Chicago:20250114T210000
DTSTAMP:20260425T232744
CREATED:20250114T134150Z
LAST-MODIFIED:20250114T134150Z
UID:17434-1736877600-1736888400@hillcrestrvresortfl.com
SUMMARY:Texas Hold'Em
DESCRIPTION:
URL:https://hillcrestrvresortfl.com/event/texas-holdem-30/
END:VEVENT
BEGIN:VEVENT
DTSTART;TZID=America/Chicago:20250114T190000
DTEND;TZID=America/Chicago:20250114T213000
DTSTAMP:20260425T232744
CREATED:20250113T172400Z
LAST-MODIFIED:20250113T172450Z
UID:16901-1736881200-1736890200@hillcrestrvresortfl.com
SUMMARY:Karaoke
DESCRIPTION:
URL:https://hillcrestrvresortfl.com/event/potluck-nickel-bingo/
END:VEVENT
BEGIN:VEVENT
DTSTART;TZID=America/Chicago:20250115T080000
DTEND;TZID=America/Chicago:20250115T170000
DTSTAMP:20260425T232744
CREATED:20250113T195602Z
LAST-MODIFIED:20250113T195602Z
UID:17140-1736928000-1736960400@hillcrestrvresortfl.com
SUMMARY:shuffleboard
DESCRIPTION:
URL:https://hillcrestrvresortfl.com/event/shuffleboard-154/
END:VEVENT
BEGIN:VEVENT
DTSTART;TZID=America/Chicago:20250115T080000
DTEND;TZID=America/Chicago:20250115T170000
DTSTAMP:20260425T232744
CREATED:20250113T204310Z
LAST-MODIFIED:20250113T204310Z
UID:17186-1736928000-1736960400@hillcrestrvresortfl.com
SUMMARY:Water Aerobics
DESCRIPTION:
URL:https://hillcrestrvresortfl.com/event/water-aerobics-156/
END:VEVENT
BEGIN:VEVENT
DTSTART;TZID=America/Chicago:20250115T080000
DTEND;TZID=America/Chicago:20250115T220000
DTSTAMP:20260425T232744
CREATED:20250113T183740Z
LAST-MODIFIED:20250113T183740Z
UID:17022-1736928000-1736978400@hillcrestrvresortfl.com
SUMMARY:Pickleball
DESCRIPTION:
URL:https://hillcrestrvresortfl.com/event/pickleball-174/
END:VEVENT
BEGIN:VEVENT
DTSTART;TZID=America/Chicago:20250115T090000
DTEND;TZID=America/Chicago:20250115T103000
DTSTAMP:20260425T232744
CREATED:20250113T132504Z
LAST-MODIFIED:20250113T132504Z
UID:16821-1736931600-1736937000@hillcrestrvresortfl.com
SUMMARY:Bone Builder Exercises
DESCRIPTION:
URL:https://hillcrestrvresortfl.com/event/bone-builder-exercises-6/
END:VEVENT
BEGIN:VEVENT
DTSTART;TZID=America/Chicago:20250115T090000
DTEND;TZID=America/Chicago:20250115T210000
DTSTAMP:20260425T232744
CREATED:20250113T185142Z
LAST-MODIFIED:20250113T185142Z
UID:17088-1736931600-1736974800@hillcrestrvresortfl.com
SUMMARY:Horseshoes
DESCRIPTION:
URL:https://hillcrestrvresortfl.com/event/horseshoes-156/
END:VEVENT
BEGIN:VEVENT
DTSTART;TZID=America/Chicago:20250115T100000
DTEND;TZID=America/Chicago:20250115T120000
DTSTAMP:20260425T232744
CREATED:20250114T130154Z
LAST-MODIFIED:20250114T130154Z
UID:17308-1736935200-1736942400@hillcrestrvresortfl.com
SUMMARY:Scrabble
DESCRIPTION:
URL:https://hillcrestrvresortfl.com/event/scrabble-25/
END:VEVENT
BEGIN:VEVENT
DTSTART;TZID=America/Chicago:20250115T100000
DTEND;TZID=America/Chicago:20250115T130000
DTSTAMP:20260425T232744
CREATED:20250114T124859Z
LAST-MODIFIED:20250114T124859Z
UID:17287-1736935200-1736946000@hillcrestrvresortfl.com
SUMMARY:Women's Billiards
DESCRIPTION:
URL:https://hillcrestrvresortfl.com/event/womens-billiards-35/
END:VEVENT
BEGIN:VEVENT
DTSTART;TZID=America/Chicago:20250115T100000
DTEND;TZID=America/Chicago:20250115T170000
DTSTAMP:20260425T232744
CREATED:20250113T205423Z
LAST-MODIFIED:20250113T205423Z
UID:17240-1736935200-1736960400@hillcrestrvresortfl.com
SUMMARY:Pentanque
DESCRIPTION:
URL:https://hillcrestrvresortfl.com/event/pentanque-93/
END:VEVENT
BEGIN:VEVENT
DTSTART;TZID=America/Chicago:20250115T103000
DTEND;TZID=America/Chicago:20250115T170000
DTSTAMP:20260425T232744
CREATED:20250114T130401Z
LAST-MODIFIED:20250114T130401Z
UID:17318-1736937000-1736960400@hillcrestrvresortfl.com
SUMMARY:Golf
DESCRIPTION:
URL:https://hillcrestrvresortfl.com/event/golf-11/
END:VEVENT
BEGIN:VEVENT
DTSTART;TZID=America/Chicago:20250115T110000
DTEND;TZID=America/Chicago:20250115T123000
DTSTAMP:20260425T232744
CREATED:20250113T173711Z
LAST-MODIFIED:20250113T173711Z
UID:16904-1736938800-1736944200@hillcrestrvresortfl.com
SUMMARY:Bible Study
DESCRIPTION:
URL:https://hillcrestrvresortfl.com/event/bible-study-11/
END:VEVENT
BEGIN:VEVENT
DTSTART;TZID=America/Chicago:20250115T130000
DTEND;TZID=America/Chicago:20250115T150000
DTSTAMP:20260425T232744
CREATED:20250113T134849Z
LAST-MODIFIED:20250113T134849Z
UID:16831-1736946000-1736953200@hillcrestrvresortfl.com
SUMMARY:Fiddler's Jam
DESCRIPTION:
URL:https://hillcrestrvresortfl.com/event/fiddlers-jam-22/
END:VEVENT
BEGIN:VEVENT
DTSTART;TZID=America/Chicago:20250115T180000
DTEND;TZID=America/Chicago:20250115T210000
DTSTAMP:20260425T232744
CREATED:20250113T135000Z
LAST-MODIFIED:20250113T135000Z
UID:16835-1736964000-1736974800@hillcrestrvresortfl.com
SUMMARY:Darts
DESCRIPTION:
URL:https://hillcrestrvresortfl.com/event/darts-19/
END:VEVENT
BEGIN:VEVENT
DTSTART;TZID=America/Chicago:20250115T180000
DTEND;TZID=America/Chicago:20250115T210000
DTSTAMP:20260425T232744
CREATED:20250114T130721Z
LAST-MODIFIED:20250114T130721Z
UID:17332-1736964000-1736974800@hillcrestrvresortfl.com
SUMMARY:Game Night
DESCRIPTION:
URL:https://hillcrestrvresortfl.com/event/game-night-50/
END:VEVENT
BEGIN:VEVENT
DTSTART;TZID=America/Chicago:20250116T080000
DTEND;TZID=America/Chicago:20250116T170000
DTSTAMP:20260425T232744
CREATED:20250113T195619Z
LAST-MODIFIED:20250113T195619Z
UID:17142-1737014400-1737046800@hillcrestrvresortfl.com
SUMMARY:shuffleboard
DESCRIPTION:
URL:https://hillcrestrvresortfl.com/event/shuffleboard-155/
END:VEVENT
BEGIN:VEVENT
DTSTART;TZID=America/Chicago:20250116T080000
DTEND;TZID=America/Chicago:20250116T170000
DTSTAMP:20260425T232744
CREATED:20250113T204345Z
LAST-MODIFIED:20250113T204345Z
UID:17188-1737014400-1737046800@hillcrestrvresortfl.com
SUMMARY:Water Aerobics
DESCRIPTION:
URL:https://hillcrestrvresortfl.com/event/water-aerobics-157/
END:VEVENT
BEGIN:VEVENT
DTSTART;TZID=America/Chicago:20250116T080000
DTEND;TZID=America/Chicago:20250116T170000
DTSTAMP:20260425T232744
CREATED:20250114T124138Z
LAST-MODIFIED:20250114T124138Z
UID:17243-1737014400-1737046800@hillcrestrvresortfl.com
SUMMARY:Pentanque
DESCRIPTION:
URL:https://hillcrestrvresortfl.com/event/pentanque-95/
END:VEVENT
BEGIN:VEVENT
DTSTART;TZID=America/Chicago:20250116T080000
DTEND;TZID=America/Chicago:20250116T220000
DTSTAMP:20260425T232744
CREATED:20250113T183802Z
LAST-MODIFIED:20250113T183802Z
UID:17024-1737014400-1737064800@hillcrestrvresortfl.com
SUMMARY:Pickleball
DESCRIPTION:
URL:https://hillcrestrvresortfl.com/event/pickleball-175/
END:VEVENT
BEGIN:VEVENT
DTSTART;TZID=America/Chicago:20250116T090000
DTEND;TZID=America/Chicago:20250116T103000
DTSTAMP:20260425T232744
CREATED:20250114T132126Z
LAST-MODIFIED:20250114T132126Z
UID:17346-1737018000-1737023400@hillcrestrvresortfl.com
SUMMARY:Choir Practice
DESCRIPTION:
URL:https://hillcrestrvresortfl.com/event/choir-practice-11/
END:VEVENT
END:VCALENDAR