BEGIN:VCALENDAR
VERSION:2.0
PRODID:-//Hillcrest RV Resort - ECPv6.15.20//NONSGML v1.0//EN
CALSCALE:GREGORIAN
METHOD:PUBLISH
X-WR-CALNAME:Hillcrest RV Resort
X-ORIGINAL-URL:https://hillcrestrvresortfl.com
X-WR-CALDESC:Events for Hillcrest RV Resort
REFRESH-INTERVAL;VALUE=DURATION:PT1H
X-Robots-Tag:noindex
X-PUBLISHED-TTL:PT1H
BEGIN:VTIMEZONE
TZID:America/Chicago
BEGIN:DAYLIGHT
TZOFFSETFROM:-0600
TZOFFSETTO:-0500
TZNAME:CDT
DTSTART:20240310T080000
END:DAYLIGHT
BEGIN:STANDARD
TZOFFSETFROM:-0500
TZOFFSETTO:-0600
TZNAME:CST
DTSTART:20241103T070000
END:STANDARD
BEGIN:DAYLIGHT
TZOFFSETFROM:-0600
TZOFFSETTO:-0500
TZNAME:CDT
DTSTART:20250309T080000
END:DAYLIGHT
BEGIN:STANDARD
TZOFFSETFROM:-0500
TZOFFSETTO:-0600
TZNAME:CST
DTSTART:20251102T070000
END:STANDARD
BEGIN:DAYLIGHT
TZOFFSETFROM:-0600
TZOFFSETTO:-0500
TZNAME:CDT
DTSTART:20260308T080000
END:DAYLIGHT
BEGIN:STANDARD
TZOFFSETFROM:-0500
TZOFFSETTO:-0600
TZNAME:CST
DTSTART:20261101T070000
END:STANDARD
END:VTIMEZONE
BEGIN:VEVENT
DTSTART;TZID=America/Chicago:20250111T080000
DTEND;TZID=America/Chicago:20250111T220000
DTSTAMP:20260425T232743
CREATED:20250113T183410Z
LAST-MODIFIED:20250113T183410Z
UID:17014-1736582400-1736632800@hillcrestrvresortfl.com
SUMMARY:Pickleball
DESCRIPTION:
URL:https://hillcrestrvresortfl.com/event/pickleball-170/
END:VEVENT
BEGIN:VEVENT
DTSTART;TZID=America/Chicago:20250111T090000
DTEND;TZID=America/Chicago:20250111T140000
DTSTAMP:20260425T232743
CREATED:20250113T140357Z
LAST-MODIFIED:20250113T140357Z
UID:16869-1736586000-1736604000@hillcrestrvresortfl.com
SUMMARY:Craft show & BBQ
DESCRIPTION:
URL:https://hillcrestrvresortfl.com/event/craft-show-bbq/
END:VEVENT
BEGIN:VEVENT
DTSTART;TZID=America/Chicago:20250111T090000
DTEND;TZID=America/Chicago:20250111T210000
DTSTAMP:20260425T232743
CREATED:20250113T185328Z
LAST-MODIFIED:20250113T185328Z
UID:17096-1736586000-1736629200@hillcrestrvresortfl.com
SUMMARY:Horseshoes
DESCRIPTION:
URL:https://hillcrestrvresortfl.com/event/horseshoes-160/
END:VEVENT
BEGIN:VEVENT
DTSTART;TZID=America/Chicago:20250111T100000
DTEND;TZID=America/Chicago:20250111T170000
DTSTAMP:20260425T232743
CREATED:20250113T205315Z
LAST-MODIFIED:20250113T205315Z
UID:17232-1736589600-1736614800@hillcrestrvresortfl.com
SUMMARY:Pentanque
DESCRIPTION:
URL:https://hillcrestrvresortfl.com/event/pentanque-89/
END:VEVENT
BEGIN:VEVENT
DTSTART;TZID=America/Chicago:20250111T193000
DTEND;TZID=America/Chicago:20250111T220000
DTSTAMP:20260425T232743
CREATED:20250113T140558Z
LAST-MODIFIED:20250113T140558Z
UID:16871-1736623800-1736632800@hillcrestrvresortfl.com
SUMMARY:Western Dance (Driftin South)
DESCRIPTION:
URL:https://hillcrestrvresortfl.com/event/western-dance-driftin-south/
END:VEVENT
BEGIN:VEVENT
DTSTART;TZID=America/Chicago:20250112T080000
DTEND;TZID=America/Chicago:20250112T220000
DTSTAMP:20260425T232743
CREATED:20250113T183523Z
LAST-MODIFIED:20250113T183523Z
UID:17016-1736668800-1736719200@hillcrestrvresortfl.com
SUMMARY:Pickleball
DESCRIPTION:
URL:https://hillcrestrvresortfl.com/event/pickleball-171/
END:VEVENT
BEGIN:VEVENT
DTSTART;TZID=America/Chicago:20250112T090000
DTEND;TZID=America/Chicago:20250112T210000
DTSTAMP:20260425T232743
CREATED:20250113T185253Z
LAST-MODIFIED:20250113T185253Z
UID:17094-1736672400-1736715600@hillcrestrvresortfl.com
SUMMARY:Horseshoes
DESCRIPTION:
URL:https://hillcrestrvresortfl.com/event/horseshoes-159/
END:VEVENT
BEGIN:VEVENT
DTSTART;TZID=America/Chicago:20250112T100000
DTEND;TZID=America/Chicago:20250112T120000
DTSTAMP:20260425T232743
CREATED:20250114T133554Z
LAST-MODIFIED:20250114T133554Z
UID:17410-1736676000-1736683200@hillcrestrvresortfl.com
SUMMARY:Church
DESCRIPTION:
URL:https://hillcrestrvresortfl.com/event/church-29/
END:VEVENT
BEGIN:VEVENT
DTSTART;TZID=America/Chicago:20250112T100000
DTEND;TZID=America/Chicago:20250112T170000
DTSTAMP:20260425T232743
CREATED:20250113T205332Z
LAST-MODIFIED:20250113T205332Z
UID:17234-1736676000-1736701200@hillcrestrvresortfl.com
SUMMARY:Pentanque
DESCRIPTION:
URL:https://hillcrestrvresortfl.com/event/pentanque-90/
END:VEVENT
BEGIN:VEVENT
DTSTART;TZID=America/Chicago:20250112T110000
DTEND;TZID=America/Chicago:20250112T130000
DTSTAMP:20260425T232743
CREATED:20250114T134317Z
LAST-MODIFIED:20250114T134317Z
UID:17440-1736679600-1736686800@hillcrestrvresortfl.com
SUMMARY:Luncheon Memorial Service
DESCRIPTION:
URL:https://hillcrestrvresortfl.com/event/luncheon-memorial-service/
END:VEVENT
BEGIN:VEVENT
DTSTART;TZID=America/Chicago:20250112T190000
DTEND;TZID=America/Chicago:20250112T213000
DTSTAMP:20260425T232743
CREATED:20250113T140645Z
LAST-MODIFIED:20250113T145101Z
UID:16873-1736708400-1736717400@hillcrestrvresortfl.com
SUMMARY:Karl Sapp (Entertainment)
DESCRIPTION:
URL:https://hillcrestrvresortfl.com/event/ice-cream-social-16/
END:VEVENT
BEGIN:VEVENT
DTSTART;TZID=America/Chicago:20250113T073000
DTEND;TZID=America/Chicago:20250113T090000
DTSTAMP:20260425T232743
CREATED:20250113T145153Z
LAST-MODIFIED:20250113T145153Z
UID:16877-1736753400-1736758800@hillcrestrvresortfl.com
SUMMARY:Orange Blossom Breakfast
DESCRIPTION:
URL:https://hillcrestrvresortfl.com/event/orange-blossom-breakfast/
END:VEVENT
BEGIN:VEVENT
DTSTART;TZID=America/Chicago:20250113T080000
DTEND;TZID=America/Chicago:20250113T170000
DTSTAMP:20260425T232743
CREATED:20250113T195527Z
LAST-MODIFIED:20250113T195527Z
UID:17136-1736755200-1736787600@hillcrestrvresortfl.com
SUMMARY:shuffleboard
DESCRIPTION:
URL:https://hillcrestrvresortfl.com/event/shuffleboard-152/
END:VEVENT
BEGIN:VEVENT
DTSTART;TZID=America/Chicago:20250113T080000
DTEND;TZID=America/Chicago:20250113T170000
DTSTAMP:20260425T232743
CREATED:20250113T204240Z
LAST-MODIFIED:20250113T204240Z
UID:17182-1736755200-1736787600@hillcrestrvresortfl.com
SUMMARY:Water Aerobics
DESCRIPTION:
URL:https://hillcrestrvresortfl.com/event/water-aerobics-154/
END:VEVENT
BEGIN:VEVENT
DTSTART;TZID=America/Chicago:20250113T080000
DTEND;TZID=America/Chicago:20250113T220000
DTSTAMP:20260425T232743
CREATED:20250113T183553Z
LAST-MODIFIED:20250113T183553Z
UID:17018-1736755200-1736805600@hillcrestrvresortfl.com
SUMMARY:Pickleball
DESCRIPTION:
URL:https://hillcrestrvresortfl.com/event/pickleball-172/
END:VEVENT
BEGIN:VEVENT
DTSTART;TZID=America/Chicago:20250113T090000
DTEND;TZID=America/Chicago:20250113T210000
DTSTAMP:20260425T232743
CREATED:20250113T185232Z
LAST-MODIFIED:20250113T185232Z
UID:17092-1736758800-1736802000@hillcrestrvresortfl.com
SUMMARY:Horseshoes
DESCRIPTION:
URL:https://hillcrestrvresortfl.com/event/horseshoes-158/
END:VEVENT
BEGIN:VEVENT
DTSTART;TZID=America/Chicago:20250113T100000
DTEND;TZID=America/Chicago:20250113T110000
DTSTAMP:20260425T232743
CREATED:20250113T145413Z
LAST-MODIFIED:20250113T145413Z
UID:16879-1736762400-1736766000@hillcrestrvresortfl.com
SUMMARY:Dancersize
DESCRIPTION:
URL:https://hillcrestrvresortfl.com/event/dancersize-9/
END:VEVENT
BEGIN:VEVENT
DTSTART;TZID=America/Chicago:20250113T100000
DTEND;TZID=America/Chicago:20250113T130000
DTSTAMP:20260425T232743
CREATED:20250114T124832Z
LAST-MODIFIED:20250114T124832Z
UID:17285-1736762400-1736773200@hillcrestrvresortfl.com
SUMMARY:Women's Billiards
DESCRIPTION:
URL:https://hillcrestrvresortfl.com/event/womens-billiards-34/
END:VEVENT
BEGIN:VEVENT
DTSTART;TZID=America/Chicago:20250113T100000
DTEND;TZID=America/Chicago:20250113T170000
DTSTAMP:20260425T232743
CREATED:20250113T205348Z
LAST-MODIFIED:20250113T205348Z
UID:17236-1736762400-1736787600@hillcrestrvresortfl.com
SUMMARY:Pentanque
DESCRIPTION:
URL:https://hillcrestrvresortfl.com/event/pentanque-91/
END:VEVENT
BEGIN:VEVENT
DTSTART;TZID=America/Chicago:20250113T130000
DTEND;TZID=America/Chicago:20250113T150000
DTSTAMP:20260425T232743
CREATED:20250113T150142Z
LAST-MODIFIED:20250113T150142Z
UID:16887-1736773200-1736780400@hillcrestrvresortfl.com
SUMMARY:Watercolor
DESCRIPTION:
URL:https://hillcrestrvresortfl.com/event/watercolor-2/
END:VEVENT
BEGIN:VEVENT
DTSTART;TZID=America/Chicago:20250113T130000
DTEND;TZID=America/Chicago:20250113T150000
DTSTAMP:20260425T232743
CREATED:20250114T133743Z
LAST-MODIFIED:20250114T133743Z
UID:17418-1736773200-1736780400@hillcrestrvresortfl.com
SUMMARY:Cribbage
DESCRIPTION:
URL:https://hillcrestrvresortfl.com/event/cribbage-20/
END:VEVENT
BEGIN:VEVENT
DTSTART;TZID=America/Chicago:20250113T130000
DTEND;TZID=America/Chicago:20250113T160000
DTSTAMP:20260425T232743
CREATED:20250113T145628Z
LAST-MODIFIED:20250113T145628Z
UID:16883-1736773200-1736784000@hillcrestrvresortfl.com
SUMMARY:Quilting Sewing Knitting Crocheting
DESCRIPTION:
URL:https://hillcrestrvresortfl.com/event/quilting-sewing-knitting-crocheting-8/
END:VEVENT
BEGIN:VEVENT
DTSTART;TZID=America/Chicago:20250113T180000
DTEND;TZID=America/Chicago:20250113T210000
DTSTAMP:20260425T232743
CREATED:20250114T130653Z
LAST-MODIFIED:20250114T130653Z
UID:17330-1736791200-1736802000@hillcrestrvresortfl.com
SUMMARY:Game Night
DESCRIPTION:
URL:https://hillcrestrvresortfl.com/event/game-night-49/
END:VEVENT
BEGIN:VEVENT
DTSTART;TZID=America/Chicago:20250113T180000
DTEND;TZID=America/Chicago:20250113T210000
DTSTAMP:20260425T232743
CREATED:20250114T133942Z
LAST-MODIFIED:20250114T133942Z
UID:17426-1736791200-1736802000@hillcrestrvresortfl.com
SUMMARY:Mixed Billiards
DESCRIPTION:
URL:https://hillcrestrvresortfl.com/event/mixed-billiards-13/
END:VEVENT
BEGIN:VEVENT
DTSTART;TZID=America/Chicago:20250113T180000
DTEND;TZID=America/Chicago:20250113T213000
DTSTAMP:20260425T232743
CREATED:20250113T150409Z
LAST-MODIFIED:20250113T150409Z
UID:16891-1736791200-1736803800@hillcrestrvresortfl.com
SUMMARY:Bingo
DESCRIPTION:
URL:https://hillcrestrvresortfl.com/event/bingo-49/
END:VEVENT
BEGIN:VEVENT
DTSTART;TZID=America/Chicago:20250114T080000
DTEND;TZID=America/Chicago:20250114T170000
DTSTAMP:20260425T232743
CREATED:20250113T195543Z
LAST-MODIFIED:20250113T195543Z
UID:17138-1736841600-1736874000@hillcrestrvresortfl.com
SUMMARY:shuffleboard
DESCRIPTION:
URL:https://hillcrestrvresortfl.com/event/shuffleboard-153/
END:VEVENT
BEGIN:VEVENT
DTSTART;TZID=America/Chicago:20250114T080000
DTEND;TZID=America/Chicago:20250114T170000
DTSTAMP:20260425T232743
CREATED:20250113T204254Z
LAST-MODIFIED:20250113T204254Z
UID:17184-1736841600-1736874000@hillcrestrvresortfl.com
SUMMARY:Water Aerobics
DESCRIPTION:
URL:https://hillcrestrvresortfl.com/event/water-aerobics-155/
END:VEVENT
BEGIN:VEVENT
DTSTART;TZID=America/Chicago:20250114T080000
DTEND;TZID=America/Chicago:20250114T220000
DTSTAMP:20260425T232743
CREATED:20250113T183721Z
LAST-MODIFIED:20250113T183721Z
UID:17020-1736841600-1736892000@hillcrestrvresortfl.com
SUMMARY:Pickleball
DESCRIPTION:
URL:https://hillcrestrvresortfl.com/event/pickleball-173/
END:VEVENT
BEGIN:VEVENT
DTSTART;TZID=America/Chicago:20250114T090000
DTEND;TZID=America/Chicago:20250114T210000
DTSTAMP:20260425T232743
CREATED:20250113T185207Z
LAST-MODIFIED:20250113T185207Z
UID:17090-1736845200-1736888400@hillcrestrvresortfl.com
SUMMARY:Horseshoes
DESCRIPTION:
URL:https://hillcrestrvresortfl.com/event/horseshoes-157/
END:VEVENT
BEGIN:VEVENT
DTSTART;TZID=America/Chicago:20250114T093000
DTEND;TZID=America/Chicago:20250114T103000
DTSTAMP:20260425T232743
CREATED:20250113T150451Z
LAST-MODIFIED:20250113T150451Z
UID:16893-1736847000-1736850600@hillcrestrvresortfl.com
SUMMARY:One Stop Shopping (OSS)
DESCRIPTION:
URL:https://hillcrestrvresortfl.com/event/one-stop-shopping-oss-2/
END:VEVENT
END:VCALENDAR