BEGIN:VCALENDAR
VERSION:2.0
PRODID:-//Hillcrest RV Resort - ECPv6.15.20//NONSGML v1.0//EN
CALSCALE:GREGORIAN
METHOD:PUBLISH
X-WR-CALNAME:Hillcrest RV Resort
X-ORIGINAL-URL:https://hillcrestrvresortfl.com
X-WR-CALDESC:Events for Hillcrest RV Resort
REFRESH-INTERVAL;VALUE=DURATION:PT1H
X-Robots-Tag:noindex
X-PUBLISHED-TTL:PT1H
BEGIN:VTIMEZONE
TZID:America/Chicago
BEGIN:DAYLIGHT
TZOFFSETFROM:-0600
TZOFFSETTO:-0500
TZNAME:CDT
DTSTART:20240310T080000
END:DAYLIGHT
BEGIN:STANDARD
TZOFFSETFROM:-0500
TZOFFSETTO:-0600
TZNAME:CST
DTSTART:20241103T070000
END:STANDARD
BEGIN:DAYLIGHT
TZOFFSETFROM:-0600
TZOFFSETTO:-0500
TZNAME:CDT
DTSTART:20250309T080000
END:DAYLIGHT
BEGIN:STANDARD
TZOFFSETFROM:-0500
TZOFFSETTO:-0600
TZNAME:CST
DTSTART:20251102T070000
END:STANDARD
BEGIN:DAYLIGHT
TZOFFSETFROM:-0600
TZOFFSETTO:-0500
TZNAME:CDT
DTSTART:20260308T080000
END:DAYLIGHT
BEGIN:STANDARD
TZOFFSETFROM:-0500
TZOFFSETTO:-0600
TZNAME:CST
DTSTART:20261101T070000
END:STANDARD
END:VTIMEZONE
BEGIN:VEVENT
DTSTART;TZID=America/Chicago:20250109T080000
DTEND;TZID=America/Chicago:20250109T170000
DTSTAMP:20260425T232801
CREATED:20250113T195444Z
LAST-MODIFIED:20250113T195444Z
UID:17132-1736409600-1736442000@hillcrestrvresortfl.com
SUMMARY:shuffleboard
DESCRIPTION:
URL:https://hillcrestrvresortfl.com/event/shuffleboard-150/
END:VEVENT
BEGIN:VEVENT
DTSTART;TZID=America/Chicago:20250109T080000
DTEND;TZID=America/Chicago:20250109T170000
DTSTAMP:20260425T232801
CREATED:20250113T204208Z
LAST-MODIFIED:20250113T204208Z
UID:17178-1736409600-1736442000@hillcrestrvresortfl.com
SUMMARY:Water Aerobics
DESCRIPTION:
URL:https://hillcrestrvresortfl.com/event/water-aerobics-152/
END:VEVENT
BEGIN:VEVENT
DTSTART;TZID=America/Chicago:20250109T080000
DTEND;TZID=America/Chicago:20250109T220000
DTSTAMP:20260425T232801
CREATED:20250113T183328Z
LAST-MODIFIED:20250113T183328Z
UID:17010-1736409600-1736460000@hillcrestrvresortfl.com
SUMMARY:Pickleball
DESCRIPTION:
URL:https://hillcrestrvresortfl.com/event/pickleball-168/
END:VEVENT
BEGIN:VEVENT
DTSTART;TZID=America/Chicago:20250109T090000
DTEND;TZID=America/Chicago:20250109T103000
DTSTAMP:20260425T232801
CREATED:20250114T132102Z
LAST-MODIFIED:20250114T132102Z
UID:17344-1736413200-1736418600@hillcrestrvresortfl.com
SUMMARY:Choir Practice
DESCRIPTION:
URL:https://hillcrestrvresortfl.com/event/choir-practice-10/
END:VEVENT
BEGIN:VEVENT
DTSTART;TZID=America/Chicago:20250109T090000
DTEND;TZID=America/Chicago:20250109T210000
DTSTAMP:20260425T232801
CREATED:20250113T185545Z
LAST-MODIFIED:20250113T185545Z
UID:17100-1736413200-1736456400@hillcrestrvresortfl.com
SUMMARY:Horseshoes
DESCRIPTION:
URL:https://hillcrestrvresortfl.com/event/horseshoes-162/
END:VEVENT
BEGIN:VEVENT
DTSTART;TZID=America/Chicago:20250109T100000
DTEND;TZID=America/Chicago:20250109T120000
DTSTAMP:20260425T232801
CREATED:20250113T135045Z
LAST-MODIFIED:20250113T135045Z
UID:16837-1736416800-1736424000@hillcrestrvresortfl.com
SUMMARY:Drumming Exercises
DESCRIPTION:
URL:https://hillcrestrvresortfl.com/event/drumming-exercises/
END:VEVENT
BEGIN:VEVENT
DTSTART;TZID=America/Chicago:20250109T100000
DTEND;TZID=America/Chicago:20250109T170000
DTSTAMP:20260425T232801
CREATED:20250113T205239Z
LAST-MODIFIED:20250113T205239Z
UID:17228-1736416800-1736442000@hillcrestrvresortfl.com
SUMMARY:Pentanque
DESCRIPTION:
URL:https://hillcrestrvresortfl.com/event/pentanque-87/
END:VEVENT
BEGIN:VEVENT
DTSTART;TZID=America/Chicago:20250109T110000
DTEND;TZID=America/Chicago:20250109T120000
DTSTAMP:20260425T232801
CREATED:20250113T135324Z
LAST-MODIFIED:20250113T135324Z
UID:16843-1736420400-1736424000@hillcrestrvresortfl.com
SUMMARY:Cornhole
DESCRIPTION:
URL:https://hillcrestrvresortfl.com/event/cornhole-6/
END:VEVENT
BEGIN:VEVENT
DTSTART;TZID=America/Chicago:20250109T130000
DTEND;TZID=America/Chicago:20250109T150000
DTSTAMP:20260425T232801
CREATED:20250113T135525Z
LAST-MODIFIED:20250113T135525Z
UID:16849-1736427600-1736434800@hillcrestrvresortfl.com
SUMMARY:Line Dancing
DESCRIPTION:
URL:https://hillcrestrvresortfl.com/event/line-dancing-18/
END:VEVENT
BEGIN:VEVENT
DTSTART;TZID=America/Chicago:20250109T150000
DTEND;TZID=America/Chicago:20250109T170000
DTSTAMP:20260425T232801
CREATED:20250113T135711Z
LAST-MODIFIED:20250113T135711Z
UID:16855-1736434800-1736442000@hillcrestrvresortfl.com
SUMMARY:Acoustic Jam
DESCRIPTION:
URL:https://hillcrestrvresortfl.com/event/acoustic-jam-25/
END:VEVENT
BEGIN:VEVENT
DTSTART;TZID=America/Chicago:20250109T180000
DTEND;TZID=America/Chicago:20250109T210000
DTSTAMP:20260425T232801
CREATED:20250114T132359Z
LAST-MODIFIED:20250114T132359Z
UID:17356-1736445600-1736456400@hillcrestrvresortfl.com
SUMMARY:Bid Euchre
DESCRIPTION:
URL:https://hillcrestrvresortfl.com/event/bid-euchre-37/
END:VEVENT
BEGIN:VEVENT
DTSTART;TZID=America/Chicago:20250109T180000
DTEND;TZID=America/Chicago:20250109T213000
DTSTAMP:20260425T232801
CREATED:20250113T135845Z
LAST-MODIFIED:20250113T135845Z
UID:16861-1736445600-1736458200@hillcrestrvresortfl.com
SUMMARY:Bingo
DESCRIPTION:
URL:https://hillcrestrvresortfl.com/event/bingo-46/
END:VEVENT
BEGIN:VEVENT
DTSTART;TZID=America/Chicago:20250109T183000
DTEND;TZID=America/Chicago:20250109T210000
DTSTAMP:20260425T232801
CREATED:20250114T132847Z
LAST-MODIFIED:20250114T132847Z
UID:17376-1736447400-1736456400@hillcrestrvresortfl.com
SUMMARY:Men's Billiards
DESCRIPTION:
URL:https://hillcrestrvresortfl.com/event/mens-billiards-59/
END:VEVENT
BEGIN:VEVENT
DTSTART;TZID=America/Chicago:20250110T080000
DTEND;TZID=America/Chicago:20250110T170000
DTSTAMP:20260425T232801
CREATED:20250113T195506Z
LAST-MODIFIED:20250113T195506Z
UID:17134-1736496000-1736528400@hillcrestrvresortfl.com
SUMMARY:shuffleboard
DESCRIPTION:
URL:https://hillcrestrvresortfl.com/event/shuffleboard-151/
END:VEVENT
BEGIN:VEVENT
DTSTART;TZID=America/Chicago:20250110T080000
DTEND;TZID=America/Chicago:20250110T170000
DTSTAMP:20260425T232801
CREATED:20250113T204223Z
LAST-MODIFIED:20250113T204223Z
UID:17180-1736496000-1736528400@hillcrestrvresortfl.com
SUMMARY:Water Aerobics
DESCRIPTION:
URL:https://hillcrestrvresortfl.com/event/water-aerobics-153/
END:VEVENT
BEGIN:VEVENT
DTSTART;TZID=America/Chicago:20250110T080000
DTEND;TZID=America/Chicago:20250110T220000
DTSTAMP:20260425T232801
CREATED:20250113T183350Z
LAST-MODIFIED:20250113T183350Z
UID:17012-1736496000-1736546400@hillcrestrvresortfl.com
SUMMARY:Pickleball
DESCRIPTION:
URL:https://hillcrestrvresortfl.com/event/pickleball-169/
END:VEVENT
BEGIN:VEVENT
DTSTART;TZID=America/Chicago:20250110T090000
DTEND;TZID=America/Chicago:20250110T103000
DTSTAMP:20260425T232801
CREATED:20250113T132534Z
LAST-MODIFIED:20250113T132534Z
UID:16823-1736499600-1736505000@hillcrestrvresortfl.com
SUMMARY:Bone Builder Exercises
DESCRIPTION:
URL:https://hillcrestrvresortfl.com/event/bone-builder-exercises-7/
END:VEVENT
BEGIN:VEVENT
DTSTART;TZID=America/Chicago:20250110T090000
DTEND;TZID=America/Chicago:20250110T210000
DTSTAMP:20260425T232801
CREATED:20250113T185522Z
LAST-MODIFIED:20250113T185522Z
UID:17098-1736499600-1736542800@hillcrestrvresortfl.com
SUMMARY:Horseshoes
DESCRIPTION:
URL:https://hillcrestrvresortfl.com/event/horseshoes-161/
END:VEVENT
BEGIN:VEVENT
DTSTART;TZID=America/Chicago:20250110T100000
DTEND;TZID=America/Chicago:20250110T130000
DTSTAMP:20260425T232801
CREATED:20250114T124806Z
LAST-MODIFIED:20250114T124806Z
UID:17283-1736503200-1736514000@hillcrestrvresortfl.com
SUMMARY:Women's Billiards
DESCRIPTION:
URL:https://hillcrestrvresortfl.com/event/womens-billiards-33/
END:VEVENT
BEGIN:VEVENT
DTSTART;TZID=America/Chicago:20250110T100000
DTEND;TZID=America/Chicago:20250110T170000
DTSTAMP:20260425T232801
CREATED:20250113T205257Z
LAST-MODIFIED:20250113T205257Z
UID:17230-1736503200-1736528400@hillcrestrvresortfl.com
SUMMARY:Pentanque
DESCRIPTION:
URL:https://hillcrestrvresortfl.com/event/pentanque-88/
END:VEVENT
BEGIN:VEVENT
DTSTART;TZID=America/Chicago:20250110T130000
DTEND;TZID=America/Chicago:20250110T150000
DTSTAMP:20260425T232801
CREATED:20250114T132911Z
LAST-MODIFIED:20250114T132911Z
UID:17378-1736514000-1736521200@hillcrestrvresortfl.com
SUMMARY:Men's Billiards
DESCRIPTION:
URL:https://hillcrestrvresortfl.com/event/mens-billiards-60/
END:VEVENT
BEGIN:VEVENT
DTSTART;TZID=America/Chicago:20250110T130000
DTEND;TZID=America/Chicago:20250110T160000
DTSTAMP:20260425T232801
CREATED:20250113T140033Z
LAST-MODIFIED:20250113T140033Z
UID:16867-1736514000-1736524800@hillcrestrvresortfl.com
SUMMARY:Craft Show Set up
DESCRIPTION:
URL:https://hillcrestrvresortfl.com/event/craft-show-set-up/
END:VEVENT
BEGIN:VEVENT
DTSTART;TZID=America/Chicago:20250110T130000
DTEND;TZID=America/Chicago:20250110T170000
DTSTAMP:20260425T232801
CREATED:20250114T133356Z
LAST-MODIFIED:20250114T133356Z
UID:17400-1736514000-1736528400@hillcrestrvresortfl.com
SUMMARY:Bowling
DESCRIPTION:
URL:https://hillcrestrvresortfl.com/event/bowling-29/
END:VEVENT
BEGIN:VEVENT
DTSTART;TZID=America/Chicago:20250111T080000
DTEND;TZID=America/Chicago:20250111T220000
DTSTAMP:20260425T232801
CREATED:20250113T183410Z
LAST-MODIFIED:20250113T183410Z
UID:17014-1736582400-1736632800@hillcrestrvresortfl.com
SUMMARY:Pickleball
DESCRIPTION:
URL:https://hillcrestrvresortfl.com/event/pickleball-170/
END:VEVENT
BEGIN:VEVENT
DTSTART;TZID=America/Chicago:20250111T090000
DTEND;TZID=America/Chicago:20250111T140000
DTSTAMP:20260425T232801
CREATED:20250113T140357Z
LAST-MODIFIED:20250113T140357Z
UID:16869-1736586000-1736604000@hillcrestrvresortfl.com
SUMMARY:Craft show & BBQ
DESCRIPTION:
URL:https://hillcrestrvresortfl.com/event/craft-show-bbq/
END:VEVENT
BEGIN:VEVENT
DTSTART;TZID=America/Chicago:20250111T090000
DTEND;TZID=America/Chicago:20250111T210000
DTSTAMP:20260425T232801
CREATED:20250113T185328Z
LAST-MODIFIED:20250113T185328Z
UID:17096-1736586000-1736629200@hillcrestrvresortfl.com
SUMMARY:Horseshoes
DESCRIPTION:
URL:https://hillcrestrvresortfl.com/event/horseshoes-160/
END:VEVENT
BEGIN:VEVENT
DTSTART;TZID=America/Chicago:20250111T100000
DTEND;TZID=America/Chicago:20250111T170000
DTSTAMP:20260425T232801
CREATED:20250113T205315Z
LAST-MODIFIED:20250113T205315Z
UID:17232-1736589600-1736614800@hillcrestrvresortfl.com
SUMMARY:Pentanque
DESCRIPTION:
URL:https://hillcrestrvresortfl.com/event/pentanque-89/
END:VEVENT
BEGIN:VEVENT
DTSTART;TZID=America/Chicago:20250111T193000
DTEND;TZID=America/Chicago:20250111T220000
DTSTAMP:20260425T232801
CREATED:20250113T140558Z
LAST-MODIFIED:20250113T140558Z
UID:16871-1736623800-1736632800@hillcrestrvresortfl.com
SUMMARY:Western Dance (Driftin South)
DESCRIPTION:
URL:https://hillcrestrvresortfl.com/event/western-dance-driftin-south/
END:VEVENT
BEGIN:VEVENT
DTSTART;TZID=America/Chicago:20250112T080000
DTEND;TZID=America/Chicago:20250112T220000
DTSTAMP:20260425T232801
CREATED:20250113T183523Z
LAST-MODIFIED:20250113T183523Z
UID:17016-1736668800-1736719200@hillcrestrvresortfl.com
SUMMARY:Pickleball
DESCRIPTION:
URL:https://hillcrestrvresortfl.com/event/pickleball-171/
END:VEVENT
BEGIN:VEVENT
DTSTART;TZID=America/Chicago:20250112T090000
DTEND;TZID=America/Chicago:20250112T210000
DTSTAMP:20260425T232801
CREATED:20250113T185253Z
LAST-MODIFIED:20250113T185253Z
UID:17094-1736672400-1736715600@hillcrestrvresortfl.com
SUMMARY:Horseshoes
DESCRIPTION:
URL:https://hillcrestrvresortfl.com/event/horseshoes-159/
END:VEVENT
END:VCALENDAR