BEGIN:VCALENDAR
VERSION:2.0
PRODID:-//Hillcrest RV Resort - ECPv6.15.20//NONSGML v1.0//EN
CALSCALE:GREGORIAN
METHOD:PUBLISH
X-WR-CALNAME:Hillcrest RV Resort
X-ORIGINAL-URL:https://hillcrestrvresortfl.com
X-WR-CALDESC:Events for Hillcrest RV Resort
REFRESH-INTERVAL;VALUE=DURATION:PT1H
X-Robots-Tag:noindex
X-PUBLISHED-TTL:PT1H
BEGIN:VTIMEZONE
TZID:America/Chicago
BEGIN:DAYLIGHT
TZOFFSETFROM:-0600
TZOFFSETTO:-0500
TZNAME:CDT
DTSTART:20230312T080000
END:DAYLIGHT
BEGIN:STANDARD
TZOFFSETFROM:-0500
TZOFFSETTO:-0600
TZNAME:CST
DTSTART:20231105T070000
END:STANDARD
BEGIN:DAYLIGHT
TZOFFSETFROM:-0600
TZOFFSETTO:-0500
TZNAME:CDT
DTSTART:20240310T080000
END:DAYLIGHT
BEGIN:STANDARD
TZOFFSETFROM:-0500
TZOFFSETTO:-0600
TZNAME:CST
DTSTART:20241103T070000
END:STANDARD
BEGIN:DAYLIGHT
TZOFFSETFROM:-0600
TZOFFSETTO:-0500
TZNAME:CDT
DTSTART:20250309T080000
END:DAYLIGHT
BEGIN:STANDARD
TZOFFSETFROM:-0500
TZOFFSETTO:-0600
TZNAME:CST
DTSTART:20251102T070000
END:STANDARD
END:VTIMEZONE
BEGIN:VEVENT
DTSTART;VALUE=DATE:20241201
DTEND;VALUE=DATE:20241202
DTSTAMP:20260425T232744
CREATED:20241127T130601Z
LAST-MODIFIED:20241127T130601Z
UID:16663-1733011200-1733097599@hillcrestrvresortfl.com
SUMMARY:Pickleball
DESCRIPTION:
URL:https://hillcrestrvresortfl.com/event/pickleball-129/
END:VEVENT
BEGIN:VEVENT
DTSTART;TZID=America/Chicago:20241201T100000
DTEND;TZID=America/Chicago:20241201T123000
DTSTAMP:20260425T232744
CREATED:20241126T134230Z
LAST-MODIFIED:20241126T134230Z
UID:16211-1733047200-1733056200@hillcrestrvresortfl.com
SUMMARY:Church
DESCRIPTION:
URL:https://hillcrestrvresortfl.com/event/church-23/
END:VEVENT
BEGIN:VEVENT
DTSTART;TZID=America/Chicago:20241201T100000
DTEND;TZID=America/Chicago:20241201T150000
DTSTAMP:20260425T232744
CREATED:20241126T181339Z
LAST-MODIFIED:20241126T181339Z
UID:16421-1733047200-1733065200@hillcrestrvresortfl.com
SUMMARY:Pentanque
DESCRIPTION:
URL:https://hillcrestrvresortfl.com/event/pentanque-48/
END:VEVENT
BEGIN:VEVENT
DTSTART;TZID=America/Chicago:20241201T180000
DTEND;TZID=America/Chicago:20241201T190000
DTSTAMP:20260425T232744
CREATED:20241126T185448Z
LAST-MODIFIED:20241126T185448Z
UID:16483-1733076000-1733079600@hillcrestrvresortfl.com
SUMMARY:Ice Cream Social
DESCRIPTION:
URL:https://hillcrestrvresortfl.com/event/ice-cream-social-11/
END:VEVENT
BEGIN:VEVENT
DTSTART;TZID=America/Chicago:20241201T190000
DTEND;TZID=America/Chicago:20241201T213000
DTSTAMP:20260425T232744
CREATED:20241126T190029Z
LAST-MODIFIED:20241126T190029Z
UID:16491-1733079600-1733088600@hillcrestrvresortfl.com
SUMMARY:Entertainment (DJ Bob & Lisa)
DESCRIPTION:
URL:https://hillcrestrvresortfl.com/event/entertainment-dj-bob-lisa/
END:VEVENT
BEGIN:VEVENT
DTSTART;VALUE=DATE:20241202
DTEND;VALUE=DATE:20241203
DTSTAMP:20260425T232744
CREATED:20241127T130715Z
LAST-MODIFIED:20241127T130715Z
UID:16665-1733097600-1733183999@hillcrestrvresortfl.com
SUMMARY:Pickleball
DESCRIPTION:
URL:https://hillcrestrvresortfl.com/event/pickleball-130/
END:VEVENT
BEGIN:VEVENT
DTSTART;TZID=America/Chicago:20241202T073000
DTEND;TZID=America/Chicago:20241202T090000
DTSTAMP:20260425T232744
CREATED:20241126T190418Z
LAST-MODIFIED:20241126T190418Z
UID:16501-1733124600-1733130000@hillcrestrvresortfl.com
SUMMARY:Breakfast
DESCRIPTION:
URL:https://hillcrestrvresortfl.com/event/breakfast-15/
END:VEVENT
BEGIN:VEVENT
DTSTART;TZID=America/Chicago:20241202T080000
DTEND;TZID=America/Chicago:20241202T110000
DTSTAMP:20260425T232744
CREATED:20241126T180117Z
LAST-MODIFIED:20241126T180117Z
UID:16375-1733126400-1733137200@hillcrestrvresortfl.com
SUMMARY:Water Aerobics
DESCRIPTION:
URL:https://hillcrestrvresortfl.com/event/water-aerobics-124/
END:VEVENT
BEGIN:VEVENT
DTSTART;TZID=America/Chicago:20241202T090000
DTEND;TZID=America/Chicago:20241202T100000
DTSTAMP:20260425T232744
CREATED:20241126T190705Z
LAST-MODIFIED:20241126T190705Z
UID:16511-1733130000-1733133600@hillcrestrvresortfl.com
SUMMARY:Association Meeting
DESCRIPTION:
URL:https://hillcrestrvresortfl.com/event/association-meeting-7/
END:VEVENT
BEGIN:VEVENT
DTSTART;TZID=America/Chicago:20241202T090000
DTEND;TZID=America/Chicago:20241202T170000
DTSTAMP:20260425T232744
CREATED:20241127T132015Z
LAST-MODIFIED:20241127T132015Z
UID:16725-1733130000-1733158800@hillcrestrvresortfl.com
SUMMARY:Horseshoes
DESCRIPTION:
URL:https://hillcrestrvresortfl.com/event/horseshoes-118/
END:VEVENT
BEGIN:VEVENT
DTSTART;TZID=America/Chicago:20241202T093000
DTEND;TZID=America/Chicago:20241202T230000
DTSTAMP:20260425T232744
CREATED:20241126T143034Z
LAST-MODIFIED:20241126T143034Z
UID:16333-1733131800-1733180400@hillcrestrvresortfl.com
SUMMARY:Shuffleboard
DESCRIPTION:
URL:https://hillcrestrvresortfl.com/event/shuffleboard-126/
END:VEVENT
BEGIN:VEVENT
DTSTART;TZID=America/Chicago:20241202T100000
DTEND;TZID=America/Chicago:20241202T150000
DTSTAMP:20260425T232744
CREATED:20241126T181400Z
LAST-MODIFIED:20241126T181400Z
UID:16423-1733133600-1733151600@hillcrestrvresortfl.com
SUMMARY:Pentanque
DESCRIPTION:
URL:https://hillcrestrvresortfl.com/event/pentanque-49/
END:VEVENT
BEGIN:VEVENT
DTSTART;TZID=America/Chicago:20241202T130000
DTEND;TZID=America/Chicago:20241202T160000
DTSTAMP:20260425T232744
CREATED:20241126T190756Z
LAST-MODIFIED:20241126T193727Z
UID:16513-1733144400-1733155200@hillcrestrvresortfl.com
SUMMARY:Quilting/Sewing/Knitting/Crocheting
DESCRIPTION:
URL:https://hillcrestrvresortfl.com/event/quilting-sewing-knittingcrocheting/
END:VEVENT
BEGIN:VEVENT
DTSTART;TZID=America/Chicago:20241202T130000
DTEND;TZID=America/Chicago:20241202T170000
DTSTAMP:20260425T232744
CREATED:20241126T140224Z
LAST-MODIFIED:20241126T140224Z
UID:16221-1733144400-1733158800@hillcrestrvresortfl.com
SUMMARY:Cribbage
DESCRIPTION:
URL:https://hillcrestrvresortfl.com/event/cribbage-14/
END:VEVENT
BEGIN:VEVENT
DTSTART;TZID=America/Chicago:20241202T180000
DTEND;TZID=America/Chicago:20241202T210000
DTSTAMP:20260425T232744
CREATED:20241126T140457Z
LAST-MODIFIED:20241126T140457Z
UID:16231-1733162400-1733173200@hillcrestrvresortfl.com
SUMMARY:Game Night
DESCRIPTION:
URL:https://hillcrestrvresortfl.com/event/game-night-37/
END:VEVENT
BEGIN:VEVENT
DTSTART;TZID=America/Chicago:20241202T183000
DTEND;TZID=America/Chicago:20241202T210000
DTSTAMP:20260425T232744
CREATED:20241126T194055Z
LAST-MODIFIED:20241126T194055Z
UID:16523-1733164200-1733173200@hillcrestrvresortfl.com
SUMMARY:Bingo
DESCRIPTION:
URL:https://hillcrestrvresortfl.com/event/bingo-36/
END:VEVENT
BEGIN:VEVENT
DTSTART;VALUE=DATE:20241203
DTEND;VALUE=DATE:20241204
DTSTAMP:20260425T232744
CREATED:20241127T130732Z
LAST-MODIFIED:20241127T130732Z
UID:16667-1733184000-1733270399@hillcrestrvresortfl.com
SUMMARY:Pickleball
DESCRIPTION:
URL:https://hillcrestrvresortfl.com/event/pickleball-131/
END:VEVENT
BEGIN:VEVENT
DTSTART;TZID=America/Chicago:20241203T080000
DTEND;TZID=America/Chicago:20241203T110000
DTSTAMP:20260425T232744
CREATED:20241126T180144Z
LAST-MODIFIED:20241126T180144Z
UID:16377-1733212800-1733223600@hillcrestrvresortfl.com
SUMMARY:Water Aerobics
DESCRIPTION:
URL:https://hillcrestrvresortfl.com/event/water-aerobics-125/
END:VEVENT
BEGIN:VEVENT
DTSTART;TZID=America/Chicago:20241203T090000
DTEND;TZID=America/Chicago:20241203T170000
DTSTAMP:20260425T232744
CREATED:20241127T132034Z
LAST-MODIFIED:20241127T132034Z
UID:16727-1733216400-1733245200@hillcrestrvresortfl.com
SUMMARY:Horseshoes
DESCRIPTION:
URL:https://hillcrestrvresortfl.com/event/horseshoes-119/
END:VEVENT
BEGIN:VEVENT
DTSTART;TZID=America/Chicago:20241203T093000
DTEND;TZID=America/Chicago:20241203T103000
DTSTAMP:20260425T232744
CREATED:20241126T195718Z
LAST-MODIFIED:20241126T195718Z
UID:16547-1733218200-1733221800@hillcrestrvresortfl.com
SUMMARY:OSS (One Stop Shopping)
DESCRIPTION:
URL:https://hillcrestrvresortfl.com/event/oss-one-stop-shopping/
END:VEVENT
BEGIN:VEVENT
DTSTART;TZID=America/Chicago:20241203T093000
DTEND;TZID=America/Chicago:20241203T110000
DTSTAMP:20260425T232744
CREATED:20241126T143124Z
LAST-MODIFIED:20241126T143124Z
UID:16335-1733218200-1733223600@hillcrestrvresortfl.com
SUMMARY:Shuffleboard
DESCRIPTION:
URL:https://hillcrestrvresortfl.com/event/shuffleboard-127/
END:VEVENT
BEGIN:VEVENT
DTSTART;TZID=America/Chicago:20241203T100000
DTEND;TZID=America/Chicago:20241203T150000
DTSTAMP:20260425T232744
CREATED:20241126T181420Z
LAST-MODIFIED:20241126T181420Z
UID:16425-1733220000-1733238000@hillcrestrvresortfl.com
SUMMARY:Pentanque
DESCRIPTION:
URL:https://hillcrestrvresortfl.com/event/pentanque-50/
END:VEVENT
BEGIN:VEVENT
DTSTART;TZID=America/Chicago:20241203T103000
DTEND;TZID=America/Chicago:20241203T120000
DTSTAMP:20260425T232744
CREATED:20241126T200018Z
LAST-MODIFIED:20241126T200018Z
UID:16557-1733221800-1733227200@hillcrestrvresortfl.com
SUMMARY:Adv Line Dancing (Robert)
DESCRIPTION:
URL:https://hillcrestrvresortfl.com/event/adv-line-dancing-robert/
END:VEVENT
BEGIN:VEVENT
DTSTART;TZID=America/Chicago:20241203T130000
DTEND;TZID=America/Chicago:20241203T170000
DTSTAMP:20260425T232744
CREATED:20241126T140942Z
LAST-MODIFIED:20241126T140942Z
UID:16249-1733230800-1733245200@hillcrestrvresortfl.com
SUMMARY:Men's Billiards
DESCRIPTION:
URL:https://hillcrestrvresortfl.com/event/mens-billiards-43/
END:VEVENT
BEGIN:VEVENT
DTSTART;TZID=America/Chicago:20241203T180000
DTEND;TZID=America/Chicago:20241203T210000
DTSTAMP:20260425T232744
CREATED:20241126T141602Z
LAST-MODIFIED:20241126T141602Z
UID:16275-1733248800-1733259600@hillcrestrvresortfl.com
SUMMARY:Bid Euchre
DESCRIPTION:
URL:https://hillcrestrvresortfl.com/event/bid-euchre-27/
END:VEVENT
BEGIN:VEVENT
DTSTART;TZID=America/Chicago:20241203T180000
DTEND;TZID=America/Chicago:20241203T210000
DTSTAMP:20260425T232744
CREATED:20241126T141959Z
LAST-MODIFIED:20241126T141959Z
UID:16291-1733248800-1733259600@hillcrestrvresortfl.com
SUMMARY:Texas Hold'Em
DESCRIPTION:
URL:https://hillcrestrvresortfl.com/event/texas-holdem-25/
END:VEVENT
BEGIN:VEVENT
DTSTART;TZID=America/Chicago:20241203T180000
DTEND;TZID=America/Chicago:20241203T210000
DTSTAMP:20260425T232744
CREATED:20241126T202249Z
LAST-MODIFIED:20241126T202249Z
UID:16567-1733248800-1733259600@hillcrestrvresortfl.com
SUMMARY:Karaoke
DESCRIPTION:
URL:https://hillcrestrvresortfl.com/event/karaoke-18/
END:VEVENT
BEGIN:VEVENT
DTSTART;VALUE=DATE:20241204
DTEND;VALUE=DATE:20241205
DTSTAMP:20260425T232744
CREATED:20241127T130750Z
LAST-MODIFIED:20241127T130750Z
UID:16669-1733270400-1733356799@hillcrestrvresortfl.com
SUMMARY:Pickleball
DESCRIPTION:
URL:https://hillcrestrvresortfl.com/event/pickleball-132/
END:VEVENT
BEGIN:VEVENT
DTSTART;TZID=America/Chicago:20241204T080000
DTEND;TZID=America/Chicago:20241204T110000
DTSTAMP:20260425T232744
CREATED:20241126T180209Z
LAST-MODIFIED:20241126T180209Z
UID:16379-1733299200-1733310000@hillcrestrvresortfl.com
SUMMARY:Water Aerobics
DESCRIPTION:
URL:https://hillcrestrvresortfl.com/event/water-aerobics-126/
END:VEVENT
BEGIN:VEVENT
DTSTART;TZID=America/Chicago:20241204T090000
DTEND;TZID=America/Chicago:20241204T170000
DTSTAMP:20260425T232744
CREATED:20241127T132128Z
LAST-MODIFIED:20241127T132128Z
UID:16729-1733302800-1733331600@hillcrestrvresortfl.com
SUMMARY:Horseshoes
DESCRIPTION:
URL:https://hillcrestrvresortfl.com/event/horseshoes-120/
END:VEVENT
END:VCALENDAR