BEGIN:VCALENDAR
VERSION:2.0
PRODID:-//Hillcrest RV Resort - ECPv6.15.20//NONSGML v1.0//EN
CALSCALE:GREGORIAN
METHOD:PUBLISH
X-WR-CALNAME:Hillcrest RV Resort
X-ORIGINAL-URL:https://hillcrestrvresortfl.com
X-WR-CALDESC:Events for Hillcrest RV Resort
REFRESH-INTERVAL;VALUE=DURATION:PT1H
X-Robots-Tag:noindex
X-PUBLISHED-TTL:PT1H
BEGIN:VTIMEZONE
TZID:America/Chicago
BEGIN:DAYLIGHT
TZOFFSETFROM:-0600
TZOFFSETTO:-0500
TZNAME:CDT
DTSTART:20240310T080000
END:DAYLIGHT
BEGIN:STANDARD
TZOFFSETFROM:-0500
TZOFFSETTO:-0600
TZNAME:CST
DTSTART:20241103T070000
END:STANDARD
BEGIN:DAYLIGHT
TZOFFSETFROM:-0600
TZOFFSETTO:-0500
TZNAME:CDT
DTSTART:20250309T080000
END:DAYLIGHT
BEGIN:STANDARD
TZOFFSETFROM:-0500
TZOFFSETTO:-0600
TZNAME:CST
DTSTART:20251102T070000
END:STANDARD
BEGIN:DAYLIGHT
TZOFFSETFROM:-0600
TZOFFSETTO:-0500
TZNAME:CDT
DTSTART:20260308T080000
END:DAYLIGHT
BEGIN:STANDARD
TZOFFSETFROM:-0500
TZOFFSETTO:-0600
TZNAME:CST
DTSTART:20261101T070000
END:STANDARD
END:VTIMEZONE
BEGIN:VEVENT
DTSTART;TZID=America/Chicago:20251210T180000
DTEND;TZID=America/Chicago:20251210T210000
DTSTAMP:20260423T180358
CREATED:20251128T204022Z
LAST-MODIFIED:20251128T204022Z
UID:18895-1765389600-1765400400@hillcrestrvresortfl.com
SUMMARY:Game Night
DESCRIPTION:
URL:https://hillcrestrvresortfl.com/event/game-night-81/
END:VEVENT
BEGIN:VEVENT
DTSTART;TZID=America/Chicago:20251210T180000
DTEND;TZID=America/Chicago:20251210T210000
DTSTAMP:20260423T180358
CREATED:20251128T173416Z
LAST-MODIFIED:20251128T173416Z
UID:18749-1765389600-1765400400@hillcrestrvresortfl.com
SUMMARY:Darts
DESCRIPTION:
URL:https://hillcrestrvresortfl.com/event/darts-24/
END:VEVENT
BEGIN:VEVENT
DTSTART;TZID=America/Chicago:20251210T130000
DTEND;TZID=America/Chicago:20251210T150000
DTSTAMP:20260423T180358
CREATED:20251128T173109Z
LAST-MODIFIED:20251128T173109Z
UID:18741-1765371600-1765378800@hillcrestrvresortfl.com
SUMMARY:Fiddler's Jam
DESCRIPTION:
URL:https://hillcrestrvresortfl.com/event/fiddlers-jam-28/
END:VEVENT
BEGIN:VEVENT
DTSTART;TZID=America/Chicago:20251210T103000
DTEND;TZID=America/Chicago:20251210T133000
DTSTAMP:20260423T180358
CREATED:20251128T203736Z
LAST-MODIFIED:20251128T203736Z
UID:18883-1765362600-1765373400@hillcrestrvresortfl.com
SUMMARY:Golf
DESCRIPTION:
URL:https://hillcrestrvresortfl.com/event/golf-26/
END:VEVENT
BEGIN:VEVENT
DTSTART;TZID=America/Chicago:20251210T090000
DTEND;TZID=America/Chicago:20251210T120000
DTSTAMP:20260423T180358
CREATED:20251128T165027Z
LAST-MODIFIED:20251128T165027Z
UID:18689-1765357200-1765368000@hillcrestrvresortfl.com
SUMMARY:Horseshoes
DESCRIPTION:
URL:https://hillcrestrvresortfl.com/event/horseshoes-214/
END:VEVENT
BEGIN:VEVENT
DTSTART;TZID=America/Chicago:20251210T080000
DTEND;TZID=America/Chicago:20251210T120000
DTSTAMP:20260423T180358
CREATED:20251128T161752Z
LAST-MODIFIED:20251128T161752Z
UID:18631-1765353600-1765368000@hillcrestrvresortfl.com
SUMMARY:Pickleball
DESCRIPTION:
URL:https://hillcrestrvresortfl.com/event/pickleball-258/
END:VEVENT
BEGIN:VEVENT
DTSTART;TZID=America/Chicago:20251209T190000
DTEND;TZID=America/Chicago:20251209T210000
DTSTAMP:20260423T180358
CREATED:20251128T172804Z
LAST-MODIFIED:20251128T172804Z
UID:18731-1765306800-1765314000@hillcrestrvresortfl.com
SUMMARY:Karaoke
DESCRIPTION:
URL:https://hillcrestrvresortfl.com/event/karaoke-30/
END:VEVENT
BEGIN:VEVENT
DTSTART;TZID=America/Chicago:20251209T180000
DTEND;TZID=America/Chicago:20251209T210000
DTSTAMP:20260423T180358
CREATED:20251128T203338Z
LAST-MODIFIED:20251128T203338Z
UID:18869-1765303200-1765314000@hillcrestrvresortfl.com
SUMMARY:Bid Euchre
DESCRIPTION:
URL:https://hillcrestrvresortfl.com/event/bid-euchre-62/
END:VEVENT
BEGIN:VEVENT
DTSTART;TZID=America/Chicago:20251209T130000
DTEND;TZID=America/Chicago:20251209T150000
DTSTAMP:20260423T180358
CREATED:20251128T200955Z
LAST-MODIFIED:20251128T200955Z
UID:18847-1765285200-1765292400@hillcrestrvresortfl.com
SUMMARY:Men's Billiards
DESCRIPTION:
URL:https://hillcrestrvresortfl.com/event/mens-billiards-97/
END:VEVENT
BEGIN:VEVENT
DTSTART;TZID=America/Chicago:20251209T120000
DTEND;TZID=America/Chicago:20251209T150000
DTSTAMP:20260423T180358
CREATED:20251128T190112Z
LAST-MODIFIED:20251128T190112Z
UID:18807-1765281600-1765292400@hillcrestrvresortfl.com
SUMMARY:Potluck & Nickel Bingo
DESCRIPTION:
URL:https://hillcrestrvresortfl.com/event/potluck-nickel-bingo-3/
END:VEVENT
BEGIN:VEVENT
DTSTART;TZID=America/Chicago:20251209T110000
DTEND;TZID=America/Chicago:20251209T120000
DTSTAMP:20260423T180358
CREATED:20251129T153632Z
LAST-MODIFIED:20251129T153632Z
UID:18953-1765278000-1765281600@hillcrestrvresortfl.com
SUMMARY:Missions Meeting
DESCRIPTION:
URL:https://hillcrestrvresortfl.com/event/missions-meeting-4/
END:VEVENT
BEGIN:VEVENT
DTSTART;TZID=America/Chicago:20251209T093000
DTEND;TZID=America/Chicago:20251209T103000
DTSTAMP:20260423T180358
CREATED:20251128T172323Z
LAST-MODIFIED:20251128T172323Z
UID:18721-1765272600-1765276200@hillcrestrvresortfl.com
SUMMARY:One Stop Shop (OSS)
DESCRIPTION:
URL:https://hillcrestrvresortfl.com/event/one-stop-shop-oss-6/
END:VEVENT
BEGIN:VEVENT
DTSTART;TZID=America/Chicago:20251209T090000
DTEND;TZID=America/Chicago:20251209T120000
DTSTAMP:20260423T180358
CREATED:20251128T165003Z
LAST-MODIFIED:20251128T165003Z
UID:18687-1765270800-1765281600@hillcrestrvresortfl.com
SUMMARY:Horseshoes
DESCRIPTION:
URL:https://hillcrestrvresortfl.com/event/horseshoes-213/
END:VEVENT
BEGIN:VEVENT
DTSTART;TZID=America/Chicago:20251209T080000
DTEND;TZID=America/Chicago:20251209T120000
DTSTAMP:20260423T180358
CREATED:20251128T161727Z
LAST-MODIFIED:20251128T161727Z
UID:18629-1765267200-1765281600@hillcrestrvresortfl.com
SUMMARY:Pickleball
DESCRIPTION:
URL:https://hillcrestrvresortfl.com/event/pickleball-257/
END:VEVENT
BEGIN:VEVENT
DTSTART;TZID=America/Chicago:20251208T180000
DTEND;TZID=America/Chicago:20251208T210000
DTSTAMP:20260423T180358
CREATED:20251129T153131Z
LAST-MODIFIED:20251129T153131Z
UID:18951-1765216800-1765227600@hillcrestrvresortfl.com
SUMMARY:Pinochle
DESCRIPTION:
URL:https://hillcrestrvresortfl.com/event/pinochle-4/
END:VEVENT
BEGIN:VEVENT
DTSTART;TZID=America/Chicago:20251208T180000
DTEND;TZID=America/Chicago:20251208T210000
DTSTAMP:20260423T180358
CREATED:20251129T152849Z
LAST-MODIFIED:20251129T152849Z
UID:18943-1765216800-1765227600@hillcrestrvresortfl.com
SUMMARY:Pinochle
DESCRIPTION:
URL:https://hillcrestrvresortfl.com/event/pinochle/
END:VEVENT
BEGIN:VEVENT
DTSTART;TZID=America/Chicago:20251208T180000
DTEND;TZID=America/Chicago:20251208T210000
DTSTAMP:20260423T180358
CREATED:20251128T203956Z
LAST-MODIFIED:20251128T203956Z
UID:18893-1765216800-1765227600@hillcrestrvresortfl.com
SUMMARY:Game Night
DESCRIPTION:
URL:https://hillcrestrvresortfl.com/event/game-night-80/
END:VEVENT
BEGIN:VEVENT
DTSTART;TZID=America/Chicago:20251208T180000
DTEND;TZID=America/Chicago:20251208T210000
DTSTAMP:20260423T180358
CREATED:20251128T151839Z
LAST-MODIFIED:20251128T151839Z
UID:18601-1765216800-1765227600@hillcrestrvresortfl.com
SUMMARY:Bingo
DESCRIPTION:
URL:https://hillcrestrvresortfl.com/event/bingo-66/
END:VEVENT
BEGIN:VEVENT
DTSTART;TZID=America/Chicago:20251208T150000
DTEND;TZID=America/Chicago:20251208T210000
DTSTAMP:20260423T180358
CREATED:20251129T152457Z
LAST-MODIFIED:20251129T152457Z
UID:18937-1765206000-1765227600@hillcrestrvresortfl.com
SUMMARY:Euchre
DESCRIPTION:
URL:https://hillcrestrvresortfl.com/event/euchre-9/
END:VEVENT
BEGIN:VEVENT
DTSTART;TZID=America/Chicago:20251208T130000
DTEND;TZID=America/Chicago:20251208T160000
DTSTAMP:20260423T180358
CREATED:20251128T151437Z
LAST-MODIFIED:20251128T151437Z
UID:18589-1765198800-1765209600@hillcrestrvresortfl.com
SUMMARY:Quilting/Sewing/Knitting/Crocheting
DESCRIPTION:
URL:https://hillcrestrvresortfl.com/event/quilting-sewing-knitting-crocheting-16/
END:VEVENT
BEGIN:VEVENT
DTSTART;TZID=America/Chicago:20251208T130000
DTEND;TZID=America/Chicago:20251208T150000
DTSTAMP:20260423T180358
CREATED:20251129T152235Z
LAST-MODIFIED:20251129T152235Z
UID:18929-1765198800-1765206000@hillcrestrvresortfl.com
SUMMARY:Cribbage
DESCRIPTION:
URL:https://hillcrestrvresortfl.com/event/cribbage-31/
END:VEVENT
BEGIN:VEVENT
DTSTART;TZID=America/Chicago:20251208T110000
DTEND;TZID=America/Chicago:20251208T130000
DTSTAMP:20260423T180358
CREATED:20251128T185947Z
LAST-MODIFIED:20251128T185947Z
UID:18803-1765191600-1765198800@hillcrestrvresortfl.com
SUMMARY:Crafts
DESCRIPTION:
URL:https://hillcrestrvresortfl.com/event/crafts-17/
END:VEVENT
BEGIN:VEVENT
DTSTART;TZID=America/Chicago:20251208T100000
DTEND;TZID=America/Chicago:20251208T110000
DTSTAMP:20260423T180358
CREATED:20251128T185716Z
LAST-MODIFIED:20251128T185716Z
UID:18795-1765188000-1765191600@hillcrestrvresortfl.com
SUMMARY:Dancercize
DESCRIPTION:
URL:https://hillcrestrvresortfl.com/event/dancercize/
END:VEVENT
BEGIN:VEVENT
DTSTART;TZID=America/Chicago:20251208T090000
DTEND;TZID=America/Chicago:20251208T120000
DTSTAMP:20260423T180358
CREATED:20251128T164934Z
LAST-MODIFIED:20251128T164934Z
UID:18685-1765184400-1765195200@hillcrestrvresortfl.com
SUMMARY:Horseshoes
DESCRIPTION:
URL:https://hillcrestrvresortfl.com/event/horseshoes-212/
END:VEVENT
BEGIN:VEVENT
DTSTART;TZID=America/Chicago:20251208T080000
DTEND;TZID=America/Chicago:20251208T120000
DTSTAMP:20260423T180358
CREATED:20251128T153903Z
LAST-MODIFIED:20251128T153903Z
UID:18627-1765180800-1765195200@hillcrestrvresortfl.com
SUMMARY:Pickleball
DESCRIPTION:
URL:https://hillcrestrvresortfl.com/event/pickleball-256/
END:VEVENT
BEGIN:VEVENT
DTSTART;TZID=America/Chicago:20251208T073000
DTEND;TZID=America/Chicago:20251208T090000
DTSTAMP:20260423T180358
CREATED:20251128T185443Z
LAST-MODIFIED:20251128T185443Z
UID:18787-1765179000-1765184400@hillcrestrvresortfl.com
SUMMARY:Breakfast
DESCRIPTION:
URL:https://hillcrestrvresortfl.com/event/breakfast-27/
END:VEVENT
BEGIN:VEVENT
DTSTART;TZID=America/Chicago:20251207T190000
DTEND;TZID=America/Chicago:20251207T200000
DTSTAMP:20260423T180358
CREATED:20251128T185144Z
LAST-MODIFIED:20251128T185144Z
UID:18781-1765134000-1765137600@hillcrestrvresortfl.com
SUMMARY:Music by "Just Friends"
DESCRIPTION:
URL:https://hillcrestrvresortfl.com/event/music-by-just-friends/
END:VEVENT
BEGIN:VEVENT
DTSTART;TZID=America/Chicago:20251207T180000
DTEND;TZID=America/Chicago:20251207T190000
DTSTAMP:20260423T180358
CREATED:20251128T184944Z
LAST-MODIFIED:20251128T184945Z
UID:18775-1765130400-1765134000@hillcrestrvresortfl.com
SUMMARY:Ice Cream Social
DESCRIPTION:
URL:https://hillcrestrvresortfl.com/event/ice-cream-social-23/
END:VEVENT
BEGIN:VEVENT
DTSTART;TZID=America/Chicago:20251207T100000
DTEND;TZID=America/Chicago:20251207T233000
DTSTAMP:20260423T180358
CREATED:20251128T205017Z
LAST-MODIFIED:20251128T205017Z
UID:18927-1765101600-1765150200@hillcrestrvresortfl.com
SUMMARY:Church
DESCRIPTION:
URL:https://hillcrestrvresortfl.com/event/church-44/
END:VEVENT
BEGIN:VEVENT
DTSTART;TZID=America/Chicago:20251207T080000
DTEND;TZID=America/Chicago:20251207T120000
DTSTAMP:20260423T180358
CREATED:20251128T153833Z
LAST-MODIFIED:20251128T153833Z
UID:18625-1765094400-1765108800@hillcrestrvresortfl.com
SUMMARY:Pickleball
DESCRIPTION:
URL:https://hillcrestrvresortfl.com/event/pickleball-255/
END:VEVENT
END:VCALENDAR