BEGIN:VCALENDAR
VERSION:2.0
PRODID:-//Hillcrest RV Resort - ECPv6.15.20//NONSGML v1.0//EN
CALSCALE:GREGORIAN
METHOD:PUBLISH
X-WR-CALNAME:Hillcrest RV Resort
X-ORIGINAL-URL:https://hillcrestrvresortfl.com
X-WR-CALDESC:Events for Hillcrest RV Resort
REFRESH-INTERVAL;VALUE=DURATION:PT1H
X-Robots-Tag:noindex
X-PUBLISHED-TTL:PT1H
BEGIN:VTIMEZONE
TZID:America/Chicago
BEGIN:DAYLIGHT
TZOFFSETFROM:-0600
TZOFFSETTO:-0500
TZNAME:CDT
DTSTART:20240310T080000
END:DAYLIGHT
BEGIN:STANDARD
TZOFFSETFROM:-0500
TZOFFSETTO:-0600
TZNAME:CST
DTSTART:20241103T070000
END:STANDARD
BEGIN:DAYLIGHT
TZOFFSETFROM:-0600
TZOFFSETTO:-0500
TZNAME:CDT
DTSTART:20250309T080000
END:DAYLIGHT
BEGIN:STANDARD
TZOFFSETFROM:-0500
TZOFFSETTO:-0600
TZNAME:CST
DTSTART:20251102T070000
END:STANDARD
BEGIN:DAYLIGHT
TZOFFSETFROM:-0600
TZOFFSETTO:-0500
TZNAME:CDT
DTSTART:20260308T080000
END:DAYLIGHT
BEGIN:STANDARD
TZOFFSETFROM:-0500
TZOFFSETTO:-0600
TZNAME:CST
DTSTART:20261101T070000
END:STANDARD
END:VTIMEZONE
BEGIN:VEVENT
DTSTART;TZID=America/Chicago:20250219T190000
DTEND;TZID=America/Chicago:20250219T220000
DTSTAMP:20260425T232906
CREATED:20250114T152313Z
LAST-MODIFIED:20250114T152313Z
UID:17562-1739991600-1740002400@hillcrestrvresortfl.com
SUMMARY:Legends of Voices
DESCRIPTION:
URL:https://hillcrestrvresortfl.com/event/legends-of-voices/
END:VEVENT
BEGIN:VEVENT
DTSTART;TZID=America/Chicago:20250219T180000
DTEND;TZID=America/Chicago:20250219T210000
DTSTAMP:20260425T232906
CREATED:20250115T201719Z
LAST-MODIFIED:20250115T201719Z
UID:17927-1739988000-1739998800@hillcrestrvresortfl.com
SUMMARY:Game Night
DESCRIPTION:
URL:https://hillcrestrvresortfl.com/event/game-night-61/
END:VEVENT
BEGIN:VEVENT
DTSTART;TZID=America/Chicago:20250219T103000
DTEND;TZID=America/Chicago:20250219T170000
DTSTAMP:20260425T232906
CREATED:20250116T170228Z
LAST-MODIFIED:20250116T170228Z
UID:18003-1739961000-1739984400@hillcrestrvresortfl.com
SUMMARY:Golf
DESCRIPTION:
URL:https://hillcrestrvresortfl.com/event/golf-16/
END:VEVENT
BEGIN:VEVENT
DTSTART;TZID=America/Chicago:20250219T100000
DTEND;TZID=America/Chicago:20250219T170000
DTSTAMP:20260425T232906
CREATED:20250115T195022Z
LAST-MODIFIED:20250115T195022Z
UID:17855-1739959200-1739984400@hillcrestrvresortfl.com
SUMMARY:Pentanque
DESCRIPTION:
URL:https://hillcrestrvresortfl.com/event/pentanque-129/
END:VEVENT
BEGIN:VEVENT
DTSTART;TZID=America/Chicago:20250219T100000
DTEND;TZID=America/Chicago:20250219T123000
DTSTAMP:20260425T232906
CREATED:20250115T204630Z
LAST-MODIFIED:20250115T204630Z
UID:17995-1739959200-1739968200@hillcrestrvresortfl.com
SUMMARY:Scrabble
DESCRIPTION:
URL:https://hillcrestrvresortfl.com/event/scrabble-30/
END:VEVENT
BEGIN:VEVENT
DTSTART;TZID=America/Chicago:20250219T100000
DTEND;TZID=America/Chicago:20250219T120000
DTSTAMP:20260425T232906
CREATED:20250115T201026Z
LAST-MODIFIED:20250115T201026Z
UID:17897-1739959200-1739966400@hillcrestrvresortfl.com
SUMMARY:Womens' Billiards
DESCRIPTION:
URL:https://hillcrestrvresortfl.com/event/womens-billiards-50/
END:VEVENT
BEGIN:VEVENT
DTSTART;TZID=America/Chicago:20250219T090000
DTEND;TZID=America/Chicago:20250219T170000
DTSTAMP:20260425T232906
CREATED:20250115T191735Z
LAST-MODIFIED:20250115T191735Z
UID:17763-1739955600-1739984400@hillcrestrvresortfl.com
SUMMARY:Shuffleboard
DESCRIPTION:
URL:https://hillcrestrvresortfl.com/event/shuffleboard-180/
END:VEVENT
BEGIN:VEVENT
DTSTART;TZID=America/Chicago:20250219T090000
DTEND;TZID=America/Chicago:20250219T170000
DTSTAMP:20260425T232906
CREATED:20250114T175227Z
LAST-MODIFIED:20250114T175227Z
UID:17720-1739955600-1739984400@hillcrestrvresortfl.com
SUMMARY:Horseshoes
DESCRIPTION:
URL:https://hillcrestrvresortfl.com/event/horseshoes-188/
END:VEVENT
BEGIN:VEVENT
DTSTART;TZID=America/Chicago:20250219T080000
DTEND;TZID=America/Chicago:20250219T220000
DTSTAMP:20260425T232906
CREATED:20250114T170449Z
LAST-MODIFIED:20250114T170449Z
UID:17670-1739952000-1740002400@hillcrestrvresortfl.com
SUMMARY:Pickleball
DESCRIPTION:
URL:https://hillcrestrvresortfl.com/event/pickleball-209/
END:VEVENT
BEGIN:VEVENT
DTSTART;TZID=America/Chicago:20250219T080000
DTEND;TZID=America/Chicago:20250219T120000
DTSTAMP:20260425T232906
CREATED:20250115T192423Z
LAST-MODIFIED:20250115T192423Z
UID:17803-1739952000-1739966400@hillcrestrvresortfl.com
SUMMARY:Water Aerobics
DESCRIPTION:
URL:https://hillcrestrvresortfl.com/event/water-aerobics-181/
END:VEVENT
BEGIN:VEVENT
DTSTART;TZID=America/Chicago:20250218T190000
DTEND;TZID=America/Chicago:20250218T213000
DTSTAMP:20260425T232906
CREATED:20250114T144602Z
LAST-MODIFIED:20250114T144602Z
UID:17532-1739905200-1739914200@hillcrestrvresortfl.com
SUMMARY:Karaoke
DESCRIPTION:
URL:https://hillcrestrvresortfl.com/event/karaoke-27/
END:VEVENT
BEGIN:VEVENT
DTSTART;TZID=America/Chicago:20250218T180000
DTEND;TZID=America/Chicago:20250218T210000
DTSTAMP:20260425T232906
CREATED:20250115T204132Z
LAST-MODIFIED:20250115T204132Z
UID:17983-1739901600-1739912400@hillcrestrvresortfl.com
SUMMARY:Texas Hold'Em
DESCRIPTION:
URL:https://hillcrestrvresortfl.com/event/texas-holdem-35/
END:VEVENT
BEGIN:VEVENT
DTSTART;TZID=America/Chicago:20250218T180000
DTEND;TZID=America/Chicago:20250218T210000
DTSTAMP:20260425T232906
CREATED:20250115T203722Z
LAST-MODIFIED:20250115T203722Z
UID:17967-1739901600-1739912400@hillcrestrvresortfl.com
SUMMARY:Bid Euchre
DESCRIPTION:
URL:https://hillcrestrvresortfl.com/event/bid-euchre-46/
END:VEVENT
BEGIN:VEVENT
DTSTART;TZID=America/Chicago:20250218T140000
DTEND;TZID=America/Chicago:20250218T160000
DTSTAMP:20260425T232906
CREATED:20250114T143245Z
LAST-MODIFIED:20250114T143245Z
UID:17522-1739887200-1739894400@hillcrestrvresortfl.com
SUMMARY:Jewelry Craft
DESCRIPTION:
URL:https://hillcrestrvresortfl.com/event/jewelry-craft-8/
END:VEVENT
BEGIN:VEVENT
DTSTART;TZID=America/Chicago:20250218T130000
DTEND;TZID=America/Chicago:20250218T150000
DTSTAMP:20260425T232906
CREATED:20250115T202426Z
LAST-MODIFIED:20250115T202426Z
UID:17945-1739883600-1739890800@hillcrestrvresortfl.com
SUMMARY:Men's Billiards
DESCRIPTION:
URL:https://hillcrestrvresortfl.com/event/mens-billiards-73/
END:VEVENT
BEGIN:VEVENT
DTSTART;TZID=America/Chicago:20250218T130000
DTEND;TZID=America/Chicago:20250218T150000
DTSTAMP:20260425T232906
CREATED:20250115T202400Z
LAST-MODIFIED:20250115T202400Z
UID:17943-1739883600-1739890800@hillcrestrvresortfl.com
SUMMARY:Men's Billiards
DESCRIPTION:
URL:https://hillcrestrvresortfl.com/event/mens-billiards-72/
END:VEVENT
BEGIN:VEVENT
DTSTART;TZID=America/Chicago:20250218T113000
DTEND;TZID=America/Chicago:20250218T130000
DTSTAMP:20260425T232906
CREATED:20250114T144748Z
LAST-MODIFIED:20250114T144748Z
UID:17538-1739878200-1739883600@hillcrestrvresortfl.com
SUMMARY:Red Hat Luncheon
DESCRIPTION:
URL:https://hillcrestrvresortfl.com/event/red-hat-luncheon-3/
END:VEVENT
BEGIN:VEVENT
DTSTART;TZID=America/Chicago:20250218T103000
DTEND;TZID=America/Chicago:20250218T123000
DTSTAMP:20260425T232906
CREATED:20250114T142618Z
LAST-MODIFIED:20250114T142618Z
UID:17516-1739874600-1739881800@hillcrestrvresortfl.com
SUMMARY:Advanced Line Dancing
DESCRIPTION:
URL:https://hillcrestrvresortfl.com/event/advanced-line-dancing-6/
END:VEVENT
BEGIN:VEVENT
DTSTART;TZID=America/Chicago:20250218T100000
DTEND;TZID=America/Chicago:20250218T170000
DTSTAMP:20260425T232906
CREATED:20250115T195006Z
LAST-MODIFIED:20250115T195006Z
UID:17853-1739872800-1739898000@hillcrestrvresortfl.com
SUMMARY:Pentanque
DESCRIPTION:
URL:https://hillcrestrvresortfl.com/event/pentanque-128/
END:VEVENT
BEGIN:VEVENT
DTSTART;TZID=America/Chicago:20250218T093000
DTEND;TZID=America/Chicago:20250218T103000
DTSTAMP:20260425T232906
CREATED:20250114T142357Z
LAST-MODIFIED:20250114T142357Z
UID:17508-1739871000-1739874600@hillcrestrvresortfl.com
SUMMARY:One Stop Shopping (OSS)
DESCRIPTION:
URL:https://hillcrestrvresortfl.com/event/one-stop-shopping-oss-7/
END:VEVENT
BEGIN:VEVENT
DTSTART;TZID=America/Chicago:20250218T090000
DTEND;TZID=America/Chicago:20250218T170000
DTSTAMP:20260425T232906
CREATED:20250115T191718Z
LAST-MODIFIED:20250115T191718Z
UID:17761-1739869200-1739898000@hillcrestrvresortfl.com
SUMMARY:Shuffleboard
DESCRIPTION:
URL:https://hillcrestrvresortfl.com/event/shuffleboard-179/
END:VEVENT
BEGIN:VEVENT
DTSTART;TZID=America/Chicago:20250218T090000
DTEND;TZID=America/Chicago:20250218T170000
DTSTAMP:20260425T232906
CREATED:20250114T175209Z
LAST-MODIFIED:20250114T175209Z
UID:17718-1739869200-1739898000@hillcrestrvresortfl.com
SUMMARY:Horseshoes
DESCRIPTION:
URL:https://hillcrestrvresortfl.com/event/horseshoes-187/
END:VEVENT
BEGIN:VEVENT
DTSTART;TZID=America/Chicago:20250218T080000
DTEND;TZID=America/Chicago:20250218T220000
DTSTAMP:20260425T232906
CREATED:20250114T170416Z
LAST-MODIFIED:20250114T170416Z
UID:17668-1739865600-1739916000@hillcrestrvresortfl.com
SUMMARY:Pickleball
DESCRIPTION:
URL:https://hillcrestrvresortfl.com/event/pickleball-208/
END:VEVENT
BEGIN:VEVENT
DTSTART;TZID=America/Chicago:20250218T080000
DTEND;TZID=America/Chicago:20250218T120000
DTSTAMP:20260425T232906
CREATED:20250115T192404Z
LAST-MODIFIED:20250115T192404Z
UID:17801-1739865600-1739880000@hillcrestrvresortfl.com
SUMMARY:Water Aerobics
DESCRIPTION:
URL:https://hillcrestrvresortfl.com/event/water-aerobics-180/
END:VEVENT
BEGIN:VEVENT
DTSTART;TZID=America/Chicago:20250217T183000
DTEND;TZID=America/Chicago:20250217T213000
DTSTAMP:20260425T232906
CREATED:20250114T141715Z
LAST-MODIFIED:20250114T141715Z
UID:17494-1739817000-1739827800@hillcrestrvresortfl.com
SUMMARY:Bingo
DESCRIPTION:
URL:https://hillcrestrvresortfl.com/event/bingo-55/
END:VEVENT
BEGIN:VEVENT
DTSTART;TZID=America/Chicago:20250217T180000
DTEND;TZID=America/Chicago:20250217T210000
DTSTAMP:20260425T232906
CREATED:20250115T202039Z
LAST-MODIFIED:20250115T202039Z
UID:17935-1739815200-1739826000@hillcrestrvresortfl.com
SUMMARY:Mixed Billiards
DESCRIPTION:
URL:https://hillcrestrvresortfl.com/event/mixed-billiards-18/
END:VEVENT
BEGIN:VEVENT
DTSTART;TZID=America/Chicago:20250217T180000
DTEND;TZID=America/Chicago:20250217T210000
DTSTAMP:20260425T232906
CREATED:20250115T201518Z
LAST-MODIFIED:20250115T201518Z
UID:17919-1739815200-1739826000@hillcrestrvresortfl.com
SUMMARY:Game Night
DESCRIPTION:
URL:https://hillcrestrvresortfl.com/event/game-night-57/
END:VEVENT
BEGIN:VEVENT
DTSTART;TZID=America/Chicago:20250217T130000
DTEND;TZID=America/Chicago:20250217T180000
DTSTAMP:20260425T232906
CREATED:20250115T201322Z
LAST-MODIFIED:20250115T201322Z
UID:17911-1739797200-1739815200@hillcrestrvresortfl.com
SUMMARY:Cribbage
DESCRIPTION:
URL:https://hillcrestrvresortfl.com/event/cribbage-25/
END:VEVENT
BEGIN:VEVENT
DTSTART;TZID=America/Chicago:20250217T130000
DTEND;TZID=America/Chicago:20250217T170000
DTSTAMP:20260425T232906
CREATED:20250114T141451Z
LAST-MODIFIED:20250114T141451Z
UID:17486-1739797200-1739811600@hillcrestrvresortfl.com
SUMMARY:Watercolor
DESCRIPTION:
URL:https://hillcrestrvresortfl.com/event/watercolor-7/
END:VEVENT
BEGIN:VEVENT
DTSTART;TZID=America/Chicago:20250217T130000
DTEND;TZID=America/Chicago:20250217T170000
DTSTAMP:20260425T232906
CREATED:20250114T141116Z
LAST-MODIFIED:20250114T141116Z
UID:17478-1739797200-1739811600@hillcrestrvresortfl.com
SUMMARY:Quilting Sewing Knitting Crocheting
DESCRIPTION:
URL:https://hillcrestrvresortfl.com/event/quilting-sewing-knitting-crocheting-13/
END:VEVENT
END:VCALENDAR