BEGIN:VCALENDAR
VERSION:2.0
PRODID:-//Hillcrest RV Resort - ECPv6.15.20//NONSGML v1.0//EN
CALSCALE:GREGORIAN
METHOD:PUBLISH
X-WR-CALNAME:Hillcrest RV Resort
X-ORIGINAL-URL:https://hillcrestrvresortfl.com
X-WR-CALDESC:Events for Hillcrest RV Resort
REFRESH-INTERVAL;VALUE=DURATION:PT1H
X-Robots-Tag:noindex
X-PUBLISHED-TTL:PT1H
BEGIN:VTIMEZONE
TZID:America/Chicago
BEGIN:DAYLIGHT
TZOFFSETFROM:-0600
TZOFFSETTO:-0500
TZNAME:CDT
DTSTART:20240310T080000
END:DAYLIGHT
BEGIN:STANDARD
TZOFFSETFROM:-0500
TZOFFSETTO:-0600
TZNAME:CST
DTSTART:20241103T070000
END:STANDARD
BEGIN:DAYLIGHT
TZOFFSETFROM:-0600
TZOFFSETTO:-0500
TZNAME:CDT
DTSTART:20250309T080000
END:DAYLIGHT
BEGIN:STANDARD
TZOFFSETFROM:-0500
TZOFFSETTO:-0600
TZNAME:CST
DTSTART:20251102T070000
END:STANDARD
BEGIN:DAYLIGHT
TZOFFSETFROM:-0600
TZOFFSETTO:-0500
TZNAME:CDT
DTSTART:20260308T080000
END:DAYLIGHT
BEGIN:STANDARD
TZOFFSETFROM:-0500
TZOFFSETTO:-0600
TZNAME:CST
DTSTART:20261101T070000
END:STANDARD
END:VTIMEZONE
BEGIN:VEVENT
DTSTART;TZID=America/Chicago:20250215T170000
DTEND;TZID=America/Chicago:20250215T190000
DTSTAMP:20260425T232529
CREATED:20250114T165435Z
LAST-MODIFIED:20250114T165435Z
UID:17628-1739638800-1739646000@hillcrestrvresortfl.com
SUMMARY:Spaghetti Dinner
DESCRIPTION:
URL:https://hillcrestrvresortfl.com/event/spaghetti-dinner-3/
END:VEVENT
BEGIN:VEVENT
DTSTART;TZID=America/Chicago:20250215T130000
DTEND;TZID=America/Chicago:20250215T170000
DTSTAMP:20260425T232529
CREATED:20250116T170632Z
LAST-MODIFIED:20250116T170632Z
UID:18023-1739624400-1739638800@hillcrestrvresortfl.com
SUMMARY:Sinspiration
DESCRIPTION:
URL:https://hillcrestrvresortfl.com/event/sinspiration/
END:VEVENT
BEGIN:VEVENT
DTSTART;TZID=America/Chicago:20250215T100000
DTEND;TZID=America/Chicago:20250215T170000
DTSTAMP:20260425T232529
CREATED:20250115T194909Z
LAST-MODIFIED:20250115T194909Z
UID:17847-1739613600-1739638800@hillcrestrvresortfl.com
SUMMARY:Pentanque
DESCRIPTION:
URL:https://hillcrestrvresortfl.com/event/pentanque-125/
END:VEVENT
BEGIN:VEVENT
DTSTART;TZID=America/Chicago:20250215T090000
DTEND;TZID=America/Chicago:20250215T170000
DTSTAMP:20260425T232529
CREATED:20250114T175132Z
LAST-MODIFIED:20250114T175132Z
UID:17714-1739610000-1739638800@hillcrestrvresortfl.com
SUMMARY:Horseshoes
DESCRIPTION:
URL:https://hillcrestrvresortfl.com/event/horseshoes-185/
END:VEVENT
BEGIN:VEVENT
DTSTART;TZID=America/Chicago:20250215T080000
DTEND;TZID=America/Chicago:20250215T220000
DTSTAMP:20260425T232529
CREATED:20250114T170212Z
LAST-MODIFIED:20250114T170212Z
UID:17662-1739606400-1739656800@hillcrestrvresortfl.com
SUMMARY:Pickleball
DESCRIPTION:
URL:https://hillcrestrvresortfl.com/event/pickleball-205/
END:VEVENT
BEGIN:VEVENT
DTSTART;TZID=America/Chicago:20250214T130000
DTEND;TZID=America/Chicago:20250214T170000
DTSTAMP:20260425T232529
CREATED:20250116T170524Z
LAST-MODIFIED:20250116T170524Z
UID:18017-1739538000-1739552400@hillcrestrvresortfl.com
SUMMARY:Bowling
DESCRIPTION:
URL:https://hillcrestrvresortfl.com/event/bowling-34/
END:VEVENT
BEGIN:VEVENT
DTSTART;TZID=America/Chicago:20250214T130000
DTEND;TZID=America/Chicago:20250214T150000
DTSTAMP:20260425T232529
CREATED:20250115T202705Z
LAST-MODIFIED:20250115T202705Z
UID:17957-1739538000-1739545200@hillcrestrvresortfl.com
SUMMARY:Men's Billiards
DESCRIPTION:
URL:https://hillcrestrvresortfl.com/event/mens-billiards-79/
END:VEVENT
BEGIN:VEVENT
DTSTART;TZID=America/Chicago:20250214T100000
DTEND;TZID=America/Chicago:20250214T170000
DTSTAMP:20260425T232529
CREATED:20250115T194852Z
LAST-MODIFIED:20250115T194852Z
UID:17845-1739527200-1739552400@hillcrestrvresortfl.com
SUMMARY:Pentanque
DESCRIPTION:
URL:https://hillcrestrvresortfl.com/event/pentanque-124/
END:VEVENT
BEGIN:VEVENT
DTSTART;TZID=America/Chicago:20250214T100000
DTEND;TZID=America/Chicago:20250214T120000
DTSTAMP:20260425T232529
CREATED:20250115T200938Z
LAST-MODIFIED:20250115T200938Z
UID:17893-1739527200-1739534400@hillcrestrvresortfl.com
SUMMARY:Womens' Billiards
DESCRIPTION:
URL:https://hillcrestrvresortfl.com/event/womens-billiards-48/
END:VEVENT
BEGIN:VEVENT
DTSTART;TZID=America/Chicago:20250214T090000
DTEND;TZID=America/Chicago:20250214T170000
DTSTAMP:20260425T232529
CREATED:20250115T191644Z
LAST-MODIFIED:20250115T191644Z
UID:17757-1739523600-1739552400@hillcrestrvresortfl.com
SUMMARY:Shuffleboard
DESCRIPTION:
URL:https://hillcrestrvresortfl.com/event/shuffleboard-177/
END:VEVENT
BEGIN:VEVENT
DTSTART;TZID=America/Chicago:20250214T090000
DTEND;TZID=America/Chicago:20250214T170000
DTSTAMP:20260425T232529
CREATED:20250114T175115Z
LAST-MODIFIED:20250114T175115Z
UID:17712-1739523600-1739552400@hillcrestrvresortfl.com
SUMMARY:Horseshoes
DESCRIPTION:
URL:https://hillcrestrvresortfl.com/event/horseshoes-184/
END:VEVENT
BEGIN:VEVENT
DTSTART;TZID=America/Chicago:20250214T080000
DTEND;TZID=America/Chicago:20250214T220000
DTSTAMP:20260425T232529
CREATED:20250114T170152Z
LAST-MODIFIED:20250114T170152Z
UID:17660-1739520000-1739570400@hillcrestrvresortfl.com
SUMMARY:Pickleball
DESCRIPTION:
URL:https://hillcrestrvresortfl.com/event/pickleball-204/
END:VEVENT
BEGIN:VEVENT
DTSTART;TZID=America/Chicago:20250214T080000
DTEND;TZID=America/Chicago:20250214T120000
DTSTAMP:20260425T232529
CREATED:20250115T192315Z
LAST-MODIFIED:20250115T192315Z
UID:17797-1739520000-1739534400@hillcrestrvresortfl.com
SUMMARY:Water Aerobics
DESCRIPTION:
URL:https://hillcrestrvresortfl.com/event/water-aerobics-178/
END:VEVENT
BEGIN:VEVENT
DTSTART;VALUE=DATE:20250214
DTEND;VALUE=DATE:20250215
DTSTAMP:20260425T232529
CREATED:20250114T154226Z
LAST-MODIFIED:20250114T154226Z
UID:17606-1739491200-1739577599@hillcrestrvresortfl.com
SUMMARY:Setup for Spaghetti Dinner
DESCRIPTION:
URL:https://hillcrestrvresortfl.com/event/setup-for-spaghetti-dinner/
END:VEVENT
BEGIN:VEVENT
DTSTART;TZID=America/Chicago:20250213T183000
DTEND;TZID=America/Chicago:20250213T210000
DTSTAMP:20260425T232529
CREATED:20250115T202524Z
LAST-MODIFIED:20250115T202524Z
UID:17949-1739471400-1739480400@hillcrestrvresortfl.com
SUMMARY:Men's Billiards
DESCRIPTION:
URL:https://hillcrestrvresortfl.com/event/mens-billiards-75/
END:VEVENT
BEGIN:VEVENT
DTSTART;TZID=America/Chicago:20250213T183000
DTEND;TZID=America/Chicago:20250213T210000
DTSTAMP:20260425T232529
CREATED:20250114T153517Z
LAST-MODIFIED:20250114T153517Z
UID:17598-1739471400-1739480400@hillcrestrvresortfl.com
SUMMARY:Bingo
DESCRIPTION:
URL:https://hillcrestrvresortfl.com/event/bingo-58/
END:VEVENT
BEGIN:VEVENT
DTSTART;TZID=America/Chicago:20250213T180000
DTEND;TZID=America/Chicago:20250213T210000
DTSTAMP:20260425T232529
CREATED:20250115T203855Z
LAST-MODIFIED:20250115T203855Z
UID:17973-1739469600-1739480400@hillcrestrvresortfl.com
SUMMARY:Bid Euchre
DESCRIPTION:
URL:https://hillcrestrvresortfl.com/event/bid-euchre-49/
END:VEVENT
BEGIN:VEVENT
DTSTART;TZID=America/Chicago:20250213T150000
DTEND;TZID=America/Chicago:20250213T170000
DTSTAMP:20260425T232529
CREATED:20250114T153252Z
LAST-MODIFIED:20250114T153252Z
UID:17590-1739458800-1739466000@hillcrestrvresortfl.com
SUMMARY:Acoustic Jam
DESCRIPTION:
URL:https://hillcrestrvresortfl.com/event/acoustic-jam-30/
END:VEVENT
BEGIN:VEVENT
DTSTART;TZID=America/Chicago:20250213T130000
DTEND;TZID=America/Chicago:20250213T150000
DTSTAMP:20260425T232529
CREATED:20250114T153132Z
LAST-MODIFIED:20250114T153132Z
UID:17584-1739451600-1739458800@hillcrestrvresortfl.com
SUMMARY:Line Dancing
DESCRIPTION:
URL:https://hillcrestrvresortfl.com/event/line-dancing-23/
END:VEVENT
BEGIN:VEVENT
DTSTART;TZID=America/Chicago:20250213T110000
DTEND;TZID=America/Chicago:20250213T130000
DTSTAMP:20260425T232529
CREATED:20250114T152654Z
LAST-MODIFIED:20250114T152654Z
UID:17576-1739444400-1739451600@hillcrestrvresortfl.com
SUMMARY:Cornhole
DESCRIPTION:
URL:https://hillcrestrvresortfl.com/event/cornhole-11/
END:VEVENT
BEGIN:VEVENT
DTSTART;TZID=America/Chicago:20250213T100000
DTEND;TZID=America/Chicago:20250213T170000
DTSTAMP:20260425T232529
CREATED:20250115T194831Z
LAST-MODIFIED:20250115T194831Z
UID:17843-1739440800-1739466000@hillcrestrvresortfl.com
SUMMARY:Pentanque
DESCRIPTION:
URL:https://hillcrestrvresortfl.com/event/pentanque-123/
END:VEVENT
BEGIN:VEVENT
DTSTART;TZID=America/Chicago:20250213T100000
DTEND;TZID=America/Chicago:20250213T113000
DTSTAMP:20260425T232529
CREATED:20250114T152510Z
LAST-MODIFIED:20250114T152510Z
UID:17568-1739440800-1739446200@hillcrestrvresortfl.com
SUMMARY:Drumming Exercises
DESCRIPTION:
URL:https://hillcrestrvresortfl.com/event/drumming-exercises-6/
END:VEVENT
BEGIN:VEVENT
DTSTART;TZID=America/Chicago:20250213T090000
DTEND;TZID=America/Chicago:20250213T170000
DTSTAMP:20260425T232529
CREATED:20250115T191627Z
LAST-MODIFIED:20250115T191627Z
UID:17755-1739437200-1739466000@hillcrestrvresortfl.com
SUMMARY:Shuffleboard
DESCRIPTION:
URL:https://hillcrestrvresortfl.com/event/shuffleboard-176/
END:VEVENT
BEGIN:VEVENT
DTSTART;TZID=America/Chicago:20250213T090000
DTEND;TZID=America/Chicago:20250213T170000
DTSTAMP:20260425T232529
CREATED:20250114T175058Z
LAST-MODIFIED:20250114T175058Z
UID:17710-1739437200-1739466000@hillcrestrvresortfl.com
SUMMARY:Horseshoes
DESCRIPTION:
URL:https://hillcrestrvresortfl.com/event/horseshoes-183/
END:VEVENT
BEGIN:VEVENT
DTSTART;TZID=America/Chicago:20250213T090000
DTEND;TZID=America/Chicago:20250213T103000
DTSTAMP:20260425T232529
CREATED:20250116T170350Z
LAST-MODIFIED:20250116T170350Z
UID:18009-1739437200-1739442600@hillcrestrvresortfl.com
SUMMARY:Choir Practice
DESCRIPTION:
URL:https://hillcrestrvresortfl.com/event/choir-practice-15/
END:VEVENT
BEGIN:VEVENT
DTSTART;TZID=America/Chicago:20250213T080000
DTEND;TZID=America/Chicago:20250213T220000
DTSTAMP:20260425T232529
CREATED:20250114T170133Z
LAST-MODIFIED:20250114T170133Z
UID:17658-1739433600-1739484000@hillcrestrvresortfl.com
SUMMARY:Pickleball
DESCRIPTION:
URL:https://hillcrestrvresortfl.com/event/pickleball-203/
END:VEVENT
BEGIN:VEVENT
DTSTART;TZID=America/Chicago:20250213T080000
DTEND;TZID=America/Chicago:20250213T120000
DTSTAMP:20260425T232529
CREATED:20250115T192256Z
LAST-MODIFIED:20250115T192256Z
UID:17795-1739433600-1739448000@hillcrestrvresortfl.com
SUMMARY:Water Aerobics
DESCRIPTION:
URL:https://hillcrestrvresortfl.com/event/water-aerobics-177/
END:VEVENT
BEGIN:VEVENT
DTSTART;TZID=America/Chicago:20250212T180000
DTEND;TZID=America/Chicago:20250212T210000
DTSTAMP:20260425T232529
CREATED:20250115T201654Z
LAST-MODIFIED:20250115T201654Z
UID:17925-1739383200-1739394000@hillcrestrvresortfl.com
SUMMARY:Game Night
DESCRIPTION:
URL:https://hillcrestrvresortfl.com/event/game-night-60/
END:VEVENT
BEGIN:VEVENT
DTSTART;TZID=America/Chicago:20250212T180000
DTEND;TZID=America/Chicago:20250212T210000
DTSTAMP:20260425T232529
CREATED:20250114T152240Z
LAST-MODIFIED:20250114T152240Z
UID:17560-1739383200-1739394000@hillcrestrvresortfl.com
SUMMARY:Darts
DESCRIPTION:
URL:https://hillcrestrvresortfl.com/event/darts-22/
END:VEVENT
BEGIN:VEVENT
DTSTART;TZID=America/Chicago:20250212T130000
DTEND;TZID=America/Chicago:20250212T150000
DTSTAMP:20260425T232529
CREATED:20250114T152122Z
LAST-MODIFIED:20250114T152122Z
UID:17554-1739365200-1739372400@hillcrestrvresortfl.com
SUMMARY:Fiddler's Jam
DESCRIPTION:
URL:https://hillcrestrvresortfl.com/event/fiddlers-jam-25/
END:VEVENT
END:VCALENDAR