BEGIN:VCALENDAR
VERSION:2.0
PRODID:-//Hillcrest RV Resort - ECPv6.15.20//NONSGML v1.0//EN
CALSCALE:GREGORIAN
METHOD:PUBLISH
X-WR-CALNAME:Hillcrest RV Resort
X-ORIGINAL-URL:https://hillcrestrvresortfl.com
X-WR-CALDESC:Events for Hillcrest RV Resort
REFRESH-INTERVAL;VALUE=DURATION:PT1H
X-Robots-Tag:noindex
X-PUBLISHED-TTL:PT1H
BEGIN:VTIMEZONE
TZID:America/Chicago
BEGIN:DAYLIGHT
TZOFFSETFROM:-0600
TZOFFSETTO:-0500
TZNAME:CDT
DTSTART:20250309T080000
END:DAYLIGHT
BEGIN:STANDARD
TZOFFSETFROM:-0500
TZOFFSETTO:-0600
TZNAME:CST
DTSTART:20251102T070000
END:STANDARD
BEGIN:DAYLIGHT
TZOFFSETFROM:-0600
TZOFFSETTO:-0500
TZNAME:CDT
DTSTART:20260308T080000
END:DAYLIGHT
BEGIN:STANDARD
TZOFFSETFROM:-0500
TZOFFSETTO:-0600
TZNAME:CST
DTSTART:20261101T070000
END:STANDARD
BEGIN:DAYLIGHT
TZOFFSETFROM:-0600
TZOFFSETTO:-0500
TZNAME:CDT
DTSTART:20270314T080000
END:DAYLIGHT
BEGIN:STANDARD
TZOFFSETFROM:-0500
TZOFFSETTO:-0600
TZNAME:CST
DTSTART:20271107T070000
END:STANDARD
END:VTIMEZONE
BEGIN:VEVENT
DTSTART;TZID=America/Chicago:20260302T080000
DTEND;TZID=America/Chicago:20260302T103000
DTSTAMP:20260423T112444
CREATED:20260305T135856Z
LAST-MODIFIED:20260305T135856Z
UID:19779-1772438400-1772447400@hillcrestrvresortfl.com
SUMMARY:Coffee & Donuts/Association Meeting
DESCRIPTION:
URL:https://hillcrestrvresortfl.com/event/coffee-donuts-association-meeting/
END:VEVENT
BEGIN:VEVENT
DTSTART;TZID=America/Chicago:20260302T130000
DTEND;TZID=America/Chicago:20260302T160000
DTSTAMP:20260423T112444
CREATED:20260305T135952Z
LAST-MODIFIED:20260305T135952Z
UID:19781-1772456400-1772467200@hillcrestrvresortfl.com
SUMMARY:Quilting/Sewing/Knitting/Crocheting
DESCRIPTION:
URL:https://hillcrestrvresortfl.com/event/quilting-sewing-knitting-crocheting-28/
END:VEVENT
BEGIN:VEVENT
DTSTART;TZID=America/Chicago:20260302T130000
DTEND;TZID=America/Chicago:20260302T160000
DTSTAMP:20260423T112444
CREATED:20260305T140236Z
LAST-MODIFIED:20260305T140236Z
UID:19791-1772456400-1772467200@hillcrestrvresortfl.com
SUMMARY:Watercolor
DESCRIPTION:
URL:https://hillcrestrvresortfl.com/event/watercolor-17/
END:VEVENT
BEGIN:VEVENT
DTSTART;TZID=America/Chicago:20260302T180000
DTEND;TZID=America/Chicago:20260302T210000
DTSTAMP:20260423T112444
CREATED:20260305T140451Z
LAST-MODIFIED:20260305T140451Z
UID:19801-1772474400-1772485200@hillcrestrvresortfl.com
SUMMARY:Bingo
DESCRIPTION:
URL:https://hillcrestrvresortfl.com/event/bingo-87/
END:VEVENT
END:VCALENDAR