BEGIN:VCALENDAR
VERSION:2.0
PRODID:-//Hillcrest RV Resort - ECPv6.15.20//NONSGML v1.0//EN
CALSCALE:GREGORIAN
METHOD:PUBLISH
X-ORIGINAL-URL:https://hillcrestrvresortfl.com
X-WR-CALDESC:Events for Hillcrest RV Resort
REFRESH-INTERVAL;VALUE=DURATION:PT1H
X-Robots-Tag:noindex
X-PUBLISHED-TTL:PT1H
BEGIN:VTIMEZONE
TZID:America/Chicago
BEGIN:DAYLIGHT
TZOFFSETFROM:-0600
TZOFFSETTO:-0500
TZNAME:CDT
DTSTART:20250309T080000
END:DAYLIGHT
BEGIN:STANDARD
TZOFFSETFROM:-0500
TZOFFSETTO:-0600
TZNAME:CST
DTSTART:20251102T070000
END:STANDARD
BEGIN:DAYLIGHT
TZOFFSETFROM:-0600
TZOFFSETTO:-0500
TZNAME:CDT
DTSTART:20260308T080000
END:DAYLIGHT
BEGIN:STANDARD
TZOFFSETFROM:-0500
TZOFFSETTO:-0600
TZNAME:CST
DTSTART:20261101T070000
END:STANDARD
BEGIN:DAYLIGHT
TZOFFSETFROM:-0600
TZOFFSETTO:-0500
TZNAME:CDT
DTSTART:20270314T080000
END:DAYLIGHT
BEGIN:STANDARD
TZOFFSETFROM:-0500
TZOFFSETTO:-0600
TZNAME:CST
DTSTART:20271107T070000
END:STANDARD
END:VTIMEZONE
BEGIN:VEVENT
DTSTART;TZID=America/Chicago:20260129T080000
DTEND;TZID=America/Chicago:20260129T170000
DTSTAMP:20260423T124531
CREATED:20260102T204517Z
LAST-MODIFIED:20260102T204517Z
UID:19352-1769673600-1769706000@hillcrestrvresortfl.com
SUMMARY:Pickleball
DESCRIPTION:
URL:https://hillcrestrvresortfl.com/event/pickleball-308/
END:VEVENT
BEGIN:VEVENT
DTSTART;TZID=America/Chicago:20260129T083000
DTEND;TZID=America/Chicago:20260129T093000
DTSTAMP:20260423T124531
CREATED:20260102T170756Z
LAST-MODIFIED:20260102T170756Z
UID:19154-1769675400-1769679000@hillcrestrvresortfl.com
SUMMARY:Choir Practice
DESCRIPTION:
URL:https://hillcrestrvresortfl.com/event/choir-practice-33/
END:VEVENT
BEGIN:VEVENT
DTSTART;TZID=America/Chicago:20260129T090000
DTEND;TZID=America/Chicago:20260129T110000
DTSTAMP:20260423T124531
CREATED:20260107T131429Z
LAST-MODIFIED:20260107T131429Z
UID:19407-1769677200-1769684400@hillcrestrvresortfl.com
SUMMARY:Horseshoes
DESCRIPTION:
URL:https://hillcrestrvresortfl.com/event/horseshoes-253/
END:VEVENT
BEGIN:VEVENT
DTSTART;TZID=America/Chicago:20260129T090000
DTEND;TZID=America/Chicago:20260129T120000
DTSTAMP:20260423T124531
CREATED:20260102T134925Z
LAST-MODIFIED:20260102T134925Z
UID:19078-1769677200-1769688000@hillcrestrvresortfl.com
SUMMARY:Water Exercises
DESCRIPTION:
URL:https://hillcrestrvresortfl.com/event/water-exercises-25/
END:VEVENT
BEGIN:VEVENT
DTSTART;TZID=America/Chicago:20260129T093000
DTEND;TZID=America/Chicago:20260129T110000
DTSTAMP:20260423T124531
CREATED:20260102T133628Z
LAST-MODIFIED:20260102T133628Z
UID:19022-1769679000-1769684400@hillcrestrvresortfl.com
SUMMARY:Shuffleboard
DESCRIPTION:
URL:https://hillcrestrvresortfl.com/event/shuffleboard-257/
END:VEVENT
BEGIN:VEVENT
DTSTART;TZID=America/Chicago:20260129T100000
DTEND;TZID=America/Chicago:20260129T110000
DTSTAMP:20260423T124531
CREATED:20260107T165532Z
LAST-MODIFIED:20260107T165532Z
UID:19549-1769680800-1769684400@hillcrestrvresortfl.com
SUMMARY:Drumming Classes
DESCRIPTION:
URL:https://hillcrestrvresortfl.com/event/drumming-classes-4/
END:VEVENT
BEGIN:VEVENT
DTSTART;TZID=America/Chicago:20260129T100000
DTEND;TZID=America/Chicago:20260129T120000
DTSTAMP:20260423T124531
CREATED:20260102T142742Z
LAST-MODIFIED:20260102T142742Z
UID:19140-1769680800-1769688000@hillcrestrvresortfl.com
SUMMARY:Pentanque
DESCRIPTION:
URL:https://hillcrestrvresortfl.com/event/pentanque-198/
END:VEVENT
BEGIN:VEVENT
DTSTART;TZID=America/Chicago:20260129T130000
DTEND;TZID=America/Chicago:20260129T143000
DTSTAMP:20260423T124531
CREATED:20260107T133349Z
LAST-MODIFIED:20260107T133349Z
UID:19421-1769691600-1769697000@hillcrestrvresortfl.com
SUMMARY:Line Dancing W/Dena
DESCRIPTION:
URL:https://hillcrestrvresortfl.com/event/line-dancing-w-dena-13/
END:VEVENT
BEGIN:VEVENT
DTSTART;TZID=America/Chicago:20260129T150000
DTEND;TZID=America/Chicago:20260129T170000
DTSTAMP:20260423T124531
CREATED:20260107T134833Z
LAST-MODIFIED:20260107T134833Z
UID:19431-1769698800-1769706000@hillcrestrvresortfl.com
SUMMARY:Acoustic Jam
DESCRIPTION:
URL:https://hillcrestrvresortfl.com/event/acoustic-jam-43/
END:VEVENT
BEGIN:VEVENT
DTSTART;TZID=America/Chicago:20260129T180000
DTEND;TZID=America/Chicago:20260129T210000
DTSTAMP:20260423T124531
CREATED:20260102T171504Z
LAST-MODIFIED:20260102T171504Z
UID:19172-1769709600-1769720400@hillcrestrvresortfl.com
SUMMARY:Bid Euchre
DESCRIPTION:
URL:https://hillcrestrvresortfl.com/event/bid-euchre-76/
END:VEVENT
BEGIN:VEVENT
DTSTART;TZID=America/Chicago:20260129T180000
DTEND;TZID=America/Chicago:20260129T210000
DTSTAMP:20260423T124531
CREATED:20260102T202755Z
LAST-MODIFIED:20260102T202755Z
UID:19294-1769709600-1769720400@hillcrestrvresortfl.com
SUMMARY:Texas Hold'Em
DESCRIPTION:
URL:https://hillcrestrvresortfl.com/event/texas-holdem-51/
END:VEVENT
BEGIN:VEVENT
DTSTART;TZID=America/Chicago:20260129T183000
DTEND;TZID=America/Chicago:20260129T210000
DTSTAMP:20260423T124531
CREATED:20260107T174609Z
LAST-MODIFIED:20260107T174609Z
UID:19557-1769711400-1769720400@hillcrestrvresortfl.com
SUMMARY:Bingo
DESCRIPTION:
URL:https://hillcrestrvresortfl.com/event/bingo-75/
END:VEVENT
END:VCALENDAR