BEGIN:VCALENDAR
VERSION:2.0
PRODID:-//Hillcrest RV Resort - ECPv6.15.20//NONSGML v1.0//EN
CALSCALE:GREGORIAN
METHOD:PUBLISH
X-WR-CALNAME:Hillcrest RV Resort
X-ORIGINAL-URL:https://hillcrestrvresortfl.com
X-WR-CALDESC:Events for Hillcrest RV Resort
REFRESH-INTERVAL;VALUE=DURATION:PT1H
X-Robots-Tag:noindex
X-PUBLISHED-TTL:PT1H
BEGIN:VTIMEZONE
TZID:America/Chicago
BEGIN:DAYLIGHT
TZOFFSETFROM:-0600
TZOFFSETTO:-0500
TZNAME:CDT
DTSTART:20250309T080000
END:DAYLIGHT
BEGIN:STANDARD
TZOFFSETFROM:-0500
TZOFFSETTO:-0600
TZNAME:CST
DTSTART:20251102T070000
END:STANDARD
BEGIN:DAYLIGHT
TZOFFSETFROM:-0600
TZOFFSETTO:-0500
TZNAME:CDT
DTSTART:20260308T080000
END:DAYLIGHT
BEGIN:STANDARD
TZOFFSETFROM:-0500
TZOFFSETTO:-0600
TZNAME:CST
DTSTART:20261101T070000
END:STANDARD
BEGIN:DAYLIGHT
TZOFFSETFROM:-0600
TZOFFSETTO:-0500
TZNAME:CDT
DTSTART:20270314T080000
END:DAYLIGHT
BEGIN:STANDARD
TZOFFSETFROM:-0500
TZOFFSETTO:-0600
TZNAME:CST
DTSTART:20271107T070000
END:STANDARD
END:VTIMEZONE
BEGIN:VEVENT
DTSTART;TZID=America/Chicago:20260126T073000
DTEND;TZID=America/Chicago:20260126T083000
DTSTAMP:20260423T124358
CREATED:20260107T154746Z
LAST-MODIFIED:20260107T154746Z
UID:19491-1769412600-1769416200@hillcrestrvresortfl.com
SUMMARY:Breakfast
DESCRIPTION:
URL:https://hillcrestrvresortfl.com/event/breakfast-33/
END:VEVENT
BEGIN:VEVENT
DTSTART;TZID=America/Chicago:20260126T080000
DTEND;TZID=America/Chicago:20260126T170000
DTSTAMP:20260423T124358
CREATED:20260102T204436Z
LAST-MODIFIED:20260102T204436Z
UID:19346-1769414400-1769446800@hillcrestrvresortfl.com
SUMMARY:Pickleball
DESCRIPTION:
URL:https://hillcrestrvresortfl.com/event/pickleball-305/
END:VEVENT
BEGIN:VEVENT
DTSTART;TZID=America/Chicago:20260126T090000
DTEND;TZID=America/Chicago:20260126T110000
DTSTAMP:20260423T124358
CREATED:20260107T131329Z
LAST-MODIFIED:20260107T131329Z
UID:19401-1769418000-1769425200@hillcrestrvresortfl.com
SUMMARY:Horseshoes
DESCRIPTION:
URL:https://hillcrestrvresortfl.com/event/horseshoes-250/
END:VEVENT
BEGIN:VEVENT
DTSTART;TZID=America/Chicago:20260126T090000
DTEND;TZID=America/Chicago:20260126T120000
DTSTAMP:20260423T124358
CREATED:20260102T134816Z
LAST-MODIFIED:20260102T134816Z
UID:19072-1769418000-1769428800@hillcrestrvresortfl.com
SUMMARY:Water Exercises
DESCRIPTION:
URL:https://hillcrestrvresortfl.com/event/water-exercises-22/
END:VEVENT
BEGIN:VEVENT
DTSTART;TZID=America/Chicago:20260126T093000
DTEND;TZID=America/Chicago:20260126T110000
DTSTAMP:20260423T124358
CREATED:20260102T133519Z
LAST-MODIFIED:20260102T133519Z
UID:19016-1769419800-1769425200@hillcrestrvresortfl.com
SUMMARY:Shuffleboard
DESCRIPTION:
URL:https://hillcrestrvresortfl.com/event/shuffleboard-254/
END:VEVENT
BEGIN:VEVENT
DTSTART;TZID=America/Chicago:20260126T100000
DTEND;TZID=America/Chicago:20260126T110000
DTSTAMP:20260423T124358
CREATED:20260102T172121Z
LAST-MODIFIED:20260102T172121Z
UID:19194-1769421600-1769425200@hillcrestrvresortfl.com
SUMMARY:Women's Billiards
DESCRIPTION:
URL:https://hillcrestrvresortfl.com/event/womens-billiards-77/
END:VEVENT
BEGIN:VEVENT
DTSTART;TZID=America/Chicago:20260126T100000
DTEND;TZID=America/Chicago:20260126T110000
DTSTAMP:20260423T124358
CREATED:20260107T181714Z
LAST-MODIFIED:20260107T181714Z
UID:19577-1769421600-1769425200@hillcrestrvresortfl.com
SUMMARY:Dancercize
DESCRIPTION:
URL:https://hillcrestrvresortfl.com/event/dancercize-7/
END:VEVENT
BEGIN:VEVENT
DTSTART;TZID=America/Chicago:20260126T100000
DTEND;TZID=America/Chicago:20260126T120000
DTSTAMP:20260423T124358
CREATED:20260102T142643Z
LAST-MODIFIED:20260102T142643Z
UID:19134-1769421600-1769428800@hillcrestrvresortfl.com
SUMMARY:Pentanque
DESCRIPTION:
URL:https://hillcrestrvresortfl.com/event/pentanque-195/
END:VEVENT
BEGIN:VEVENT
DTSTART;TZID=America/Chicago:20260126T130000
DTEND;TZID=America/Chicago:20260126T150000
DTSTAMP:20260423T124358
CREATED:20260102T193355Z
LAST-MODIFIED:20260102T193355Z
UID:19234-1769432400-1769439600@hillcrestrvresortfl.com
SUMMARY:Cribbage
DESCRIPTION:
URL:https://hillcrestrvresortfl.com/event/cribbage-38/
END:VEVENT
BEGIN:VEVENT
DTSTART;TZID=America/Chicago:20260126T130000
DTEND;TZID=America/Chicago:20260126T160000
DTSTAMP:20260423T124358
CREATED:20260107T155348Z
LAST-MODIFIED:20260107T155348Z
UID:19501-1769432400-1769443200@hillcrestrvresortfl.com
SUMMARY:Quilting/Sewing/Knitting/Crocheting
DESCRIPTION:
URL:https://hillcrestrvresortfl.com/event/quilting-sewing-knitting-crocheting-23/
END:VEVENT
BEGIN:VEVENT
DTSTART;TZID=America/Chicago:20260126T130000
DTEND;TZID=America/Chicago:20260126T160000
DTSTAMP:20260423T124358
CREATED:20260107T161326Z
LAST-MODIFIED:20260107T161326Z
UID:19509-1769432400-1769443200@hillcrestrvresortfl.com
SUMMARY:Watercolor
DESCRIPTION:
URL:https://hillcrestrvresortfl.com/event/watercolor-12/
END:VEVENT
BEGIN:VEVENT
DTSTART;TZID=America/Chicago:20260126T180000
DTEND;TZID=America/Chicago:20260126T210000
DTSTAMP:20260423T124358
CREATED:20260102T193922Z
LAST-MODIFIED:20260102T193922Z
UID:19248-1769450400-1769461200@hillcrestrvresortfl.com
SUMMARY:Game Night
DESCRIPTION:
URL:https://hillcrestrvresortfl.com/event/game-night-93/
END:VEVENT
BEGIN:VEVENT
DTSTART;TZID=America/Chicago:20260126T180000
DTEND;TZID=America/Chicago:20260126T210000
DTSTAMP:20260423T124358
CREATED:20260102T201757Z
LAST-MODIFIED:20260102T201757Z
UID:19258-1769450400-1769461200@hillcrestrvresortfl.com
SUMMARY:Pinochle
DESCRIPTION:
URL:https://hillcrestrvresortfl.com/event/pinochle-8/
END:VEVENT
BEGIN:VEVENT
DTSTART;TZID=America/Chicago:20260126T183000
DTEND;TZID=America/Chicago:20260126T210000
DTSTAMP:20260423T124358
CREATED:20260107T174824Z
LAST-MODIFIED:20260107T174824Z
UID:19563-1769452200-1769461200@hillcrestrvresortfl.com
SUMMARY:Bingo
DESCRIPTION:
URL:https://hillcrestrvresortfl.com/event/bingo-78/
END:VEVENT
END:VCALENDAR