BEGIN:VCALENDAR
VERSION:2.0
PRODID:-//Hillcrest RV Resort - ECPv6.15.20//NONSGML v1.0//EN
CALSCALE:GREGORIAN
METHOD:PUBLISH
X-WR-CALNAME:Hillcrest RV Resort
X-ORIGINAL-URL:https://hillcrestrvresortfl.com
X-WR-CALDESC:Events for Hillcrest RV Resort
REFRESH-INTERVAL;VALUE=DURATION:PT1H
X-Robots-Tag:noindex
X-PUBLISHED-TTL:PT1H
BEGIN:VTIMEZONE
TZID:America/Chicago
BEGIN:DAYLIGHT
TZOFFSETFROM:-0600
TZOFFSETTO:-0500
TZNAME:CDT
DTSTART:20250309T080000
END:DAYLIGHT
BEGIN:STANDARD
TZOFFSETFROM:-0500
TZOFFSETTO:-0600
TZNAME:CST
DTSTART:20251102T070000
END:STANDARD
BEGIN:DAYLIGHT
TZOFFSETFROM:-0600
TZOFFSETTO:-0500
TZNAME:CDT
DTSTART:20260308T080000
END:DAYLIGHT
BEGIN:STANDARD
TZOFFSETFROM:-0500
TZOFFSETTO:-0600
TZNAME:CST
DTSTART:20261101T070000
END:STANDARD
BEGIN:DAYLIGHT
TZOFFSETFROM:-0600
TZOFFSETTO:-0500
TZNAME:CDT
DTSTART:20270314T080000
END:DAYLIGHT
BEGIN:STANDARD
TZOFFSETFROM:-0500
TZOFFSETTO:-0600
TZNAME:CST
DTSTART:20271107T070000
END:STANDARD
END:VTIMEZONE
BEGIN:VEVENT
DTSTART;TZID=America/Chicago:20260117T080000
DTEND;TZID=America/Chicago:20260117T170000
DTSTAMP:20260423T140552
CREATED:20260102T204237Z
LAST-MODIFIED:20260102T204237Z
UID:19328-1768636800-1768669200@hillcrestrvresortfl.com
SUMMARY:Pickleball
DESCRIPTION:
URL:https://hillcrestrvresortfl.com/event/pickleball-296/
END:VEVENT
BEGIN:VEVENT
DTSTART;TZID=America/Chicago:20260117T090000
DTEND;TZID=America/Chicago:20260117T110000
DTSTAMP:20260423T140552
CREATED:20260107T131100Z
LAST-MODIFIED:20260107T131100Z
UID:19387-1768640400-1768647600@hillcrestrvresortfl.com
SUMMARY:Horseshoes
DESCRIPTION:
URL:https://hillcrestrvresortfl.com/event/horseshoes-243/
END:VEVENT
BEGIN:VEVENT
DTSTART;TZID=America/Chicago:20260117T090000
DTEND;TZID=America/Chicago:20260117T120000
DTSTAMP:20260423T140552
CREATED:20260102T134443Z
LAST-MODIFIED:20260102T134443Z
UID:19058-1768640400-1768651200@hillcrestrvresortfl.com
SUMMARY:Water Exercises
DESCRIPTION:
URL:https://hillcrestrvresortfl.com/event/water-exercises-15/
END:VEVENT
BEGIN:VEVENT
DTSTART;TZID=America/Chicago:20260117T090000
DTEND;TZID=America/Chicago:20260117T150000
DTSTAMP:20260423T140552
CREATED:20260107T183619Z
LAST-MODIFIED:20260107T183619Z
UID:19591-1768640400-1768662000@hillcrestrvresortfl.com
SUMMARY:Craft Show
DESCRIPTION:
URL:https://hillcrestrvresortfl.com/event/craft-show-2/
END:VEVENT
BEGIN:VEVENT
DTSTART;TZID=America/Chicago:20260117T093000
DTEND;TZID=America/Chicago:20260117T110000
DTSTAMP:20260423T140552
CREATED:20251230T150333Z
LAST-MODIFIED:20251230T150333Z
UID:19002-1768642200-1768647600@hillcrestrvresortfl.com
SUMMARY:Shuffleboard
DESCRIPTION:
URL:https://hillcrestrvresortfl.com/event/shuffleboard-247/
END:VEVENT
BEGIN:VEVENT
DTSTART;TZID=America/Chicago:20260117T100000
DTEND;TZID=America/Chicago:20260117T120000
DTSTAMP:20260423T140552
CREATED:20260102T142306Z
LAST-MODIFIED:20260102T142306Z
UID:19116-1768644000-1768651200@hillcrestrvresortfl.com
SUMMARY:Pentanque
DESCRIPTION:
URL:https://hillcrestrvresortfl.com/event/pentanque-186/
END:VEVENT
BEGIN:VEVENT
DTSTART;TZID=America/Chicago:20260117T193000
DTEND;TZID=America/Chicago:20260117T223000
DTSTAMP:20260423T140552
CREATED:20260107T183711Z
LAST-MODIFIED:20260107T183711Z
UID:19593-1768678200-1768689000@hillcrestrvresortfl.com
SUMMARY:Hippie Themed Dance with Eddie Michael
DESCRIPTION:
URL:https://hillcrestrvresortfl.com/event/hippie-themed-dance-with-eddie-michael/
END:VEVENT
END:VCALENDAR