BEGIN:VCALENDAR
VERSION:2.0
PRODID:-//Hillcrest RV Resort - ECPv6.15.20//NONSGML v1.0//EN
CALSCALE:GREGORIAN
METHOD:PUBLISH
X-WR-CALNAME:Hillcrest RV Resort
X-ORIGINAL-URL:https://hillcrestrvresortfl.com
X-WR-CALDESC:Events for Hillcrest RV Resort
REFRESH-INTERVAL;VALUE=DURATION:PT1H
X-Robots-Tag:noindex
X-PUBLISHED-TTL:PT1H
BEGIN:VTIMEZONE
TZID:America/Chicago
BEGIN:DAYLIGHT
TZOFFSETFROM:-0600
TZOFFSETTO:-0500
TZNAME:CDT
DTSTART:20250309T080000
END:DAYLIGHT
BEGIN:STANDARD
TZOFFSETFROM:-0500
TZOFFSETTO:-0600
TZNAME:CST
DTSTART:20251102T070000
END:STANDARD
BEGIN:DAYLIGHT
TZOFFSETFROM:-0600
TZOFFSETTO:-0500
TZNAME:CDT
DTSTART:20260308T080000
END:DAYLIGHT
BEGIN:STANDARD
TZOFFSETFROM:-0500
TZOFFSETTO:-0600
TZNAME:CST
DTSTART:20261101T070000
END:STANDARD
BEGIN:DAYLIGHT
TZOFFSETFROM:-0600
TZOFFSETTO:-0500
TZNAME:CDT
DTSTART:20270314T080000
END:DAYLIGHT
BEGIN:STANDARD
TZOFFSETFROM:-0500
TZOFFSETTO:-0600
TZNAME:CST
DTSTART:20271107T070000
END:STANDARD
END:VTIMEZONE
BEGIN:VEVENT
DTSTART;TZID=America/Chicago:20260107T080000
DTEND;TZID=America/Chicago:20260107T170000
DTSTAMP:20260423T140552
CREATED:20260102T204004Z
LAST-MODIFIED:20260102T204004Z
UID:19308-1767772800-1767805200@hillcrestrvresortfl.com
SUMMARY:Pickleball
DESCRIPTION:
URL:https://hillcrestrvresortfl.com/event/pickleball-286/
END:VEVENT
BEGIN:VEVENT
DTSTART;TZID=America/Chicago:20260107T090000
DTEND;TZID=America/Chicago:20260107T100000
DTSTAMP:20260423T140552
CREATED:20260107T135007Z
LAST-MODIFIED:20260107T135007Z
UID:19435-1767776400-1767780000@hillcrestrvresortfl.com
SUMMARY:Bone Builder Exercises
DESCRIPTION:
URL:https://hillcrestrvresortfl.com/event/bone-builder-exercises-18/
END:VEVENT
BEGIN:VEVENT
DTSTART;TZID=America/Chicago:20260107T090000
DTEND;TZID=America/Chicago:20260107T110000
DTSTAMP:20260423T140552
CREATED:20260107T130740Z
LAST-MODIFIED:20260107T130740Z
UID:19369-1767776400-1767783600@hillcrestrvresortfl.com
SUMMARY:Horseshoes
DESCRIPTION:
URL:https://hillcrestrvresortfl.com/event/horseshoes-234/
END:VEVENT
BEGIN:VEVENT
DTSTART;TZID=America/Chicago:20260107T090000
DTEND;TZID=America/Chicago:20260107T120000
DTSTAMP:20260423T140552
CREATED:20260102T134027Z
LAST-MODIFIED:20260102T134027Z
UID:19038-1767776400-1767787200@hillcrestrvresortfl.com
SUMMARY:Water Exercises
DESCRIPTION:
URL:https://hillcrestrvresortfl.com/event/water-exercises-6/
END:VEVENT
BEGIN:VEVENT
DTSTART;TZID=America/Chicago:20260107T093000
DTEND;TZID=America/Chicago:20260107T110000
DTSTAMP:20260423T140552
CREATED:20251230T145936Z
LAST-MODIFIED:20251230T145936Z
UID:18984-1767778200-1767783600@hillcrestrvresortfl.com
SUMMARY:Shuffleboard
DESCRIPTION:
URL:https://hillcrestrvresortfl.com/event/shuffleboard-238/
END:VEVENT
BEGIN:VEVENT
DTSTART;TZID=America/Chicago:20260107T100000
DTEND;TZID=America/Chicago:20260107T110000
DTSTAMP:20260423T140552
CREATED:20260102T171634Z
LAST-MODIFIED:20260102T171634Z
UID:19178-1767780000-1767783600@hillcrestrvresortfl.com
SUMMARY:Women's Billiards
DESCRIPTION:
URL:https://hillcrestrvresortfl.com/event/womens-billiards-69/
END:VEVENT
BEGIN:VEVENT
DTSTART;TZID=America/Chicago:20260107T100000
DTEND;TZID=America/Chicago:20260107T110000
DTSTAMP:20260423T140552
CREATED:20260102T202237Z
LAST-MODIFIED:20260102T202237Z
UID:19272-1767780000-1767783600@hillcrestrvresortfl.com
SUMMARY:Scrabble
DESCRIPTION:
URL:https://hillcrestrvresortfl.com/event/scrabble-36/
END:VEVENT
BEGIN:VEVENT
DTSTART;TZID=America/Chicago:20260107T100000
DTEND;TZID=America/Chicago:20260107T120000
DTSTAMP:20260423T140552
CREATED:20260102T141933Z
LAST-MODIFIED:20260102T141933Z
UID:19096-1767780000-1767787200@hillcrestrvresortfl.com
SUMMARY:Pentanque
DESCRIPTION:
URL:https://hillcrestrvresortfl.com/event/pentanque-176/
END:VEVENT
BEGIN:VEVENT
DTSTART;TZID=America/Chicago:20260107T103000
DTEND;TZID=America/Chicago:20260107T133000
DTSTAMP:20260423T140552
CREATED:20260102T202437Z
LAST-MODIFIED:20260102T202437Z
UID:19280-1767781800-1767792600@hillcrestrvresortfl.com
SUMMARY:Golf
DESCRIPTION:
URL:https://hillcrestrvresortfl.com/event/golf-30/
END:VEVENT
BEGIN:VEVENT
DTSTART;TZID=America/Chicago:20260107T130000
DTEND;TZID=America/Chicago:20260107T150000
DTSTAMP:20260423T140552
CREATED:20260107T163750Z
LAST-MODIFIED:20260107T163750Z
UID:19527-1767790800-1767798000@hillcrestrvresortfl.com
SUMMARY:Fiddler's Jam
DESCRIPTION:
URL:https://hillcrestrvresortfl.com/event/fiddlers-jam-31/
END:VEVENT
BEGIN:VEVENT
DTSTART;TZID=America/Chicago:20260107T180000
DTEND;TZID=America/Chicago:20260107T210000
DTSTAMP:20260423T140552
CREATED:20260102T193456Z
LAST-MODIFIED:20260102T193456Z
UID:19238-1767808800-1767819600@hillcrestrvresortfl.com
SUMMARY:Game Night
DESCRIPTION:
URL:https://hillcrestrvresortfl.com/event/game-night-88/
END:VEVENT
BEGIN:VEVENT
DTSTART;TZID=America/Chicago:20260107T180000
DTEND;TZID=America/Chicago:20260107T210000
DTSTAMP:20260423T140552
CREATED:20260107T164305Z
LAST-MODIFIED:20260107T164305Z
UID:19535-1767808800-1767819600@hillcrestrvresortfl.com
SUMMARY:Darts
DESCRIPTION:
URL:https://hillcrestrvresortfl.com/event/darts-26/
END:VEVENT
END:VCALENDAR