BEGIN:VCALENDAR
VERSION:2.0
PRODID:-//Hillcrest RV Resort - ECPv6.15.20//NONSGML v1.0//EN
CALSCALE:GREGORIAN
METHOD:PUBLISH
X-WR-CALNAME:Hillcrest RV Resort
X-ORIGINAL-URL:https://hillcrestrvresortfl.com
X-WR-CALDESC:Events for Hillcrest RV Resort
REFRESH-INTERVAL;VALUE=DURATION:PT1H
X-Robots-Tag:noindex
X-PUBLISHED-TTL:PT1H
BEGIN:VTIMEZONE
TZID:America/Chicago
BEGIN:DAYLIGHT
TZOFFSETFROM:-0600
TZOFFSETTO:-0500
TZNAME:CDT
DTSTART:20250309T080000
END:DAYLIGHT
BEGIN:STANDARD
TZOFFSETFROM:-0500
TZOFFSETTO:-0600
TZNAME:CST
DTSTART:20251102T070000
END:STANDARD
BEGIN:DAYLIGHT
TZOFFSETFROM:-0600
TZOFFSETTO:-0500
TZNAME:CDT
DTSTART:20260308T080000
END:DAYLIGHT
BEGIN:STANDARD
TZOFFSETFROM:-0500
TZOFFSETTO:-0600
TZNAME:CST
DTSTART:20261101T070000
END:STANDARD
BEGIN:DAYLIGHT
TZOFFSETFROM:-0600
TZOFFSETTO:-0500
TZNAME:CDT
DTSTART:20270314T080000
END:DAYLIGHT
BEGIN:STANDARD
TZOFFSETFROM:-0500
TZOFFSETTO:-0600
TZNAME:CST
DTSTART:20271107T070000
END:STANDARD
END:VTIMEZONE
BEGIN:VEVENT
DTSTART;TZID=America/Chicago:20260104T080000
DTEND;TZID=America/Chicago:20260104T170000
DTSTAMP:20260423T140552
CREATED:20260102T203921Z
LAST-MODIFIED:20260102T203921Z
UID:19302-1767513600-1767546000@hillcrestrvresortfl.com
SUMMARY:Pickleball
DESCRIPTION:
URL:https://hillcrestrvresortfl.com/event/pickleball-283/
END:VEVENT
BEGIN:VEVENT
DTSTART;TZID=America/Chicago:20260104T100000
DTEND;TZID=America/Chicago:20260104T113000
DTSTAMP:20260423T140552
CREATED:20251230T145215Z
LAST-MODIFIED:20251230T145215Z
UID:18964-1767520800-1767526200@hillcrestrvresortfl.com
SUMMARY:Church
DESCRIPTION:
URL:https://hillcrestrvresortfl.com/event/church-48/
END:VEVENT
BEGIN:VEVENT
DTSTART;TZID=America/Chicago:20260104T100000
DTEND;TZID=America/Chicago:20260104T120000
DTSTAMP:20260423T140552
CREATED:20260102T141828Z
LAST-MODIFIED:20260102T141828Z
UID:19090-1767520800-1767528000@hillcrestrvresortfl.com
SUMMARY:Pentanque
DESCRIPTION:
URL:https://hillcrestrvresortfl.com/event/pentanque-173/
END:VEVENT
BEGIN:VEVENT
DTSTART;TZID=America/Chicago:20260104T180000
DTEND;TZID=America/Chicago:20260104T190000
DTSTAMP:20260423T140552
CREATED:20260107T141600Z
LAST-MODIFIED:20260107T141600Z
UID:19469-1767549600-1767553200@hillcrestrvresortfl.com
SUMMARY:Ice Cream Social
DESCRIPTION:
URL:https://hillcrestrvresortfl.com/event/ice-cream-social-26/
END:VEVENT
BEGIN:VEVENT
DTSTART;TZID=America/Chicago:20260104T190000
DTEND;TZID=America/Chicago:20260104T200000
DTSTAMP:20260423T140552
CREATED:20260107T142150Z
LAST-MODIFIED:20260107T142150Z
UID:19477-1767553200-1767556800@hillcrestrvresortfl.com
SUMMARY:Music by Jessee Derringer
DESCRIPTION:
URL:https://hillcrestrvresortfl.com/event/music-by-jessee-derringer/
END:VEVENT
END:VCALENDAR