BEGIN:VCALENDAR
VERSION:2.0
PRODID:-//Hillcrest RV Resort - ECPv6.15.20//NONSGML v1.0//EN
CALSCALE:GREGORIAN
METHOD:PUBLISH
X-ORIGINAL-URL:https://hillcrestrvresortfl.com
X-WR-CALDESC:Events for Hillcrest RV Resort
REFRESH-INTERVAL;VALUE=DURATION:PT1H
X-Robots-Tag:noindex
X-PUBLISHED-TTL:PT1H
BEGIN:VTIMEZONE
TZID:America/Chicago
BEGIN:DAYLIGHT
TZOFFSETFROM:-0600
TZOFFSETTO:-0500
TZNAME:CDT
DTSTART:20250309T080000
END:DAYLIGHT
BEGIN:STANDARD
TZOFFSETFROM:-0500
TZOFFSETTO:-0600
TZNAME:CST
DTSTART:20251102T070000
END:STANDARD
BEGIN:DAYLIGHT
TZOFFSETFROM:-0600
TZOFFSETTO:-0500
TZNAME:CDT
DTSTART:20260308T080000
END:DAYLIGHT
BEGIN:STANDARD
TZOFFSETFROM:-0500
TZOFFSETTO:-0600
TZNAME:CST
DTSTART:20261101T070000
END:STANDARD
BEGIN:DAYLIGHT
TZOFFSETFROM:-0600
TZOFFSETTO:-0500
TZNAME:CDT
DTSTART:20270314T080000
END:DAYLIGHT
BEGIN:STANDARD
TZOFFSETFROM:-0500
TZOFFSETTO:-0600
TZNAME:CST
DTSTART:20271107T070000
END:STANDARD
END:VTIMEZONE
BEGIN:VEVENT
DTSTART;TZID=America/Chicago:20260102T080000
DTEND;TZID=America/Chicago:20260102T170000
DTSTAMP:20260423T140638
CREATED:20260102T203034Z
LAST-MODIFIED:20260102T203034Z
UID:19298-1767340800-1767373200@hillcrestrvresortfl.com
SUMMARY:Pickleball
DESCRIPTION:
URL:https://hillcrestrvresortfl.com/event/pickleball-281/
END:VEVENT
BEGIN:VEVENT
DTSTART;TZID=America/Chicago:20260102T090000
DTEND;TZID=America/Chicago:20260102T100000
DTSTAMP:20260423T140638
CREATED:20260107T134936Z
LAST-MODIFIED:20260107T134936Z
UID:19433-1767344400-1767348000@hillcrestrvresortfl.com
SUMMARY:Bone Builder Exercises
DESCRIPTION:
URL:https://hillcrestrvresortfl.com/event/bone-builder-exercises-17/
END:VEVENT
BEGIN:VEVENT
DTSTART;TZID=America/Chicago:20260102T090000
DTEND;TZID=America/Chicago:20260102T110000
DTSTAMP:20260423T140638
CREATED:20260107T130609Z
LAST-MODIFIED:20260107T130609Z
UID:19361-1767344400-1767351600@hillcrestrvresortfl.com
SUMMARY:Horseshoes
DESCRIPTION:
URL:https://hillcrestrvresortfl.com/event/horseshoes-230/
END:VEVENT
BEGIN:VEVENT
DTSTART;TZID=America/Chicago:20260102T090000
DTEND;TZID=America/Chicago:20260102T120000
DTSTAMP:20260423T140638
CREATED:20260102T133839Z
LAST-MODIFIED:20260102T133839Z
UID:19030-1767344400-1767355200@hillcrestrvresortfl.com
SUMMARY:Water Exercises
DESCRIPTION:
URL:https://hillcrestrvresortfl.com/event/water-exercises-2/
END:VEVENT
BEGIN:VEVENT
DTSTART;TZID=America/Chicago:20260102T093000
DTEND;TZID=America/Chicago:20260102T110000
DTSTAMP:20260423T140638
CREATED:20251230T145604Z
LAST-MODIFIED:20251230T145604Z
UID:18976-1767346200-1767351600@hillcrestrvresortfl.com
SUMMARY:Shuffleboard
DESCRIPTION:
URL:https://hillcrestrvresortfl.com/event/shuffleboard-234/
END:VEVENT
BEGIN:VEVENT
DTSTART;TZID=America/Chicago:20260102T100000
DTEND;TZID=America/Chicago:20260102T110000
DTSTAMP:20260423T140638
CREATED:20260102T171548Z
LAST-MODIFIED:20260102T171548Z
UID:19174-1767348000-1767351600@hillcrestrvresortfl.com
SUMMARY:Women's Billiards
DESCRIPTION:
URL:https://hillcrestrvresortfl.com/event/womens-billiards-67/
END:VEVENT
BEGIN:VEVENT
DTSTART;TZID=America/Chicago:20260102T100000
DTEND;TZID=America/Chicago:20260102T120000
DTSTAMP:20260423T140638
CREATED:20260102T141655Z
LAST-MODIFIED:20260102T141655Z
UID:19086-1767348000-1767355200@hillcrestrvresortfl.com
SUMMARY:Pentanque
DESCRIPTION:
URL:https://hillcrestrvresortfl.com/event/pentanque-171/
END:VEVENT
BEGIN:VEVENT
DTSTART;TZID=America/Chicago:20260102T110000
DTEND;TZID=America/Chicago:20260102T130000
DTSTAMP:20260423T140638
CREATED:20260107T141029Z
LAST-MODIFIED:20260107T141029Z
UID:19451-1767351600-1767358800@hillcrestrvresortfl.com
SUMMARY:Rock Painting
DESCRIPTION:
URL:https://hillcrestrvresortfl.com/event/rock-painting-31/
END:VEVENT
BEGIN:VEVENT
DTSTART;TZID=America/Chicago:20260102T123000
DTEND;TZID=America/Chicago:20260102T150000
DTSTAMP:20260423T140638
CREATED:20260102T172411Z
LAST-MODIFIED:20260102T172411Z
UID:19200-1767357000-1767366000@hillcrestrvresortfl.com
SUMMARY:Bowling
DESCRIPTION:
URL:https://hillcrestrvresortfl.com/event/bowling-49/
END:VEVENT
BEGIN:VEVENT
DTSTART;TZID=America/Chicago:20260102T130000
DTEND;TZID=America/Chicago:20260102T160000
DTSTAMP:20260423T140638
CREATED:20260102T172622Z
LAST-MODIFIED:20260102T172622Z
UID:19208-1767358800-1767369600@hillcrestrvresortfl.com
SUMMARY:Hands & Foot
DESCRIPTION:
URL:https://hillcrestrvresortfl.com/event/hands-foot/
END:VEVENT
BEGIN:VEVENT
DTSTART;TZID=America/Chicago:20260102T173000
DTEND;TZID=America/Chicago:20260102T210000
DTSTAMP:20260423T140638
CREATED:20260102T192343Z
LAST-MODIFIED:20260102T192343Z
UID:19218-1767375000-1767387600@hillcrestrvresortfl.com
SUMMARY:Board Games
DESCRIPTION:
URL:https://hillcrestrvresortfl.com/event/board-games/
END:VEVENT
BEGIN:VEVENT
DTSTART;TZID=America/Chicago:20260102T180000
DTEND;TZID=America/Chicago:20260102T210000
DTSTAMP:20260423T140638
CREATED:20260107T141242Z
LAST-MODIFIED:20260107T141242Z
UID:19461-1767376800-1767387600@hillcrestrvresortfl.com
SUMMARY:Jam
DESCRIPTION:
URL:https://hillcrestrvresortfl.com/event/jam-18/
END:VEVENT
END:VCALENDAR