BEGIN:VCALENDAR
VERSION:2.0
PRODID:-//Hillcrest RV Resort - ECPv6.15.20//NONSGML v1.0//EN
CALSCALE:GREGORIAN
METHOD:PUBLISH
X-WR-CALNAME:Hillcrest RV Resort
X-ORIGINAL-URL:https://hillcrestrvresortfl.com
X-WR-CALDESC:Events for Hillcrest RV Resort
REFRESH-INTERVAL;VALUE=DURATION:PT1H
X-Robots-Tag:noindex
X-PUBLISHED-TTL:PT1H
BEGIN:VTIMEZONE
TZID:America/Chicago
BEGIN:DAYLIGHT
TZOFFSETFROM:-0600
TZOFFSETTO:-0500
TZNAME:CDT
DTSTART:20250309T080000
END:DAYLIGHT
BEGIN:STANDARD
TZOFFSETFROM:-0500
TZOFFSETTO:-0600
TZNAME:CST
DTSTART:20251102T070000
END:STANDARD
BEGIN:DAYLIGHT
TZOFFSETFROM:-0600
TZOFFSETTO:-0500
TZNAME:CDT
DTSTART:20260308T080000
END:DAYLIGHT
BEGIN:STANDARD
TZOFFSETFROM:-0500
TZOFFSETTO:-0600
TZNAME:CST
DTSTART:20261101T070000
END:STANDARD
BEGIN:DAYLIGHT
TZOFFSETFROM:-0600
TZOFFSETTO:-0500
TZNAME:CDT
DTSTART:20270314T080000
END:DAYLIGHT
BEGIN:STANDARD
TZOFFSETFROM:-0500
TZOFFSETTO:-0600
TZNAME:CST
DTSTART:20271107T070000
END:STANDARD
END:VTIMEZONE
BEGIN:VEVENT
DTSTART;TZID=America/Chicago:20260101T073000
DTEND;TZID=America/Chicago:20260101T170000
DTSTAMP:20260423T140655
CREATED:20260102T203004Z
LAST-MODIFIED:20260102T203004Z
UID:19296-1767252600-1767286800@hillcrestrvresortfl.com
SUMMARY:Pickleball
DESCRIPTION:
URL:https://hillcrestrvresortfl.com/event/pickleball-280/
END:VEVENT
BEGIN:VEVENT
DTSTART;TZID=America/Chicago:20260101T083000
DTEND;TZID=America/Chicago:20260101T093000
DTSTAMP:20260423T140655
CREATED:20260102T170559Z
LAST-MODIFIED:20260102T170559Z
UID:19146-1767256200-1767259800@hillcrestrvresortfl.com
SUMMARY:Choir Practice
DESCRIPTION:
URL:https://hillcrestrvresortfl.com/event/choir-practice-29/
END:VEVENT
BEGIN:VEVENT
DTSTART;TZID=America/Chicago:20260101T090000
DTEND;TZID=America/Chicago:20260101T110000
DTSTAMP:20260423T140655
CREATED:20260103T144947Z
LAST-MODIFIED:20260103T144947Z
UID:19358-1767258000-1767265200@hillcrestrvresortfl.com
SUMMARY:Horseshoes
DESCRIPTION:
URL:https://hillcrestrvresortfl.com/event/horseshoes-229/
END:VEVENT
BEGIN:VEVENT
DTSTART;TZID=America/Chicago:20260101T090000
DTEND;TZID=America/Chicago:20260101T120000
DTSTAMP:20260423T140655
CREATED:20260102T133815Z
LAST-MODIFIED:20260102T133815Z
UID:19028-1767258000-1767268800@hillcrestrvresortfl.com
SUMMARY:Water Exercises
DESCRIPTION:
URL:https://hillcrestrvresortfl.com/event/water-exercises/
END:VEVENT
BEGIN:VEVENT
DTSTART;TZID=America/Chicago:20260101T093000
DTEND;TZID=America/Chicago:20260101T110000
DTSTAMP:20260423T140655
CREATED:20251230T145536Z
LAST-MODIFIED:20251230T145536Z
UID:18974-1767259800-1767265200@hillcrestrvresortfl.com
SUMMARY:Shuffleboard
DESCRIPTION:
URL:https://hillcrestrvresortfl.com/event/shuffleboard-233/
END:VEVENT
BEGIN:VEVENT
DTSTART;TZID=America/Chicago:20260101T100000
DTEND;TZID=America/Chicago:20260101T120000
DTSTAMP:20260423T140655
CREATED:20260102T141625Z
LAST-MODIFIED:20260102T141625Z
UID:19084-1767261600-1767268800@hillcrestrvresortfl.com
SUMMARY:Pentanque
DESCRIPTION:
URL:https://hillcrestrvresortfl.com/event/pentanque-170/
END:VEVENT
BEGIN:VEVENT
DTSTART;TZID=America/Chicago:20260101T130000
DTEND;TZID=America/Chicago:20260101T143000
DTSTAMP:20260423T140655
CREATED:20260107T133150Z
LAST-MODIFIED:20260107T133150Z
UID:19413-1767272400-1767277800@hillcrestrvresortfl.com
SUMMARY:Line Dancing W/Dena
DESCRIPTION:
URL:https://hillcrestrvresortfl.com/event/line-dancing-w-dena-9/
END:VEVENT
BEGIN:VEVENT
DTSTART;TZID=America/Chicago:20260101T150000
DTEND;TZID=America/Chicago:20260101T170000
DTSTAMP:20260423T140655
CREATED:20260107T133813Z
LAST-MODIFIED:20260107T133813Z
UID:19423-1767279600-1767286800@hillcrestrvresortfl.com
SUMMARY:Acoustic Jam
DESCRIPTION:
URL:https://hillcrestrvresortfl.com/event/acoustic-jam-39/
END:VEVENT
BEGIN:VEVENT
DTSTART;TZID=America/Chicago:20260101T180000
DTEND;TZID=America/Chicago:20260101T210000
DTSTAMP:20260423T140655
CREATED:20260102T170903Z
LAST-MODIFIED:20260102T170903Z
UID:19156-1767290400-1767301200@hillcrestrvresortfl.com
SUMMARY:Bid Euchre
DESCRIPTION:
URL:https://hillcrestrvresortfl.com/event/bid-euchre-68/
END:VEVENT
END:VCALENDAR