BEGIN:VCALENDAR
VERSION:2.0
PRODID:-//Hillcrest RV Resort - ECPv6.15.20//NONSGML v1.0//EN
CALSCALE:GREGORIAN
METHOD:PUBLISH
X-WR-CALNAME:Hillcrest RV Resort
X-ORIGINAL-URL:https://hillcrestrvresortfl.com
X-WR-CALDESC:Events for Hillcrest RV Resort
REFRESH-INTERVAL;VALUE=DURATION:PT1H
X-Robots-Tag:noindex
X-PUBLISHED-TTL:PT1H
BEGIN:VTIMEZONE
TZID:America/Chicago
BEGIN:DAYLIGHT
TZOFFSETFROM:-0600
TZOFFSETTO:-0500
TZNAME:CDT
DTSTART:20240310T080000
END:DAYLIGHT
BEGIN:STANDARD
TZOFFSETFROM:-0500
TZOFFSETTO:-0600
TZNAME:CST
DTSTART:20241103T070000
END:STANDARD
BEGIN:DAYLIGHT
TZOFFSETFROM:-0600
TZOFFSETTO:-0500
TZNAME:CDT
DTSTART:20250309T080000
END:DAYLIGHT
BEGIN:STANDARD
TZOFFSETFROM:-0500
TZOFFSETTO:-0600
TZNAME:CST
DTSTART:20251102T070000
END:STANDARD
BEGIN:DAYLIGHT
TZOFFSETFROM:-0600
TZOFFSETTO:-0500
TZNAME:CDT
DTSTART:20260308T080000
END:DAYLIGHT
BEGIN:STANDARD
TZOFFSETFROM:-0500
TZOFFSETTO:-0600
TZNAME:CST
DTSTART:20261101T070000
END:STANDARD
END:VTIMEZONE
BEGIN:VEVENT
DTSTART;TZID=America/Chicago:20251225T080000
DTEND;TZID=America/Chicago:20251225T120000
DTSTAMP:20260423T153722
CREATED:20251128T164326Z
LAST-MODIFIED:20251128T164326Z
UID:18661-1766649600-1766664000@hillcrestrvresortfl.com
SUMMARY:Pickleball
DESCRIPTION:
URL:https://hillcrestrvresortfl.com/event/pickleball-273/
END:VEVENT
BEGIN:VEVENT
DTSTART;TZID=America/Chicago:20251225T090000
DTEND;TZID=America/Chicago:20251225T120000
DTSTAMP:20260423T153722
CREATED:20251128T172013Z
LAST-MODIFIED:20251128T172013Z
UID:18709-1766653200-1766664000@hillcrestrvresortfl.com
SUMMARY:Horseshoes
DESCRIPTION:
URL:https://hillcrestrvresortfl.com/event/horseshoes-224/
END:VEVENT
BEGIN:VEVENT
DTSTART;TZID=America/Chicago:20251225T160000
DTEND;TZID=America/Chicago:20251225T190000
DTSTAMP:20260423T153722
CREATED:20251128T193505Z
LAST-MODIFIED:20251128T193505Z
UID:18825-1766678400-1766689200@hillcrestrvresortfl.com
SUMMARY:Christmas Dinner
DESCRIPTION:
URL:https://hillcrestrvresortfl.com/event/christmas-dinner-3/
END:VEVENT
END:VCALENDAR