BEGIN:VCALENDAR
VERSION:2.0
PRODID:-//Hillcrest RV Resort - ECPv6.15.20//NONSGML v1.0//EN
CALSCALE:GREGORIAN
METHOD:PUBLISH
X-WR-CALNAME:Hillcrest RV Resort
X-ORIGINAL-URL:https://hillcrestrvresortfl.com
X-WR-CALDESC:Events for Hillcrest RV Resort
REFRESH-INTERVAL;VALUE=DURATION:PT1H
X-Robots-Tag:noindex
X-PUBLISHED-TTL:PT1H
BEGIN:VTIMEZONE
TZID:America/Chicago
BEGIN:DAYLIGHT
TZOFFSETFROM:-0600
TZOFFSETTO:-0500
TZNAME:CDT
DTSTART:20240310T080000
END:DAYLIGHT
BEGIN:STANDARD
TZOFFSETFROM:-0500
TZOFFSETTO:-0600
TZNAME:CST
DTSTART:20241103T070000
END:STANDARD
BEGIN:DAYLIGHT
TZOFFSETFROM:-0600
TZOFFSETTO:-0500
TZNAME:CDT
DTSTART:20250309T080000
END:DAYLIGHT
BEGIN:STANDARD
TZOFFSETFROM:-0500
TZOFFSETTO:-0600
TZNAME:CST
DTSTART:20251102T070000
END:STANDARD
BEGIN:DAYLIGHT
TZOFFSETFROM:-0600
TZOFFSETTO:-0500
TZNAME:CDT
DTSTART:20260308T080000
END:DAYLIGHT
BEGIN:STANDARD
TZOFFSETFROM:-0500
TZOFFSETTO:-0600
TZNAME:CST
DTSTART:20261101T070000
END:STANDARD
END:VTIMEZONE
BEGIN:VEVENT
DTSTART;TZID=America/Chicago:20251222T073000
DTEND;TZID=America/Chicago:20251222T090000
DTSTAMP:20260423T152743
CREATED:20251128T185544Z
LAST-MODIFIED:20251128T185544Z
UID:18791-1766388600-1766394000@hillcrestrvresortfl.com
SUMMARY:Breakfast
DESCRIPTION:
URL:https://hillcrestrvresortfl.com/event/breakfast-29/
END:VEVENT
BEGIN:VEVENT
DTSTART;TZID=America/Chicago:20251222T080000
DTEND;TZID=America/Chicago:20251222T120000
DTSTAMP:20260423T152743
CREATED:20251128T164207Z
LAST-MODIFIED:20251128T164207Z
UID:18655-1766390400-1766404800@hillcrestrvresortfl.com
SUMMARY:Pickleball
DESCRIPTION:
URL:https://hillcrestrvresortfl.com/event/pickleball-270/
END:VEVENT
BEGIN:VEVENT
DTSTART;TZID=America/Chicago:20251222T090000
DTEND;TZID=America/Chicago:20251222T120000
DTSTAMP:20260423T152743
CREATED:20251128T171859Z
LAST-MODIFIED:20251128T171859Z
UID:18703-1766394000-1766404800@hillcrestrvresortfl.com
SUMMARY:Horseshoes
DESCRIPTION:
URL:https://hillcrestrvresortfl.com/event/horseshoes-221/
END:VEVENT
BEGIN:VEVENT
DTSTART;TZID=America/Chicago:20251222T100000
DTEND;TZID=America/Chicago:20251222T110000
DTSTAMP:20260423T152743
CREATED:20251128T185827Z
LAST-MODIFIED:20251128T185827Z
UID:18799-1766397600-1766401200@hillcrestrvresortfl.com
SUMMARY:Dancercize
DESCRIPTION:
URL:https://hillcrestrvresortfl.com/event/dancercize-3/
END:VEVENT
BEGIN:VEVENT
DTSTART;TZID=America/Chicago:20251222T110000
DTEND;TZID=America/Chicago:20251222T130000
DTSTAMP:20260423T152743
CREATED:20251128T190017Z
LAST-MODIFIED:20251128T190017Z
UID:18805-1766401200-1766408400@hillcrestrvresortfl.com
SUMMARY:Crafts
DESCRIPTION:
URL:https://hillcrestrvresortfl.com/event/crafts-18/
END:VEVENT
BEGIN:VEVENT
DTSTART;TZID=America/Chicago:20251222T130000
DTEND;TZID=America/Chicago:20251222T150000
DTSTAMP:20260423T152743
CREATED:20251129T152356Z
LAST-MODIFIED:20251129T152356Z
UID:18933-1766408400-1766415600@hillcrestrvresortfl.com
SUMMARY:Cribbage
DESCRIPTION:
URL:https://hillcrestrvresortfl.com/event/cribbage-33/
END:VEVENT
BEGIN:VEVENT
DTSTART;TZID=America/Chicago:20251222T130000
DTEND;TZID=America/Chicago:20251222T160000
DTSTAMP:20260423T152743
CREATED:20251128T151545Z
LAST-MODIFIED:20251128T151545Z
UID:18593-1766408400-1766419200@hillcrestrvresortfl.com
SUMMARY:Quilting/Sewing/Knitting/Crocheting
DESCRIPTION:
URL:https://hillcrestrvresortfl.com/event/quilting-sewing-knitting-crocheting-18/
END:VEVENT
BEGIN:VEVENT
DTSTART;TZID=America/Chicago:20251222T180000
DTEND;TZID=America/Chicago:20251222T210000
DTSTAMP:20260423T152743
CREATED:20251128T152043Z
LAST-MODIFIED:20251128T152043Z
UID:18609-1766426400-1766437200@hillcrestrvresortfl.com
SUMMARY:Bingo
DESCRIPTION:
URL:https://hillcrestrvresortfl.com/event/bingo-70/
END:VEVENT
BEGIN:VEVENT
DTSTART;TZID=America/Chicago:20251222T180000
DTEND;TZID=America/Chicago:20251222T210000
DTSTAMP:20260423T152743
CREATED:20251128T204140Z
LAST-MODIFIED:20251128T204140Z
UID:18901-1766426400-1766437200@hillcrestrvresortfl.com
SUMMARY:Game Night
DESCRIPTION:
URL:https://hillcrestrvresortfl.com/event/game-night-84/
END:VEVENT
BEGIN:VEVENT
DTSTART;TZID=America/Chicago:20251222T180000
DTEND;TZID=America/Chicago:20251222T210000
DTSTAMP:20260423T152743
CREATED:20251129T152929Z
LAST-MODIFIED:20251129T152929Z
UID:18945-1766426400-1766437200@hillcrestrvresortfl.com
SUMMARY:Pinochle
DESCRIPTION:
URL:https://hillcrestrvresortfl.com/event/pinochle-2/
END:VEVENT
END:VCALENDAR