BEGIN:VCALENDAR
VERSION:2.0
PRODID:-//Hillcrest RV Resort - ECPv6.15.20//NONSGML v1.0//EN
CALSCALE:GREGORIAN
METHOD:PUBLISH
X-WR-CALNAME:Hillcrest RV Resort
X-ORIGINAL-URL:https://hillcrestrvresortfl.com
X-WR-CALDESC:Events for Hillcrest RV Resort
REFRESH-INTERVAL;VALUE=DURATION:PT1H
X-Robots-Tag:noindex
X-PUBLISHED-TTL:PT1H
BEGIN:VTIMEZONE
TZID:America/Chicago
BEGIN:DAYLIGHT
TZOFFSETFROM:-0600
TZOFFSETTO:-0500
TZNAME:CDT
DTSTART:20240310T080000
END:DAYLIGHT
BEGIN:STANDARD
TZOFFSETFROM:-0500
TZOFFSETTO:-0600
TZNAME:CST
DTSTART:20241103T070000
END:STANDARD
BEGIN:DAYLIGHT
TZOFFSETFROM:-0600
TZOFFSETTO:-0500
TZNAME:CDT
DTSTART:20250309T080000
END:DAYLIGHT
BEGIN:STANDARD
TZOFFSETFROM:-0500
TZOFFSETTO:-0600
TZNAME:CST
DTSTART:20251102T070000
END:STANDARD
BEGIN:DAYLIGHT
TZOFFSETFROM:-0600
TZOFFSETTO:-0500
TZNAME:CDT
DTSTART:20260308T080000
END:DAYLIGHT
BEGIN:STANDARD
TZOFFSETFROM:-0500
TZOFFSETTO:-0600
TZNAME:CST
DTSTART:20261101T070000
END:STANDARD
END:VTIMEZONE
BEGIN:VEVENT
DTSTART;TZID=America/Chicago:20251205T063000
DTEND;TZID=America/Chicago:20251205T110000
DTSTAMP:20260423T163955
CREATED:20251128T174148Z
LAST-MODIFIED:20251128T174148Z
UID:18767-1764916200-1764932400@hillcrestrvresortfl.com
SUMMARY:Missions Yard Sale Setup
DESCRIPTION:
URL:https://hillcrestrvresortfl.com/event/missions-yard-sale-setup-2/
END:VEVENT
BEGIN:VEVENT
DTSTART;TZID=America/Chicago:20251205T080000
DTEND;TZID=America/Chicago:20251205T120000
DTSTAMP:20260423T163955
CREATED:20251128T152730Z
LAST-MODIFIED:20251128T152730Z
UID:18621-1764921600-1764936000@hillcrestrvresortfl.com
SUMMARY:Pickleball
DESCRIPTION:
URL:https://hillcrestrvresortfl.com/event/pickleball-253/
END:VEVENT
BEGIN:VEVENT
DTSTART;TZID=America/Chicago:20251205T090000
DTEND;TZID=America/Chicago:20251205T120000
DTSTAMP:20260423T163955
CREATED:20251128T164836Z
LAST-MODIFIED:20251128T164836Z
UID:18683-1764925200-1764936000@hillcrestrvresortfl.com
SUMMARY:Horseshoes
DESCRIPTION:
URL:https://hillcrestrvresortfl.com/event/horseshoes-211/
END:VEVENT
BEGIN:VEVENT
DTSTART;TZID=America/Chicago:20251205T123000
DTEND;TZID=America/Chicago:20251205T150000
DTSTAMP:20260423T163955
CREATED:20251128T204610Z
LAST-MODIFIED:20251128T204610Z
UID:18913-1764937800-1764946800@hillcrestrvresortfl.com
SUMMARY:Bowling
DESCRIPTION:
URL:https://hillcrestrvresortfl.com/event/bowling-45/
END:VEVENT
BEGIN:VEVENT
DTSTART;TZID=America/Chicago:20251205T130000
DTEND;TZID=America/Chicago:20251205T150000
DTSTAMP:20260423T163955
CREATED:20251128T200920Z
LAST-MODIFIED:20251128T200920Z
UID:18845-1764939600-1764946800@hillcrestrvresortfl.com
SUMMARY:Men's Billiards
DESCRIPTION:
URL:https://hillcrestrvresortfl.com/event/mens-billiards-96/
END:VEVENT
END:VCALENDAR