BEGIN:VCALENDAR
VERSION:2.0
PRODID:-//Hillcrest RV Resort - ECPv6.15.20//NONSGML v1.0//EN
CALSCALE:GREGORIAN
METHOD:PUBLISH
X-ORIGINAL-URL:https://hillcrestrvresortfl.com
X-WR-CALDESC:Events for Hillcrest RV Resort
REFRESH-INTERVAL;VALUE=DURATION:PT1H
X-Robots-Tag:noindex
X-PUBLISHED-TTL:PT1H
BEGIN:VTIMEZONE
TZID:America/Chicago
BEGIN:DAYLIGHT
TZOFFSETFROM:-0600
TZOFFSETTO:-0500
TZNAME:CDT
DTSTART:20240310T080000
END:DAYLIGHT
BEGIN:STANDARD
TZOFFSETFROM:-0500
TZOFFSETTO:-0600
TZNAME:CST
DTSTART:20241103T070000
END:STANDARD
BEGIN:DAYLIGHT
TZOFFSETFROM:-0600
TZOFFSETTO:-0500
TZNAME:CDT
DTSTART:20250309T080000
END:DAYLIGHT
BEGIN:STANDARD
TZOFFSETFROM:-0500
TZOFFSETTO:-0600
TZNAME:CST
DTSTART:20251102T070000
END:STANDARD
BEGIN:DAYLIGHT
TZOFFSETFROM:-0600
TZOFFSETTO:-0500
TZNAME:CDT
DTSTART:20260308T080000
END:DAYLIGHT
BEGIN:STANDARD
TZOFFSETFROM:-0500
TZOFFSETTO:-0600
TZNAME:CST
DTSTART:20261101T070000
END:STANDARD
END:VTIMEZONE
BEGIN:VEVENT
DTSTART;TZID=America/Chicago:20251118T080000
DTEND;TZID=America/Chicago:20251118T100000
DTSTAMP:20260425T085250
CREATED:20251029T170600Z
LAST-MODIFIED:20251029T170600Z
UID:18524-1763452800-1763460000@hillcrestrvresortfl.com
SUMMARY:Pickleball
DESCRIPTION:
URL:https://hillcrestrvresortfl.com/event/pickleball-236/
END:VEVENT
BEGIN:VEVENT
DTSTART;TZID=America/Chicago:20251118T093000
DTEND;TZID=America/Chicago:20251118T103000
DTSTAMP:20260425T085250
CREATED:20251029T163552Z
LAST-MODIFIED:20251029T163552Z
UID:18436-1763458200-1763461800@hillcrestrvresortfl.com
SUMMARY:Shuffleboard
DESCRIPTION:
URL:https://hillcrestrvresortfl.com/event/shuffleboard-222/
END:VEVENT
BEGIN:VEVENT
DTSTART;TZID=America/Chicago:20251118T093000
DTEND;TZID=America/Chicago:20251118T103000
DTSTAMP:20260425T085250
CREATED:20251029T165239Z
LAST-MODIFIED:20251029T165239Z
UID:18476-1763458200-1763461800@hillcrestrvresortfl.com
SUMMARY:OSS (One Stop Shopping)
DESCRIPTION:
URL:https://hillcrestrvresortfl.com/event/oss-one-stop-shopping-7/
END:VEVENT
BEGIN:VEVENT
DTSTART;TZID=America/Chicago:20251118T110000
DTEND;TZID=America/Chicago:20251118T120000
DTSTAMP:20260425T085250
CREATED:20251029T183257Z
LAST-MODIFIED:20251029T183257Z
UID:18572-1763463600-1763467200@hillcrestrvresortfl.com
SUMMARY:Missions Meeting
DESCRIPTION:
URL:https://hillcrestrvresortfl.com/event/missions-meeting-2/
END:VEVENT
BEGIN:VEVENT
DTSTART;TZID=America/Chicago:20251118T120000
DTEND;TZID=America/Chicago:20251118T130000
DTSTAMP:20260425T085250
CREATED:20251029T183612Z
LAST-MODIFIED:20251029T183612Z
UID:18580-1763467200-1763470800@hillcrestrvresortfl.com
SUMMARY:Potluck and Nickel Bingo
DESCRIPTION:
URL:https://hillcrestrvresortfl.com/event/potluck-and-nickel-bingo/
END:VEVENT
END:VCALENDAR