BEGIN:VCALENDAR
VERSION:2.0
PRODID:-//Hillcrest RV Resort - ECPv6.15.20//NONSGML v1.0//EN
CALSCALE:GREGORIAN
METHOD:PUBLISH
X-ORIGINAL-URL:https://hillcrestrvresortfl.com
X-WR-CALDESC:Events for Hillcrest RV Resort
REFRESH-INTERVAL;VALUE=DURATION:PT1H
X-Robots-Tag:noindex
X-PUBLISHED-TTL:PT1H
BEGIN:VTIMEZONE
TZID:America/Chicago
BEGIN:DAYLIGHT
TZOFFSETFROM:-0600
TZOFFSETTO:-0500
TZNAME:CDT
DTSTART:20240310T080000
END:DAYLIGHT
BEGIN:STANDARD
TZOFFSETFROM:-0500
TZOFFSETTO:-0600
TZNAME:CST
DTSTART:20241103T070000
END:STANDARD
BEGIN:DAYLIGHT
TZOFFSETFROM:-0600
TZOFFSETTO:-0500
TZNAME:CDT
DTSTART:20250309T080000
END:DAYLIGHT
BEGIN:STANDARD
TZOFFSETFROM:-0500
TZOFFSETTO:-0600
TZNAME:CST
DTSTART:20251102T070000
END:STANDARD
BEGIN:DAYLIGHT
TZOFFSETFROM:-0600
TZOFFSETTO:-0500
TZNAME:CDT
DTSTART:20260308T080000
END:DAYLIGHT
BEGIN:STANDARD
TZOFFSETFROM:-0500
TZOFFSETTO:-0600
TZNAME:CST
DTSTART:20261101T070000
END:STANDARD
END:VTIMEZONE
BEGIN:VEVENT
DTSTART;TZID=America/Chicago:20251117T080000
DTEND;TZID=America/Chicago:20251117T100000
DTSTAMP:20260425T085406
CREATED:20251029T170540Z
LAST-MODIFIED:20251029T170540Z
UID:18522-1763366400-1763373600@hillcrestrvresortfl.com
SUMMARY:Pickleball
DESCRIPTION:
URL:https://hillcrestrvresortfl.com/event/pickleball-235/
END:VEVENT
BEGIN:VEVENT
DTSTART;TZID=America/Chicago:20251117T093000
DTEND;TZID=America/Chicago:20251117T103000
DTSTAMP:20260425T085406
CREATED:20251029T163506Z
LAST-MODIFIED:20251029T163506Z
UID:18434-1763371800-1763375400@hillcrestrvresortfl.com
SUMMARY:Shuffleboard
DESCRIPTION:
URL:https://hillcrestrvresortfl.com/event/shuffleboard-221/
END:VEVENT
BEGIN:VEVENT
DTSTART;TZID=America/Chicago:20251117T180000
DTEND;TZID=America/Chicago:20251117T210000
DTSTAMP:20260425T085406
CREATED:20251029T161504Z
LAST-MODIFIED:20251029T161504Z
UID:18360-1763402400-1763413200@hillcrestrvresortfl.com
SUMMARY:Game Night
DESCRIPTION:
URL:https://hillcrestrvresortfl.com/event/game-night-73/
END:VEVENT
BEGIN:VEVENT
DTSTART;TZID=America/Chicago:20251117T180000
DTEND;TZID=America/Chicago:20251117T210000
DTSTAMP:20260425T085406
CREATED:20251029T164955Z
LAST-MODIFIED:20251029T164955Z
UID:18468-1763402400-1763413200@hillcrestrvresortfl.com
SUMMARY:Bingo
DESCRIPTION:
URL:https://hillcrestrvresortfl.com/event/bingo-62/
END:VEVENT
END:VCALENDAR