BEGIN:VCALENDAR
VERSION:2.0
PRODID:-//Hillcrest RV Resort - ECPv6.15.20//NONSGML v1.0//EN
CALSCALE:GREGORIAN
METHOD:PUBLISH
X-ORIGINAL-URL:https://hillcrestrvresortfl.com
X-WR-CALDESC:Events for Hillcrest RV Resort
REFRESH-INTERVAL;VALUE=DURATION:PT1H
X-Robots-Tag:noindex
X-PUBLISHED-TTL:PT1H
BEGIN:VTIMEZONE
TZID:America/Chicago
BEGIN:DAYLIGHT
TZOFFSETFROM:-0600
TZOFFSETTO:-0500
TZNAME:CDT
DTSTART:20240310T080000
END:DAYLIGHT
BEGIN:STANDARD
TZOFFSETFROM:-0500
TZOFFSETTO:-0600
TZNAME:CST
DTSTART:20241103T070000
END:STANDARD
BEGIN:DAYLIGHT
TZOFFSETFROM:-0600
TZOFFSETTO:-0500
TZNAME:CDT
DTSTART:20250309T080000
END:DAYLIGHT
BEGIN:STANDARD
TZOFFSETFROM:-0500
TZOFFSETTO:-0600
TZNAME:CST
DTSTART:20251102T070000
END:STANDARD
BEGIN:DAYLIGHT
TZOFFSETFROM:-0600
TZOFFSETTO:-0500
TZNAME:CDT
DTSTART:20260308T080000
END:DAYLIGHT
BEGIN:STANDARD
TZOFFSETFROM:-0500
TZOFFSETTO:-0600
TZNAME:CST
DTSTART:20261101T070000
END:STANDARD
END:VTIMEZONE
BEGIN:VEVENT
DTSTART;TZID=America/Chicago:20250317T080000
DTEND;TZID=America/Chicago:20250317T110000
DTSTAMP:20260425T191213
CREATED:20250502T152139Z
LAST-MODIFIED:20250502T152139Z
UID:18259-1742198400-1742209200@hillcrestrvresortfl.com
SUMMARY:Water Aerobics
DESCRIPTION:
URL:https://hillcrestrvresortfl.com/event/water-aerobics-198/
END:VEVENT
BEGIN:VEVENT
DTSTART;TZID=America/Chicago:20250317T093000
DTEND;TZID=America/Chicago:20250317T110000
DTSTAMP:20260425T191213
CREATED:20250502T145701Z
LAST-MODIFIED:20250502T145701Z
UID:18220-1742203800-1742209200@hillcrestrvresortfl.com
SUMMARY:Shuffleboard
DESCRIPTION:
URL:https://hillcrestrvresortfl.com/event/shuffleboard-198/
END:VEVENT
BEGIN:VEVENT
DTSTART;TZID=America/Chicago:20250317T100000
DTEND;TZID=America/Chicago:20250317T130000
DTSTAMP:20260425T191213
CREATED:20250501T123408Z
LAST-MODIFIED:20250501T123408Z
UID:18056-1742205600-1742216400@hillcrestrvresortfl.com
SUMMARY:Women's Billiards
DESCRIPTION:
URL:https://hillcrestrvresortfl.com/event/womens-billiards-57/
END:VEVENT
BEGIN:VEVENT
DTSTART;TZID=America/Chicago:20250317T100000
DTEND;TZID=America/Chicago:20250317T170000
DTSTAMP:20260425T191213
CREATED:20250516T135602Z
LAST-MODIFIED:20250516T135602Z
UID:18312-1742205600-1742230800@hillcrestrvresortfl.com
SUMMARY:Pentanque
DESCRIPTION:
URL:https://hillcrestrvresortfl.com/event/pentanque-155/
END:VEVENT
BEGIN:VEVENT
DTSTART;TZID=America/Chicago:20250317T180000
DTEND;TZID=America/Chicago:20250317T210000
DTSTAMP:20260425T191213
CREATED:20250501T124003Z
LAST-MODIFIED:20250501T124003Z
UID:18080-1742234400-1742245200@hillcrestrvresortfl.com
SUMMARY:Cribbage
DESCRIPTION:
URL:https://hillcrestrvresortfl.com/event/cribbage-29/
END:VEVENT
BEGIN:VEVENT
DTSTART;TZID=America/Chicago:20250317T180000
DTEND;TZID=America/Chicago:20250317T210000
DTSTAMP:20260425T191213
CREATED:20250501T124223Z
LAST-MODIFIED:20250501T124223Z
UID:18088-1742234400-1742245200@hillcrestrvresortfl.com
SUMMARY:Game Night
DESCRIPTION:
URL:https://hillcrestrvresortfl.com/event/game-night-65/
END:VEVENT
BEGIN:VEVENT
DTSTART;TZID=America/Chicago:20250317T180000
DTEND;TZID=America/Chicago:20250317T210000
DTSTAMP:20260425T191213
CREATED:20250501T125742Z
LAST-MODIFIED:20250501T125742Z
UID:18104-1742234400-1742245200@hillcrestrvresortfl.com
SUMMARY:Mixed Billiards
DESCRIPTION:
URL:https://hillcrestrvresortfl.com/event/mixed-billiards-22/
END:VEVENT
END:VCALENDAR