BEGIN:VCALENDAR
VERSION:2.0
PRODID:-//Hillcrest RV Resort - ECPv6.15.20//NONSGML v1.0//EN
CALSCALE:GREGORIAN
METHOD:PUBLISH
X-WR-CALNAME:Hillcrest RV Resort
X-ORIGINAL-URL:https://hillcrestrvresortfl.com
X-WR-CALDESC:Events for Hillcrest RV Resort
REFRESH-INTERVAL;VALUE=DURATION:PT1H
X-Robots-Tag:noindex
X-PUBLISHED-TTL:PT1H
BEGIN:VTIMEZONE
TZID:America/Chicago
BEGIN:DAYLIGHT
TZOFFSETFROM:-0600
TZOFFSETTO:-0500
TZNAME:CDT
DTSTART:20240310T080000
END:DAYLIGHT
BEGIN:STANDARD
TZOFFSETFROM:-0500
TZOFFSETTO:-0600
TZNAME:CST
DTSTART:20241103T070000
END:STANDARD
BEGIN:DAYLIGHT
TZOFFSETFROM:-0600
TZOFFSETTO:-0500
TZNAME:CDT
DTSTART:20250309T080000
END:DAYLIGHT
BEGIN:STANDARD
TZOFFSETFROM:-0500
TZOFFSETTO:-0600
TZNAME:CST
DTSTART:20251102T070000
END:STANDARD
BEGIN:DAYLIGHT
TZOFFSETFROM:-0600
TZOFFSETTO:-0500
TZNAME:CDT
DTSTART:20260308T080000
END:DAYLIGHT
BEGIN:STANDARD
TZOFFSETFROM:-0500
TZOFFSETTO:-0600
TZNAME:CST
DTSTART:20261101T070000
END:STANDARD
END:VTIMEZONE
BEGIN:VEVENT
DTSTART;TZID=America/Chicago:20250312T093000
DTEND;TZID=America/Chicago:20250312T110000
DTSTAMP:20260425T191103
CREATED:20250502T145541Z
LAST-MODIFIED:20250502T145541Z
UID:18214-1741771800-1741777200@hillcrestrvresortfl.com
SUMMARY:Shuffleboard
DESCRIPTION:
URL:https://hillcrestrvresortfl.com/event/shuffleboard-195/
END:VEVENT
BEGIN:VEVENT
DTSTART;TZID=America/Chicago:20250312T100000
DTEND;TZID=America/Chicago:20250312T130000
DTSTAMP:20260425T191103
CREATED:20250501T123526Z
LAST-MODIFIED:20250501T123526Z
UID:18062-1741773600-1741784400@hillcrestrvresortfl.com
SUMMARY:Women's Billiards
DESCRIPTION:
URL:https://hillcrestrvresortfl.com/event/womens-billiards-60/
END:VEVENT
BEGIN:VEVENT
DTSTART;TZID=America/Chicago:20250312T100000
DTEND;TZID=America/Chicago:20250312T140000
DTSTAMP:20260425T191103
CREATED:20250502T142141Z
LAST-MODIFIED:20250502T142141Z
UID:18162-1741773600-1741788000@hillcrestrvresortfl.com
SUMMARY:Scrabble
DESCRIPTION:
URL:https://hillcrestrvresortfl.com/event/scrabble-33/
END:VEVENT
BEGIN:VEVENT
DTSTART;TZID=America/Chicago:20250312T100000
DTEND;TZID=America/Chicago:20250312T170000
DTSTAMP:20260425T191103
CREATED:20250516T135339Z
LAST-MODIFIED:20250516T135339Z
UID:18302-1741773600-1741798800@hillcrestrvresortfl.com
SUMMARY:Pentanque
DESCRIPTION:
URL:https://hillcrestrvresortfl.com/event/pentanque-150/
END:VEVENT
BEGIN:VEVENT
DTSTART;TZID=America/Chicago:20250312T103000
DTEND;TZID=America/Chicago:20250312T170000
DTSTAMP:20260425T191103
CREATED:20250502T142340Z
LAST-MODIFIED:20250502T142340Z
UID:18170-1741775400-1741798800@hillcrestrvresortfl.com
SUMMARY:Golf
DESCRIPTION:
URL:https://hillcrestrvresortfl.com/event/golf-19/
END:VEVENT
BEGIN:VEVENT
DTSTART;TZID=America/Chicago:20250312T180000
DTEND;TZID=America/Chicago:20250312T210000
DTSTAMP:20260425T191103
CREATED:20250501T124359Z
LAST-MODIFIED:20250501T124359Z
UID:18094-1741802400-1741813200@hillcrestrvresortfl.com
SUMMARY:Game Night
DESCRIPTION:
URL:https://hillcrestrvresortfl.com/event/game-night-68/
END:VEVENT
END:VCALENDAR