BEGIN:VCALENDAR
VERSION:2.0
PRODID:-//Hillcrest RV Resort - ECPv6.15.20//NONSGML v1.0//EN
CALSCALE:GREGORIAN
METHOD:PUBLISH
X-WR-CALNAME:Hillcrest RV Resort
X-ORIGINAL-URL:https://hillcrestrvresortfl.com
X-WR-CALDESC:Events for Hillcrest RV Resort
REFRESH-INTERVAL;VALUE=DURATION:PT1H
X-Robots-Tag:noindex
X-PUBLISHED-TTL:PT1H
BEGIN:VTIMEZONE
TZID:America/Chicago
BEGIN:DAYLIGHT
TZOFFSETFROM:-0600
TZOFFSETTO:-0500
TZNAME:CDT
DTSTART:20240310T080000
END:DAYLIGHT
BEGIN:STANDARD
TZOFFSETFROM:-0500
TZOFFSETTO:-0600
TZNAME:CST
DTSTART:20241103T070000
END:STANDARD
BEGIN:DAYLIGHT
TZOFFSETFROM:-0600
TZOFFSETTO:-0500
TZNAME:CDT
DTSTART:20250309T080000
END:DAYLIGHT
BEGIN:STANDARD
TZOFFSETFROM:-0500
TZOFFSETTO:-0600
TZNAME:CST
DTSTART:20251102T070000
END:STANDARD
BEGIN:DAYLIGHT
TZOFFSETFROM:-0600
TZOFFSETTO:-0500
TZNAME:CDT
DTSTART:20260308T080000
END:DAYLIGHT
BEGIN:STANDARD
TZOFFSETFROM:-0500
TZOFFSETTO:-0600
TZNAME:CST
DTSTART:20261101T070000
END:STANDARD
END:VTIMEZONE
BEGIN:VEVENT
DTSTART;TZID=America/Chicago:20250307T080000
DTEND;TZID=America/Chicago:20250307T110000
DTSTAMP:20260425T191050
CREATED:20250502T150432Z
LAST-MODIFIED:20250502T150432Z
UID:18248-1741334400-1741345200@hillcrestrvresortfl.com
SUMMARY:Water Aerobics
DESCRIPTION:
URL:https://hillcrestrvresortfl.com/event/water-aerobics-193/
END:VEVENT
BEGIN:VEVENT
DTSTART;TZID=America/Chicago:20250307T093000
DTEND;TZID=America/Chicago:20250307T110000
DTSTAMP:20260425T191050
CREATED:20250502T145423Z
LAST-MODIFIED:20250502T145423Z
UID:18208-1741339800-1741345200@hillcrestrvresortfl.com
SUMMARY:Shuffleboard
DESCRIPTION:
URL:https://hillcrestrvresortfl.com/event/shuffleboard-192/
END:VEVENT
BEGIN:VEVENT
DTSTART;TZID=America/Chicago:20250307T100000
DTEND;TZID=America/Chicago:20250307T130000
DTSTAMP:20260425T191050
CREATED:20250501T123642Z
LAST-MODIFIED:20250501T123642Z
UID:18068-1741341600-1741352400@hillcrestrvresortfl.com
SUMMARY:Women's Billiards
DESCRIPTION:
URL:https://hillcrestrvresortfl.com/event/womens-billiards-63/
END:VEVENT
BEGIN:VEVENT
DTSTART;TZID=America/Chicago:20250307T100000
DTEND;TZID=America/Chicago:20250307T170000
DTSTAMP:20260425T191050
CREATED:20250502T165052Z
LAST-MODIFIED:20250502T165052Z
UID:18291-1741341600-1741366800@hillcrestrvresortfl.com
SUMMARY:Pentanque
DESCRIPTION:
URL:https://hillcrestrvresortfl.com/event/pentanque-145/
END:VEVENT
BEGIN:VEVENT
DTSTART;TZID=America/Chicago:20250307T130000
DTEND;TZID=America/Chicago:20250307T160000
DTSTAMP:20260425T191050
CREATED:20250502T140646Z
LAST-MODIFIED:20250502T140646Z
UID:18126-1741352400-1741363200@hillcrestrvresortfl.com
SUMMARY:Men's Billiards
DESCRIPTION:
URL:https://hillcrestrvresortfl.com/event/mens-billiards-90/
END:VEVENT
BEGIN:VEVENT
DTSTART;TZID=America/Chicago:20250307T130000
DTEND;TZID=America/Chicago:20250307T170000
DTSTAMP:20260425T191050
CREATED:20250502T143224Z
LAST-MODIFIED:20250502T143224Z
UID:18180-1741352400-1741366800@hillcrestrvresortfl.com
SUMMARY:Bowling
DESCRIPTION:
URL:https://hillcrestrvresortfl.com/event/bowling-37/
END:VEVENT
END:VCALENDAR